{"text_format":"3","workbook":"xlsx","n_sheets":25,"sheets":["Unit Info","PO List by Level","WeekNights","Instructors","Weekend Training","Weekly Trg","WRO Comments","WRO2","EO Validation","WRO3","EO Val. (GREEN)","EO Val. (RED)","EO Val. (SILVER)","EO Val. (GOLD)","EO Val. (MASTER)","EO Val. (Phase 1)","EO Val. (Phase 2)","EO Val. (Phase 3)","EO Val. (Phase 4)","EO Val. (Phase 5)","EO Val. (Lvl 1)","EO Val. (Lvl 2)","EO Val. (Lvl 3)","EO Val. (Lvl 4)","EO Val. (Lvl 5)"],"not_rendered":{"images":4,"macros":1,"defined_names":16},"read":"whole","date_system":"1900"}

{"sheet":"Unit Info","index":0,"n_rows":31,"n_cols":7,"rows_kept":31,"merged":[[0,1,0,3],[9,1,9,2],[12,1,12,2],[13,1,13,3],[15,0,15,3],[16,1,16,3],[17,1,17,3],[19,0,19,3],[20,1,20,3],[21,1,21,3],[24,0,28,3],[24,5,25,8],[26,5,28,8],[30,0,34,3]]}
["Squadron Name","364 Lancaster",{"$nulls":3},"5 Training Catergories"]
[{"$nulls":5},1,"Level 1"]
["Times:","Start","Finish","Format",null,2,"Level 2"]
["Fall-In/Inspection","18:30:00","18:55:00","(hh:mm)",null,3,"Level 3"]
["Period One","19:00:00","19:30:00","(hh:mm)",null,4,"Level 4"]
["Period Two","19:35:00","20:05:00","(hh:mm)",null,5,"Level 5"]
["Break","20:10:00","20:30:00","(hh:mm)"]
["Period Three","20:25:00","20:55:00","(hh:mm)",null,"DUTY STAFF NAMES"]
["Fall-In/Announcements","21:00:00","21:20:00","(hh:mm)",null,1,"Duty Officer"]
["Dismissal Time","21:20:00",null,"(hh:mm)",null,2,"Duty Sr NCO"]
["Other Duties","21:20:00","21:30:00","(hh:mm)",null,3,"Duty Jr NCO"]
[{"$nulls":5},4,"Duty Flight"]
["Date of First Regular Trg Night","2021-09-07",null,"(dd-mmm-yy)"]
["Day of week for Reg Trg",{"$f":"TEXT(B13,\"ddd\")","v":"Tue"}]
[]
["Commanding Officer Information"]
["Name","Craig Mackenzie-Haines"]
["Rank","Captain"]
[]
["Training Officer Information"]
["Name","Matthieu St-Jean"]
["Rank","Captain"]
[]
[]
["Only fill in the areas in white!!!",{"$nulls":4},"* * * IMPORTANT NOTE * * *"]
[]
[{"$nulls":5},"in order to use this Training Plan, you MUST have Macros ENABLED. "]
[]
[]
[]
["AIR TRAINING PLAN"]

{"sheet":"PO List by Level","index":1,"n_rows":70,"n_cols":22,"rows_kept":70}
["PO","Subject","L1 Primary Inst","Location","PO","Subject","L2 Primary Inst","Location","PO","Subject","L3 Primary Inst","Location","PO","Subject","L4 Primary Inst","Location","PO","Subject","L5 Primary Inst","Location",null,"RANK"]
["ACR Prep","ACR Practice",null,null,"ACR Prep","ACR Practice",null,null,"ACR Prep","ACR Practice",null,null,"ACR Prep","ACR Practice",null,null,"ACR Prep","ACR Practice"]
["C100","Positive Social Relations for Youth",null,null,"C203","Leadership",null,null,"C106","Air Rifle Marksmanship",null,null,"C106","Air Rifle Marksmanship",null,null,"C108","CO's Parade","Sqn Commander",null,null,"Sgt"]
["C103","Leadership",null,null,"C206","Air Rifle Marksmanship",null,null,"C108","Drill and Ceremonial",null,null,"C108","Drill and Ceremonial",null,null,"C501","Citizenship","Norm",null,null,"FSgt"]
["C106","Air Rifle Marksmanship",null,null,"C207","General Cadet Knowledge",null,null,"C206","Air Rifle Marksmanship",null,null,"C206","Air Rifle Marksmanship",null,null,"C502","Comm Service",{"$nulls":3},"WO2"]
["C107","General Cadet Knowledge",null,null,"C208","Drill and Ceremonial",null,null,"C208","Drill and Ceremonial",null,null,"C208","Drill and Ceremonial",null,null,"C503","Leadership",{"$nulls":3},"WO1"]
["C108","Drill and Ceremonial",null,null,"C230","Aviation",null,null,"C303","Leadership",null,null,"C309","Instructional Techniques.",null,null,"C504","Personal Fitness"]
["C121","Canadian Aviation, Aerospace, Aerodrome Operations and Aircraft Manufactu",null,null,"C231","Principles of Flight",null,null,"C306","Air Rifle Marksmanship",null,null,"C400","Positive Social Relations for Youth",null,null,"C507","GCK",{"$nulls":3},"OCdt"]
["C129","Radio Communication",null,null,"C232","Propulsion",null,null,"C307","General Cadet Knowledge",null,null,"C403","Leadership",null,null,"C509","Instruc Tech",{"$nulls":3},"2Lt"]
["C130","Aviation",null,null,"C240","Aerospace",null,null,"C308","Drill and Ceremonial",null,null,"C406","Air Rifle Marksmanship",null,null,"C530","Flight Simulator",{"$nulls":3},"Lt"]
["C140","Aerospace",null,null,"C260","Aerodrome Operations",null,null,"C309","Instructional Techniques.",null,null,"C407","General Cadet Knowledge",null,null,"C540","Aerospace Act",{"$nulls":3},"Capt"]
["C160","Aerodrome Operations",null,null,"C270","Aircraft Manufacturing and Maintenance",null,null,"C331","Principles of Flight",null,null,"C408","Drill and Ceremonial",null,null,"C560","Aerodrome Ops",{"$nulls":3},"Maj"]
["C170","Aircraft Manufacturing and Maintenance",null,null,"C290","Aircrew Survival",null,null,"C336","Meteorology",null,null,"C409","Instructional Techniques.",null,null,"C570","Aircraft Man & Maint",{"$nulls":3},"LCol"]
["C190","Aircrew Survival",null,null,"Christmas","Xmas Break","N/A","N/A","C337","Air Navigation",null,null,"C429","Radio Communication",null,null,"C590","Aircrew Survival"]
["Christmas","Xmas Break","N/A","N/A","CoC","Change of Command","All","N/A","C340","Aerospace",null,null,"C431","Principles of Flight",null,null,"Christmas","Xmas Break","No Training"]
["CoC","Change of Command","All","N/A","COP","CO's Parade","All","N/A","C360","Aerodrome Operations",null,null,"C432","Propulsion",null,null,"CoC","Change of Command","All","N/A"]
["COP","CO's Parade","All","N/A","CTC","Camp Briefing","Commanding Officer","N. Hangar","C370","Aircraft Manufacturing and Maintenance",null,null,"C436","Meteorology",null,null,"COP","CO's Parade"]
["CTC","Camp Briefing","Commanding Officer","N. Hangar","CX01","Citizenship",null,null,"C390","Aircrew Survival",null,null,"C437","Air Navigation",null,null,"CTC","Camp Briefing","Commanding Officer","N. Hangar"]
["CX01","Citizenship",null,null,"CX02","Community Service",null,null,"Christmas","Xmas Break","N/A","N/A","C440","Aerospace",null,null,"F/Com Period","Flight Commanders Period"]
["CX02","Community Service",null,null,"CX04","Personal Fitness and Healthy Living",null,null,"CoC","Change of Command","All","N/A","C460","Aerodrome Operations",null,null,"M501","Citizenship"]
["CX04","Personal Fitness and Healthy Living",null,null,"CX05","Physical Activities",null,null,"COP","CO's Parade","All","N/A","C470","Aircraft Manufacturing and Maintenance",null,null,"M502","Comm Service"]
["CX05","Physical Activities",null,null,"CX20","CAF Familiarization",null,null,"CTC","Camp Briefing","Commanding Officer","N. Hangar","C490","Aircrew Survival",null,null,"M503","Leadership"]
["CX20","CAF Familiarization",null,null,"LOP","Level Officer Period","Level Officer",null,"CX01","Citizenship",null,null,"Christmas","Xmas Break","N/A","N/A","M504","Personal Fitness"]
["LOP","Level Officer Period","Level Officer",null,"M203","Leadership",null,null,"CX02","Community Service",null,null,"CoC","Change of Command","All","N/A","M507","GCK"]
["M100","Positive Social Relations for Youth",null,null,"M206","Air Rifle Marksmanship",null,null,"CX04","Personal Fitness and Healthy Living",null,null,"COP","CO's Parade","All","N/A","M509","Instruc Tech"]
["M103","Leadership",null,null,"M207","General Cadet Knowledge",null,null,"CX05","Physical Activities",null,null,"CTC","Camp Briefing","Commanding Officer","N. Hangar","M530","Flight Simulator"]
["M104",{"$nulls":3},"M208","Drill and Ceremonial",null,null,"CX20","CAF Familiarization",null,null,"CX01","Citizenship",null,null,"M540","Aerospace Act"]
["M106","Air Rifle Marksmanship",null,null,"M230","Aviation",null,null,"LOP","Level Officer Period","Level Officer",null,"CX02","Community Service",null,null,"M560","Aerodrome Ops"]
["M107","General Cadet Knowledge",null,null,"M231","Principles of Flight",null,null,"M303","Leadership",null,null,"CX04","Personal Fitness and Healthy Living",null,null,"M570","Aircraft Man & Maint"]
["M108","Drill and Ceremonial",null,null,"M232","Propulsion",null,null,"M306","Air Rifle Marksmanship",null,null,"CX05","Physical Activities",null,null,"M590","Aircrew Survival"]
["M121","Canadian Aviation, Aerospace, Aerodrome Operations and Aircraft Manufacture",null,null,"M240","Aerospace",null,null,"M307","General Cadet Knowledge",null,null,"CX20","CAF Familiarization",null,null,"March Break","Break","All","N/A"]
["M129","Radio Communication",null,null,"M260","Aerodrome Operations",null,null,"M308","Drill and Ceremonial",null,null,"F/Com Period","Flight Commanders Period",null,null,"MDOE","Duke of Ed"]
["M130","Aviation",null,null,"M270","Aircraft Manufacturing and Maintenance",null,null,"M309","Instructional Techniques.",null,null,"HP Plan","Halloween Party Planning",null,null,"MX04","Personal Fitness and Healthy Living"]
["M140","Aerospace",null,null,"M290","Aircrew Survival",null,null,"M331","Principles of Flight",null,null,"LOP","Level Officer Period","Level Officer",null,"MX05","Physical Activities"]
["M160","Aerodrome Operations",null,null,"March Break","Break","All","N/A","M336","Meteorology",null,null,"M400","Positive Social Relations for Youth",null,null,"NT","No Training"]
["M170","Aircraft Manufacturing and Maintenance",null,null,"MX01","Citizenship",null,null,"M337","Air Navigation",null,null,"M403","Leadership",null,null,"Party - C","Christmas Party"]
["M190","Aircrew Survival","All","N/A","MX02","Community Service",null,null,"M340","Aerospace",null,null,"M406","Air Rifle Marksmanship",null,null,"Party - H","Halloween Party"]
["March Break","Break",null,null,"MX04","Personal Fitness and Healthy Living",null,null,"M360","Aerodrome Operations",null,null,"M407","General Cadet Knowledge",null,null,"PSRY","Positive Social Relations for Youth","Capt. Mackenzie-Haines","N. Hangar"]
["MX01","Citizenship",null,null,"MX05","Physical Activities",null,null,"M370","Aircraft Manufacturing and Maintenance",null,null,"M408","Drill and Ceremonial",null,null,"Welcome","Welcome Back"]
["MX02","Community Service",null,null,"MX20","CAF Familiarization",null,null,"M390","Aircrew Survival",null,null,"M409","Instructional Techniques.",null,null,"CoCP","Change of Command Practice"]
["MX04","Personal Fitness and Healthy Living",null,null,"NT","No Training","N/A","N/A","March Break","Break","All","N/A","M429","Radio Communication",null,null,"MX20","CAF Familiarization"]
["MX05","Physical Activities",null,null,"Party - C","Christmas Party","All","N/A","MDOE","Duke of Ed",null,null,"M431","Principles of Flight"]
["MX20","CAF Familiarization","N/A","N/A","Party - H","Halloween Party","All","N/A","MX01","Citizenship",null,null,"M432","Propulsion"]
["NT","No Training","All","N/A","PSRY","Positive Social Relations for Youth","Capt. Mackenzie-Haines","N. Hangar","MX02","Community Service",null,null,"M436","Meteorology",{"$nulls":3},"TBD","TBD","TBD"]
["Party - C","Christmas Party","All","N/A","Welcome","Welcome Back","All","N/A","MX04","Personal Fitness and Healthy Living",null,null,"M437","Air Navigation"]
["Party - H","Halloween Party","Capt. Mackenzie-Haines","N. Hangar","CoCP","Change of Command Practice",null,null,"MX05","Physical Activities",null,null,"M440","Aerospace"]
["PSRY","Positive Social Relations for Youth",null,null,"C190","Aircrew Survival",null,null,"MX20","CAF Familiarization",null,null,"M460","Aerodrome Operations"]
["Recruiting","Intro to Program",null,null,"M190","Aircrew Survival",null,null,"NT","No Training","All","N/A","M470","Aircraft Manufacturing and Maintenance"]
["CoCP","Change of Command Practice",null,null,"C108","Drill Practice",null,null,"Party - C","Christmas Party","All","N/A","M490","Aircrew Survival"]
[{"$nulls":8},"Party - H","Halloween Party","All","N/A","March Break","Break","All","N/A"]
[{"$nulls":8},"PSRY","Positive Social Relations for Youth","Capt. Mackenzie-Haines","N. Hangar","MDOE","Duke of Ed"]
[{"$nulls":5},"TBD","TBD","TBD","Welcome","Welcome Back","All","N. Hangar","MX01","Citizenship"]
[null,null,"TBD","TBD",{"$nulls":4},"CoCP","Change of Command Practice",null,null,"MX02","Community Service"]
[null,"TBD",{"$nulls":6},"M190","Aircrew Survival",null,null,"MX04","Personal Fitness and Healthy Living"]
[{"$nulls":12},"MX05","Physical Activities"]
[{"$nulls":12},"MX20","CAF Familiarization"]
[{"$nulls":12},"N11Prep","Rem Day Prep"]
[{"$nulls":12},"NT","No Training","N/A","N/A"]
[{"$nulls":12},"Party - C","Christmas Party","All","N/A"]
[{"$nulls":12},"Party - H","Halloween Party","All","N/A"]
[{"$nulls":9},"TBD","TBD","TBD","PSRY","Positive Social Relations for Youth","Capt. Mackenzie-Haines","N. Hangar"]
[{"$nulls":12},"Welcome","Welcome Back","All","N/A"]
[{"$nulls":12},"CoCP","Change of Command Practice"]
[{"$nulls":12},"C303","Leadership"]
[]
[]
[]
[]
[]
[{"$nulls":13},"TBD","TBD","TBD"]

{"sheet":"WeekNights","index":2,"n_rows":91,"n_cols":49,"rows_kept":91,"merged":[[2,0,13,0],[2,1,5,1],[6,1,9,1],[10,1,13,1],[14,0,25,0],[14,1,17,1],[18,1,21,1],[22,1,25,1],[26,0,37,0],[26,1,29,1],[30,1,33,1],[34,1,37,1],[38,0,49,0],[38,1,41,1],[42,1,45,1],[46,1,49,1],[50,0,61,0],[50,1,53,1],[54,1,57,1],[58,1,61,1],[62,0,62,2],[63,0,63,2],[64,0,64,2],[65,0,65,2],[66,0,66,2],[67,0,67,2],[68,0,68,2]]}
[null,null,"RO No.",1,2,3,4,5,6,7,8,9,10,11,12,13,14,15,16,17,18,19,20,21,22,23,24,25,26,27,28,29,30,31,32,33,34,35,36,37,38,39,40,41,42,43,44,45]
[null,null,"Date",{"$f":"'Unit Info'!$B$13","v":"2021-09-07"},{"$f":"D2+7","v":"2021-09-14"},{"$f":"E2+7","v":"2021-09-21"},"2021-09-28","2021-10-05","2021-10-12","2021-10-19","2021-10-26","2021-11-02","2021-11-09","2021-11-16","2021-11-23","2021-11-30","2021-12-07","2021-12-14","2021-12-21","2021-12-28","2022-01-04","2022-01-11","2022-01-18","2022-01-25","2022-02-01","2022-02-08","2022-02-15","2022-02-22","2022-03-01","2022-03-08","2022-03-15","2022-03-22","2022-03-29","2022-04-05","2022-04-12","2022-04-19","2022-04-26","2022-05-03","2022-05-10","2022-05-17","2022-05-24","2022-05-31","2022-06-07",{"$f":"AQ2+7","v":"2022-06-14"},{"$f":"AR2+7","v":"2022-06-21"},{"$f":"AS2+7","v":"2022-06-28"},{"$f":"AT2+7","v":"2022-07-05"},{"$f":"AU2+7","v":"2022-07-12"}]
[{"$f":"'Unit Info'!G2","v":"Level 1"},1,"PO/EO","Admin Night",null,"LOP","M107.03","M107.01","M106.01","M108.01","M190.04","M129.01","M130.01","M107.06","M190.04","M160.01","M190.01","Party - C","Christmas","Christmas","M103.03","M103.03","C107.02","M130.04","M100.01","M100.02","M100.04","M160.03","M160.03","C130.01","March Break","M130.03","M130.03","MX04.03","M106.02","M106.03","C140.02","MX20.01D","M107.05","C107.01","C170.01","CX04.04","ACR Prep"]
[null,null,"Subject",{"$f":"IF(ISERROR(VLOOKUP(LEFT(D3,4),'PO List by Level'!$A$2:$D$68,2,FALSE)),IF(ISERROR(VLOOKUP(D3,'PO List by Level'!$A$2:$D$68,2,FALSE)),\"TBD\",VLOOKUP(D3,'PO List by Level'!$A$2:$D$68,2,FALSE)),VLOOKUP(LEFT(D3,4),'PO List by Level'!$A$2:$D$68,2,FALSE))","v":"TBD"},{"$f":"IF(ISERROR(VLOOKUP(LEFT(E3,4),'PO List by Level'!$A$2:$D$68,2,FALSE)),IF(ISERROR(VLOOKUP(E3,'PO List by Level'!$A$2:$D$68,2,FALSE)),\"TBD\",VLOOKUP(E3,'PO List by Level'!$A$2:$D$68,2,FALSE)),VLOOKUP(LEFT(E3,4),'PO List by Level'!$A$2:$D$68,2,FALSE))","v":"TBD"},{"$f":"IF(ISERROR(VLOOKUP(LEFT(F3,4),'PO List by Level'!$A$2:$D$68,2,FALSE)),IF(ISERROR(VLOOKUP(F3,'PO List by Level'!$A$2:$D$68,2,FALSE)),\"TBD\",VLOOKUP(F3,'PO List by Level'!$A$2:$D$68,2,FALSE)),VLOOKUP(LEFT(F3,4),'PO List by Level'!$A$2:$D$68,2,FALSE))","v":"Level Officer Period"},{"$f":"IF(ISERROR(VLOOKUP(LEFT(G3,4),'PO List by Level'!$A$2:$D$68,2,FALSE)),IF(ISERROR(VLOOKUP(G3,'PO List by Level'!$A$2:$D$68,2,FALSE)),\"TBD\",VLOOKUP(G3,'PO List by Level'!$A$2:$D$68,2,FALSE)),VLOOKUP(LEFT(G3,4),'PO List by Level'!$A$2:$D$68,2,FALSE))","v":"General Cadet Knowledge"},{"$f":"IF(ISERROR(VLOOKUP(LEFT(H3,4),'PO List by Level'!$A$2:$D$68,2,FALSE)),IF(ISERROR(VLOOKUP(H3,'PO List by Level'!$A$2:$D$68,2,FALSE)),\"TBD\",VLOOKUP(H3,'PO List by Level'!$A$2:$D$68,2,FALSE)),VLOOKUP(LEFT(H3,4),'PO List by Level'!$A$2:$D$68,2,FALSE))","v":"General Cadet Knowledge"},{"$f":"IF(ISERROR(VLOOKUP(LEFT(I3,4),'PO List by Level'!$A$2:$D$68,2,FALSE)),IF(ISERROR(VLOOKUP(I3,'PO List by Level'!$A$2:$D$68,2,FALSE)),\"TBD\",VLOOKUP(I3,'PO List by Level'!$A$2:$D$68,2,FALSE)),VLOOKUP(LEFT(I3,4),'PO List by Level'!$A$2:$D$68,2,FALSE))","v":"Air Rifle Marksmanship"},{"$f":"IF(ISERROR(VLOOKUP(LEFT(J3,4),'PO List by Level'!$A$2:$D$68,2,FALSE)),IF(ISERROR(VLOOKUP(J3,'PO List by Level'!$A$2:$D$68,2,FALSE)),\"TBD\",VLOOKUP(J3,'PO List by Level'!$A$2:$D$68,2,FALSE)),VLOOKUP(LEFT(J3,4),'PO List by Level'!$A$2:$D$68,2,FALSE))","v":"Drill and Ceremonial"},{"$f":"IF(ISERROR(VLOOKUP(LEFT(K3,4),'PO List by Level'!$A$2:$D$68,2,FALSE)),IF(ISERROR(VLOOKUP(K3,'PO List by Level'!$A$2:$D$68,2,FALSE)),\"TBD\",VLOOKUP(K3,'PO List by Level'!$A$2:$D$68,2,FALSE)),VLOOKUP(LEFT(K3,4),'PO List by Level'!$A$2:$D$68,2,FALSE))","v":"Aircrew Survival"},{"$f":"IF(ISERROR(VLOOKUP(LEFT(L3,4),'PO List by Level'!$A$2:$D$68,2,FALSE)),IF(ISERROR(VLOOKUP(L3,'PO List by Level'!$A$2:$D$68,2,FALSE)),\"TBD\",VLOOKUP(L3,'PO List by Level'!$A$2:$D$68,2,FALSE)),VLOOKUP(LEFT(L3,4),'PO List by Level'!$A$2:$D$68,2,FALSE))","v":"Radio Communication"},{"$f":"IF(ISERROR(VLOOKUP(LEFT(M3,4),'PO List by Level'!$A$2:$D$68,2,FALSE)),IF(ISERROR(VLOOKUP(M3,'PO List by Level'!$A$2:$D$68,2,FALSE)),\"TBD\",VLOOKUP(M3,'PO List by Level'!$A$2:$D$68,2,FALSE)),VLOOKUP(LEFT(M3,4),'PO List by Level'!$A$2:$D$68,2,FALSE))","v":"Aviation"},{"$f":"IF(ISERROR(VLOOKUP(LEFT(N3,4),'PO List by Level'!$A$2:$D$68,2,FALSE)),IF(ISERROR(VLOOKUP(N3,'PO List by Level'!$A$2:$D$68,2,FALSE)),\"TBD\",VLOOKUP(N3,'PO List by Level'!$A$2:$D$68,2,FALSE)),VLOOKUP(LEFT(N3,4),'PO List by Level'!$A$2:$D$68,2,FALSE))","v":"General Cadet Knowledge"},{"$f":"IF(ISERROR(VLOOKUP(LEFT(O3,4),'PO List by Level'!$A$2:$D$68,2,FALSE)),IF(ISERROR(VLOOKUP(O3,'PO List by Level'!$A$2:$D$68,2,FALSE)),\"TBD\",VLOOKUP(O3,'PO List by Level'!$A$2:$D$68,2,FALSE)),VLOOKUP(LEFT(O3,4),'PO List by Level'!$A$2:$D$68,2,FALSE))","v":"Aircrew Survival"},{"$f":"IF(ISERROR(VLOOKUP(LEFT(P3,4),'PO List by Level'!$A$2:$D$68,2,FALSE)),IF(ISERROR(VLOOKUP(P3,'PO List by Level'!$A$2:$D$68,2,FALSE)),\"TBD\",VLOOKUP(P3,'PO List by Level'!$A$2:$D$68,2,FALSE)),VLOOKUP(LEFT(P3,4),'PO List by Level'!$A$2:$D$68,2,FALSE))","v":"Aerodrome Operations"},{"$f":"IF(ISERROR(VLOOKUP(LEFT(Q3,4),'PO List by Level'!$A$2:$D$68,2,FALSE)),IF(ISERROR(VLOOKUP(Q3,'PO List by Level'!$A$2:$D$68,2,FALSE)),\"TBD\",VLOOKUP(Q3,'PO List by Level'!$A$2:$D$68,2,FALSE)),VLOOKUP(LEFT(Q3,4),'PO List by Level'!$A$2:$D$68,2,FALSE))","v":"Aircrew Survival"},{"$f":"IF(ISERROR(VLOOKUP(LEFT(R3,4),'PO List by Level'!$A$2:$D$68,2,FALSE)),IF(ISERROR(VLOOKUP(R3,'PO List by Level'!$A$2:$D$68,2,FALSE)),\"TBD\",VLOOKUP(R3,'PO List by Level'!$A$2:$D$68,2,FALSE)),VLOOKUP(LEFT(R3,4),'PO List by Level'!$A$2:$D$68,2,FALSE))","v":"Christmas Party"},{"$f":"IF(ISERROR(VLOOKUP(LEFT(S3,4),'PO List by Level'!$A$2:$D$68,2,FALSE)),IF(ISERROR(VLOOKUP(S3,'PO List by Level'!$A$2:$D$68,2,FALSE)),\"TBD\",VLOOKUP(S3,'PO List by Level'!$A$2:$D$68,2,FALSE)),VLOOKUP(LEFT(S3,4),'PO List by Level'!$A$2:$D$68,2,FALSE))","v":"Xmas Break"},{"$f":"IF(ISERROR(VLOOKUP(LEFT(T3,4),'PO List by Level'!$A$2:$D$68,2,FALSE)),IF(ISERROR(VLOOKUP(T3,'PO List by Level'!$A$2:$D$68,2,FALSE)),\"TBD\",VLOOKUP(T3,'PO List by Level'!$A$2:$D$68,2,FALSE)),VLOOKUP(LEFT(T3,4),'PO List by Level'!$A$2:$D$68,2,FALSE))","v":"Xmas Break"},{"$f":"IF(ISERROR(VLOOKUP(LEFT(U3,4),'PO List by Level'!$A$2:$D$68,2,FALSE)),IF(ISERROR(VLOOKUP(U3,'PO List by Level'!$A$2:$D$68,2,FALSE)),\"TBD\",VLOOKUP(U3,'PO List by Level'!$A$2:$D$68,2,FALSE)),VLOOKUP(LEFT(U3,4),'PO List by Level'!$A$2:$D$68,2,FALSE))","v":"Leadership"},{"$f":"IF(ISERROR(VLOOKUP(LEFT(V3,4),'PO List by Level'!$A$2:$D$68,2,FALSE)),IF(ISERROR(VLOOKUP(V3,'PO List by Level'!$A$2:$D$68,2,FALSE)),\"TBD\",VLOOKUP(V3,'PO List by Level'!$A$2:$D$68,2,FALSE)),VLOOKUP(LEFT(V3,4),'PO List by Level'!$A$2:$D$68,2,FALSE))","v":"Leadership"},{"$f":"IF(ISERROR(VLOOKUP(LEFT(W3,4),'PO List by Level'!$A$2:$D$68,2,FALSE)),IF(ISERROR(VLOOKUP(W3,'PO List by Level'!$A$2:$D$68,2,FALSE)),\"TBD\",VLOOKUP(W3,'PO List by Level'!$A$2:$D$68,2,FALSE)),VLOOKUP(LEFT(W3,4),'PO List by Level'!$A$2:$D$68,2,FALSE))","v":"General Cadet Knowledge"},{"$f":"IF(ISERROR(VLOOKUP(LEFT(X3,4),'PO List by Level'!$A$2:$D$68,2,FALSE)),IF(ISERROR(VLOOKUP(X3,'PO List by Level'!$A$2:$D$68,2,FALSE)),\"TBD\",VLOOKUP(X3,'PO List by Level'!$A$2:$D$68,2,FALSE)),VLOOKUP(LEFT(X3,4),'PO List by Level'!$A$2:$D$68,2,FALSE))","v":"Aviation"},{"$f":"IF(ISERROR(VLOOKUP(LEFT(Y3,4),'PO List by Level'!$A$2:$D$68,2,FALSE)),IF(ISERROR(VLOOKUP(Y3,'PO List by Level'!$A$2:$D$68,2,FALSE)),\"TBD\",VLOOKUP(Y3,'PO List by Level'!$A$2:$D$68,2,FALSE)),VLOOKUP(LEFT(Y3,4),'PO List by Level'!$A$2:$D$68,2,FALSE))","v":"Positive Social Relations for Youth"},{"$f":"IF(ISERROR(VLOOKUP(LEFT(Z3,4),'PO List by Level'!$A$2:$D$68,2,FALSE)),IF(ISERROR(VLOOKUP(Z3,'PO List by Level'!$A$2:$D$68,2,FALSE)),\"TBD\",VLOOKUP(Z3,'PO List by Level'!$A$2:$D$68,2,FALSE)),VLOOKUP(LEFT(Z3,4),'PO List by Level'!$A$2:$D$68,2,FALSE))","v":"Positive Social Relations for Youth"},{"$f":"IF(ISERROR(VLOOKUP(LEFT(AA3,4),'PO List by Level'!$A$2:$D$68,2,FALSE)),IF(ISERROR(VLOOKUP(AA3,'PO List by Level'!$A$2:$D$68,2,FALSE)),\"TBD\",VLOOKUP(AA3,'PO List by Level'!$A$2:$D$68,2,FALSE)),VLOOKUP(LEFT(AA3,4),'PO List by Level'!$A$2:$D$68,2,FALSE))","v":"Positive Social Relations for Youth"},{"$f":"IF(ISERROR(VLOOKUP(LEFT(AB3,4),'PO List by Level'!$A$2:$D$68,2,FALSE)),IF(ISERROR(VLOOKUP(AB3,'PO List by Level'!$A$2:$D$68,2,FALSE)),\"TBD\",VLOOKUP(AB3,'PO List by Level'!$A$2:$D$68,2,FALSE)),VLOOKUP(LEFT(AB3,4),'PO List by Level'!$A$2:$D$68,2,FALSE))","v":"Aerodrome Operations"},{"$f":"IF(ISERROR(VLOOKUP(LEFT(AC3,4),'PO List by Level'!$A$2:$D$68,2,FALSE)),IF(ISERROR(VLOOKUP(AC3,'PO List by Level'!$A$2:$D$68,2,FALSE)),\"TBD\",VLOOKUP(AC3,'PO List by Level'!$A$2:$D$68,2,FALSE)),VLOOKUP(LEFT(AC3,4),'PO List by Level'!$A$2:$D$68,2,FALSE))","v":"Aerodrome Operations"},{"$f":"IF(ISERROR(VLOOKUP(LEFT(AD3,4),'PO List by Level'!$A$2:$D$68,2,FALSE)),IF(ISERROR(VLOOKUP(AD3,'PO List by Level'!$A$2:$D$68,2,FALSE)),\"TBD\",VLOOKUP(AD3,'PO List by Level'!$A$2:$D$68,2,FALSE)),VLOOKUP(LEFT(AD3,4),'PO List by Level'!$A$2:$D$68,2,FALSE))","v":"Aviation"},{"$f":"IF(ISERROR(VLOOKUP(LEFT(AE3,4),'PO List by Level'!$A$2:$D$68,2,FALSE)),IF(ISERROR(VLOOKUP(AE3,'PO List by Level'!$A$2:$D$68,2,FALSE)),\"TBD\",VLOOKUP(AE3,'PO List by Level'!$A$2:$D$68,2,FALSE)),VLOOKUP(LEFT(AE3,4),'PO List by Level'!$A$2:$D$68,2,FALSE))","v":"Break"},{"$f":"IF(ISERROR(VLOOKUP(LEFT(AF3,4),'PO List by Level'!$A$2:$D$68,2,FALSE)),IF(ISERROR(VLOOKUP(AF3,'PO List by Level'!$A$2:$D$68,2,FALSE)),\"TBD\",VLOOKUP(AF3,'PO List by Level'!$A$2:$D$68,2,FALSE)),VLOOKUP(LEFT(AF3,4),'PO List by Level'!$A$2:$D$68,2,FALSE))","v":"Aviation"},{"$f":"IF(ISERROR(VLOOKUP(LEFT(AG3,4),'PO List by Level'!$A$2:$D$68,2,FALSE)),IF(ISERROR(VLOOKUP(AG3,'PO List by Level'!$A$2:$D$68,2,FALSE)),\"TBD\",VLOOKUP(AG3,'PO List by Level'!$A$2:$D$68,2,FALSE)),VLOOKUP(LEFT(AG3,4),'PO List by Level'!$A$2:$D$68,2,FALSE))","v":"Aviation"},{"$f":"IF(ISERROR(VLOOKUP(LEFT(AH3,4),'PO List by Level'!$A$2:$D$68,2,FALSE)),IF(ISERROR(VLOOKUP(AH3,'PO List by Level'!$A$2:$D$68,2,FALSE)),\"TBD\",VLOOKUP(AH3,'PO List by Level'!$A$2:$D$68,2,FALSE)),VLOOKUP(LEFT(AH3,4),'PO List by Level'!$A$2:$D$68,2,FALSE))","v":"Personal Fitness and Healthy Living"},{"$f":"IF(ISERROR(VLOOKUP(LEFT(AI3,4),'PO List by Level'!$A$2:$D$68,2,FALSE)),IF(ISERROR(VLOOKUP(AI3,'PO List by Level'!$A$2:$D$68,2,FALSE)),\"TBD\",VLOOKUP(AI3,'PO List by Level'!$A$2:$D$68,2,FALSE)),VLOOKUP(LEFT(AI3,4),'PO List by Level'!$A$2:$D$68,2,FALSE))","v":"Air Rifle Marksmanship"},{"$f":"IF(ISERROR(VLOOKUP(LEFT(AJ3,4),'PO List by Level'!$A$2:$D$68,2,FALSE)),IF(ISERROR(VLOOKUP(AJ3,'PO List by Level'!$A$2:$D$68,2,FALSE)),\"TBD\",VLOOKUP(AJ3,'PO List by Level'!$A$2:$D$68,2,FALSE)),VLOOKUP(LEFT(AJ3,4),'PO List by Level'!$A$2:$D$68,2,FALSE))","v":"Air Rifle Marksmanship"},{"$f":"IF(ISERROR(VLOOKUP(LEFT(AK3,4),'PO List by Level'!$A$2:$D$68,2,FALSE)),IF(ISERROR(VLOOKUP(AK3,'PO List by Level'!$A$2:$D$68,2,FALSE)),\"TBD\",VLOOKUP(AK3,'PO List by Level'!$A$2:$D$68,2,FALSE)),VLOOKUP(LEFT(AK3,4),'PO List by Level'!$A$2:$D$68,2,FALSE))","v":"Aerospace"},{"$f":"IF(ISERROR(VLOOKUP(LEFT(AL3,4),'PO List by Level'!$A$2:$D$68,2,FALSE)),IF(ISERROR(VLOOKUP(AL3,'PO List by Level'!$A$2:$D$68,2,FALSE)),\"TBD\",VLOOKUP(AL3,'PO List by Level'!$A$2:$D$68,2,FALSE)),VLOOKUP(LEFT(AL3,4),'PO List by Level'!$A$2:$D$68,2,FALSE))","v":"CAF Familiarization"},{"$f":"IF(ISERROR(VLOOKUP(LEFT(AM3,4),'PO List by Level'!$A$2:$D$68,2,FALSE)),IF(ISERROR(VLOOKUP(AM3,'PO List by Level'!$A$2:$D$68,2,FALSE)),\"TBD\",VLOOKUP(AM3,'PO List by Level'!$A$2:$D$68,2,FALSE)),VLOOKUP(LEFT(AM3,4),'PO List by Level'!$A$2:$D$68,2,FALSE))","v":"General Cadet Knowledge"},{"$f":"IF(ISERROR(VLOOKUP(LEFT(AN3,4),'PO List by Level'!$A$2:$D$68,2,FALSE)),IF(ISERROR(VLOOKUP(AN3,'PO List by Level'!$A$2:$D$68,2,FALSE)),\"TBD\",VLOOKUP(AN3,'PO List by Level'!$A$2:$D$68,2,FALSE)),VLOOKUP(LEFT(AN3,4),'PO List by Level'!$A$2:$D$68,2,FALSE))","v":"General Cadet Knowledge"},{"$f":"IF(ISERROR(VLOOKUP(LEFT(AO3,4),'PO List by Level'!$A$2:$D$68,2,FALSE)),IF(ISERROR(VLOOKUP(AO3,'PO List by Level'!$A$2:$D$68,2,FALSE)),\"TBD\",VLOOKUP(AO3,'PO List by Level'!$A$2:$D$68,2,FALSE)),VLOOKUP(LEFT(AO3,4),'PO List by Level'!$A$2:$D$68,2,FALSE))","v":"Aircraft Manufacturing and Maintenance"},{"$f":"IF(ISERROR(VLOOKUP(LEFT(AP3,4),'PO List by Level'!$A$2:$D$68,2,FALSE)),IF(ISERROR(VLOOKUP(AP3,'PO List by Level'!$A$2:$D$68,2,FALSE)),\"TBD\",VLOOKUP(AP3,'PO List by Level'!$A$2:$D$68,2,FALSE)),VLOOKUP(LEFT(AP3,4),'PO List by Level'!$A$2:$D$68,2,FALSE))","v":"Personal Fitness and Healthy Living"},{"$f":"IF(ISERROR(VLOOKUP(LEFT(AQ3,4),'PO List by Level'!$A$2:$D$68,2,FALSE)),IF(ISERROR(VLOOKUP(AQ3,'PO List by Level'!$A$2:$D$68,2,FALSE)),\"TBD\",VLOOKUP(AQ3,'PO List by Level'!$A$2:$D$68,2,FALSE)),VLOOKUP(LEFT(AQ3,4),'PO List by Level'!$A$2:$D$68,2,FALSE))","v":"ACR Practice"},{"$f":"IF(ISERROR(VLOOKUP(LEFT(AR3,4),'PO List by Level'!$A$2:$D$68,2,FALSE)),IF(ISERROR(VLOOKUP(AR3,'PO List by Level'!$A$2:$D$68,2,FALSE)),\"TBD\",VLOOKUP(AR3,'PO List by Level'!$A$2:$D$68,2,FALSE)),VLOOKUP(LEFT(AR3,4),'PO List by Level'!$A$2:$D$68,2,FALSE))","v":"TBD"},{"$f":"IF(ISERROR(VLOOKUP(LEFT(AS3,4),'PO List by Level'!$A$2:$D$68,2,FALSE)),IF(ISERROR(VLOOKUP(AS3,'PO List by Level'!$A$2:$D$68,2,FALSE)),\"TBD\",VLOOKUP(AS3,'PO List by Level'!$A$2:$D$68,2,FALSE)),VLOOKUP(LEFT(AS3,4),'PO List by Level'!$A$2:$D$68,2,FALSE))","v":"TBD"},{"$f":"IF(ISERROR(VLOOKUP(LEFT(AT3,4),'PO List by Level'!$A$2:$D$68,2,FALSE)),IF(ISERROR(VLOOKUP(AT3,'PO List by Level'!$A$2:$D$68,2,FALSE)),\"TBD\",VLOOKUP(AT3,'PO List by Level'!$A$2:$D$68,2,FALSE)),VLOOKUP(LEFT(AT3,4),'PO List by Level'!$A$2:$D$68,2,FALSE))","v":"TBD"},{"$f":"IF(ISERROR(VLOOKUP(LEFT(AU3,4),'PO List by Level'!$A$2:$D$68,2,FALSE)),IF(ISERROR(VLOOKUP(AU3,'PO List by Level'!$A$2:$D$68,2,FALSE)),\"TBD\",VLOOKUP(AU3,'PO List by Level'!$A$2:$D$68,2,FALSE)),VLOOKUP(LEFT(AU3,4),'PO List by Level'!$A$2:$D$68,2,FALSE))","v":"TBD"},{"$f":"IF(ISERROR(VLOOKUP(LEFT(AV3,4),'PO List by Level'!$A$2:$D$68,2,FALSE)),IF(ISERROR(VLOOKUP(AV3,'PO List by Level'!$A$2:$D$68,2,FALSE)),\"TBD\",VLOOKUP(AV3,'PO List by Level'!$A$2:$D$68,2,FALSE)),VLOOKUP(LEFT(AV3,4),'PO List by Level'!$A$2:$D$68,2,FALSE))","v":"TBD"}]
[null,null,"Instructor",null,null,"Virtual","Virtual","Virtual","Virtual","N. Hangar","Virtual",null,"Virtual",null,"Virtual","Virtual","Virtual",{"$nulls":3},"FSgt Diaz","FSgt Diaz","Sgt Mwongerinka","FSgt Diaz","Lt Hadwen","Lt Hadwen","Lt Hadwen","FSgt Irfan","FSgt Irfan","CI Melendez",null,"FSgt Diaz","FSgt Diaz",null,"FSgt Diaz","FSgt Diaz",null,"Virtual",{"$nulls":3},"Guest Speaker","(Poss ACR"]
[null,null,"Location",null,null,"CI Melendez","CI Melendez","Sgt Korusenge","Sgt Gorham","Sgt Accetta","FSgt Al-Maghazachi","Sgt Mwongerinka","Sgt Accetta","Sgt Mwongerinka","FSgt Al-Maghazachi","Sgt Accetta","Sgt Korusenge",{"$nulls":20},"Mess Dinner",{"$nulls":4},"date )"]
[null,2,"PO/EO",null,null,"M107.02","M121.01","M103.01","M103.02","M108.02","M190.04","M107.04","M130.01","M130.02","M190.04","M160.02","M190.01","Party - C","Christmas","Christmas","M108.03","M108.04","M108.05","M108.06","M100.01","M100.03","M100.04","M108.07","M108.08","M108.09","March Break","M108.10","M108.11","MX04.03","M106.03","M106.04","C140.02","MX20.01D","M107.05","C107.01","C170.01","CX04.04","ACR Prep"]
[null,null,"Subject",{"$f":"IF(ISERROR(VLOOKUP(LEFT(D7,4),'PO List by Level'!$A$2:$D$68,2,FALSE)),IF(ISERROR(VLOOKUP(D7,'PO List by Level'!$A$2:$D$68,2,FALSE)),\"TBD\",VLOOKUP(D7,'PO List by Level'!$A$2:$D$68,2,FALSE)),VLOOKUP(LEFT(D7,4),'PO List by Level'!$A$2:$D$68,2,FALSE))","v":"TBD"},{"$f":"IF(ISERROR(VLOOKUP(LEFT(E7,4),'PO List by Level'!$A$2:$D$68,2,FALSE)),IF(ISERROR(VLOOKUP(E7,'PO List by Level'!$A$2:$D$68,2,FALSE)),\"TBD\",VLOOKUP(E7,'PO List by Level'!$A$2:$D$68,2,FALSE)),VLOOKUP(LEFT(E7,4),'PO List by Level'!$A$2:$D$68,2,FALSE))","v":"TBD"},{"$f":"IF(ISERROR(VLOOKUP(LEFT(F7,4),'PO List by Level'!$A$2:$D$68,2,FALSE)),IF(ISERROR(VLOOKUP(F7,'PO List by Level'!$A$2:$D$68,2,FALSE)),\"TBD\",VLOOKUP(F7,'PO List by Level'!$A$2:$D$68,2,FALSE)),VLOOKUP(LEFT(F7,4),'PO List by Level'!$A$2:$D$68,2,FALSE))","v":"General Cadet Knowledge"},{"$f":"IF(ISERROR(VLOOKUP(LEFT(G7,4),'PO List by Level'!$A$2:$D$68,2,FALSE)),IF(ISERROR(VLOOKUP(G7,'PO List by Level'!$A$2:$D$68,2,FALSE)),\"TBD\",VLOOKUP(G7,'PO List by Level'!$A$2:$D$68,2,FALSE)),VLOOKUP(LEFT(G7,4),'PO List by Level'!$A$2:$D$68,2,FALSE))","v":"Canadian Aviation, Aerospace, Aerodrome Operations and Aircraft Manufacture"},{"$f":"IF(ISERROR(VLOOKUP(LEFT(H7,4),'PO List by Level'!$A$2:$D$68,2,FALSE)),IF(ISERROR(VLOOKUP(H7,'PO List by Level'!$A$2:$D$68,2,FALSE)),\"TBD\",VLOOKUP(H7,'PO List by Level'!$A$2:$D$68,2,FALSE)),VLOOKUP(LEFT(H7,4),'PO List by Level'!$A$2:$D$68,2,FALSE))","v":"Leadership"},{"$f":"IF(ISERROR(VLOOKUP(LEFT(I7,4),'PO List by Level'!$A$2:$D$68,2,FALSE)),IF(ISERROR(VLOOKUP(I7,'PO List by Level'!$A$2:$D$68,2,FALSE)),\"TBD\",VLOOKUP(I7,'PO List by Level'!$A$2:$D$68,2,FALSE)),VLOOKUP(LEFT(I7,4),'PO List by Level'!$A$2:$D$68,2,FALSE))","v":"Leadership"},{"$f":"IF(ISERROR(VLOOKUP(LEFT(J7,4),'PO List by Level'!$A$2:$D$68,2,FALSE)),IF(ISERROR(VLOOKUP(J7,'PO List by Level'!$A$2:$D$68,2,FALSE)),\"TBD\",VLOOKUP(J7,'PO List by Level'!$A$2:$D$68,2,FALSE)),VLOOKUP(LEFT(J7,4),'PO List by Level'!$A$2:$D$68,2,FALSE))","v":"Drill and Ceremonial"},{"$f":"IF(ISERROR(VLOOKUP(LEFT(K7,4),'PO List by Level'!$A$2:$D$68,2,FALSE)),IF(ISERROR(VLOOKUP(K7,'PO List by Level'!$A$2:$D$68,2,FALSE)),\"TBD\",VLOOKUP(K7,'PO List by Level'!$A$2:$D$68,2,FALSE)),VLOOKUP(LEFT(K7,4),'PO List by Level'!$A$2:$D$68,2,FALSE))","v":"Aircrew Survival"},{"$f":"IF(ISERROR(VLOOKUP(LEFT(L7,4),'PO List by Level'!$A$2:$D$68,2,FALSE)),IF(ISERROR(VLOOKUP(L7,'PO List by Level'!$A$2:$D$68,2,FALSE)),\"TBD\",VLOOKUP(L7,'PO List by Level'!$A$2:$D$68,2,FALSE)),VLOOKUP(LEFT(L7,4),'PO List by Level'!$A$2:$D$68,2,FALSE))","v":"General Cadet Knowledge"},{"$f":"IF(ISERROR(VLOOKUP(LEFT(M7,4),'PO List by Level'!$A$2:$D$68,2,FALSE)),IF(ISERROR(VLOOKUP(M7,'PO List by Level'!$A$2:$D$68,2,FALSE)),\"TBD\",VLOOKUP(M7,'PO List by Level'!$A$2:$D$68,2,FALSE)),VLOOKUP(LEFT(M7,4),'PO List by Level'!$A$2:$D$68,2,FALSE))","v":"Aviation"},{"$f":"IF(ISERROR(VLOOKUP(LEFT(N7,4),'PO List by Level'!$A$2:$D$68,2,FALSE)),IF(ISERROR(VLOOKUP(N7,'PO List by Level'!$A$2:$D$68,2,FALSE)),\"TBD\",VLOOKUP(N7,'PO List by Level'!$A$2:$D$68,2,FALSE)),VLOOKUP(LEFT(N7,4),'PO List by Level'!$A$2:$D$68,2,FALSE))","v":"Aviation"},{"$f":"IF(ISERROR(VLOOKUP(LEFT(O7,4),'PO List by Level'!$A$2:$D$68,2,FALSE)),IF(ISERROR(VLOOKUP(O7,'PO List by Level'!$A$2:$D$68,2,FALSE)),\"TBD\",VLOOKUP(O7,'PO List by Level'!$A$2:$D$68,2,FALSE)),VLOOKUP(LEFT(O7,4),'PO List by Level'!$A$2:$D$68,2,FALSE))","v":"Aircrew Survival"},{"$f":"IF(ISERROR(VLOOKUP(LEFT(P7,4),'PO List by Level'!$A$2:$D$68,2,FALSE)),IF(ISERROR(VLOOKUP(P7,'PO List by Level'!$A$2:$D$68,2,FALSE)),\"TBD\",VLOOKUP(P7,'PO List by Level'!$A$2:$D$68,2,FALSE)),VLOOKUP(LEFT(P7,4),'PO List by Level'!$A$2:$D$68,2,FALSE))","v":"Aerodrome Operations"},{"$f":"IF(ISERROR(VLOOKUP(LEFT(Q7,4),'PO List by Level'!$A$2:$D$68,2,FALSE)),IF(ISERROR(VLOOKUP(Q7,'PO List by Level'!$A$2:$D$68,2,FALSE)),\"TBD\",VLOOKUP(Q7,'PO List by Level'!$A$2:$D$68,2,FALSE)),VLOOKUP(LEFT(Q7,4),'PO List by Level'!$A$2:$D$68,2,FALSE))","v":"Aircrew Survival"},{"$f":"IF(ISERROR(VLOOKUP(LEFT(R7,4),'PO List by Level'!$A$2:$D$68,2,FALSE)),IF(ISERROR(VLOOKUP(R7,'PO List by Level'!$A$2:$D$68,2,FALSE)),\"TBD\",VLOOKUP(R7,'PO List by Level'!$A$2:$D$68,2,FALSE)),VLOOKUP(LEFT(R7,4),'PO List by Level'!$A$2:$D$68,2,FALSE))","v":"Christmas Party"},{"$f":"IF(ISERROR(VLOOKUP(LEFT(S7,4),'PO List by Level'!$A$2:$D$68,2,FALSE)),IF(ISERROR(VLOOKUP(S7,'PO List by Level'!$A$2:$D$68,2,FALSE)),\"TBD\",VLOOKUP(S7,'PO List by Level'!$A$2:$D$68,2,FALSE)),VLOOKUP(LEFT(S7,4),'PO List by Level'!$A$2:$D$68,2,FALSE))","v":"Xmas Break"},{"$f":"IF(ISERROR(VLOOKUP(LEFT(T7,4),'PO List by Level'!$A$2:$D$68,2,FALSE)),IF(ISERROR(VLOOKUP(T7,'PO List by Level'!$A$2:$D$68,2,FALSE)),\"TBD\",VLOOKUP(T7,'PO List by Level'!$A$2:$D$68,2,FALSE)),VLOOKUP(LEFT(T7,4),'PO List by Level'!$A$2:$D$68,2,FALSE))","v":"Xmas Break"},{"$f":"IF(ISERROR(VLOOKUP(LEFT(U7,4),'PO List by Level'!$A$2:$D$68,2,FALSE)),IF(ISERROR(VLOOKUP(U7,'PO List by Level'!$A$2:$D$68,2,FALSE)),\"TBD\",VLOOKUP(U7,'PO List by Level'!$A$2:$D$68,2,FALSE)),VLOOKUP(LEFT(U7,4),'PO List by Level'!$A$2:$D$68,2,FALSE))","v":"Drill and Ceremonial"},{"$f":"IF(ISERROR(VLOOKUP(LEFT(V7,4),'PO List by Level'!$A$2:$D$68,2,FALSE)),IF(ISERROR(VLOOKUP(V7,'PO List by Level'!$A$2:$D$68,2,FALSE)),\"TBD\",VLOOKUP(V7,'PO List by Level'!$A$2:$D$68,2,FALSE)),VLOOKUP(LEFT(V7,4),'PO List by Level'!$A$2:$D$68,2,FALSE))","v":"Drill and Ceremonial"},{"$f":"IF(ISERROR(VLOOKUP(LEFT(W7,4),'PO List by Level'!$A$2:$D$68,2,FALSE)),IF(ISERROR(VLOOKUP(W7,'PO List by Level'!$A$2:$D$68,2,FALSE)),\"TBD\",VLOOKUP(W7,'PO List by Level'!$A$2:$D$68,2,FALSE)),VLOOKUP(LEFT(W7,4),'PO List by Level'!$A$2:$D$68,2,FALSE))","v":"Drill and Ceremonial"},{"$f":"IF(ISERROR(VLOOKUP(LEFT(X7,4),'PO List by Level'!$A$2:$D$68,2,FALSE)),IF(ISERROR(VLOOKUP(X7,'PO List by Level'!$A$2:$D$68,2,FALSE)),\"TBD\",VLOOKUP(X7,'PO List by Level'!$A$2:$D$68,2,FALSE)),VLOOKUP(LEFT(X7,4),'PO List by Level'!$A$2:$D$68,2,FALSE))","v":"Drill and Ceremonial"},{"$f":"IF(ISERROR(VLOOKUP(LEFT(Y7,4),'PO List by Level'!$A$2:$D$68,2,FALSE)),IF(ISERROR(VLOOKUP(Y7,'PO List by Level'!$A$2:$D$68,2,FALSE)),\"TBD\",VLOOKUP(Y7,'PO List by Level'!$A$2:$D$68,2,FALSE)),VLOOKUP(LEFT(Y7,4),'PO List by Level'!$A$2:$D$68,2,FALSE))","v":"Positive Social Relations for Youth"},{"$f":"IF(ISERROR(VLOOKUP(LEFT(Z7,4),'PO List by Level'!$A$2:$D$68,2,FALSE)),IF(ISERROR(VLOOKUP(Z7,'PO List by Level'!$A$2:$D$68,2,FALSE)),\"TBD\",VLOOKUP(Z7,'PO List by Level'!$A$2:$D$68,2,FALSE)),VLOOKUP(LEFT(Z7,4),'PO List by Level'!$A$2:$D$68,2,FALSE))","v":"Positive Social Relations for Youth"},{"$f":"IF(ISERROR(VLOOKUP(LEFT(AA7,4),'PO List by Level'!$A$2:$D$68,2,FALSE)),IF(ISERROR(VLOOKUP(AA7,'PO List by Level'!$A$2:$D$68,2,FALSE)),\"TBD\",VLOOKUP(AA7,'PO List by Level'!$A$2:$D$68,2,FALSE)),VLOOKUP(LEFT(AA7,4),'PO List by Level'!$A$2:$D$68,2,FALSE))","v":"Positive Social Relations for Youth"},{"$f":"IF(ISERROR(VLOOKUP(LEFT(AB7,4),'PO List by Level'!$A$2:$D$68,2,FALSE)),IF(ISERROR(VLOOKUP(AB7,'PO List by Level'!$A$2:$D$68,2,FALSE)),\"TBD\",VLOOKUP(AB7,'PO List by Level'!$A$2:$D$68,2,FALSE)),VLOOKUP(LEFT(AB7,4),'PO List by Level'!$A$2:$D$68,2,FALSE))","v":"Drill and Ceremonial"},{"$f":"IF(ISERROR(VLOOKUP(LEFT(AC7,4),'PO List by Level'!$A$2:$D$68,2,FALSE)),IF(ISERROR(VLOOKUP(AC7,'PO List by Level'!$A$2:$D$68,2,FALSE)),\"TBD\",VLOOKUP(AC7,'PO List by Level'!$A$2:$D$68,2,FALSE)),VLOOKUP(LEFT(AC7,4),'PO List by Level'!$A$2:$D$68,2,FALSE))","v":"Drill and Ceremonial"},{"$f":"IF(ISERROR(VLOOKUP(LEFT(AD7,4),'PO List by Level'!$A$2:$D$68,2,FALSE)),IF(ISERROR(VLOOKUP(AD7,'PO List by Level'!$A$2:$D$68,2,FALSE)),\"TBD\",VLOOKUP(AD7,'PO List by Level'!$A$2:$D$68,2,FALSE)),VLOOKUP(LEFT(AD7,4),'PO List by Level'!$A$2:$D$68,2,FALSE))","v":"Drill and Ceremonial"},{"$f":"IF(ISERROR(VLOOKUP(LEFT(AE7,4),'PO List by Level'!$A$2:$D$68,2,FALSE)),IF(ISERROR(VLOOKUP(AE7,'PO List by Level'!$A$2:$D$68,2,FALSE)),\"TBD\",VLOOKUP(AE7,'PO List by Level'!$A$2:$D$68,2,FALSE)),VLOOKUP(LEFT(AE7,4),'PO List by Level'!$A$2:$D$68,2,FALSE))","v":"Break"},{"$f":"IF(ISERROR(VLOOKUP(LEFT(AF7,4),'PO List by Level'!$A$2:$D$68,2,FALSE)),IF(ISERROR(VLOOKUP(AF7,'PO List by Level'!$A$2:$D$68,2,FALSE)),\"TBD\",VLOOKUP(AF7,'PO List by Level'!$A$2:$D$68,2,FALSE)),VLOOKUP(LEFT(AF7,4),'PO List by Level'!$A$2:$D$68,2,FALSE))","v":"Drill and Ceremonial"},{"$f":"IF(ISERROR(VLOOKUP(LEFT(AG7,4),'PO List by Level'!$A$2:$D$68,2,FALSE)),IF(ISERROR(VLOOKUP(AG7,'PO List by Level'!$A$2:$D$68,2,FALSE)),\"TBD\",VLOOKUP(AG7,'PO List by Level'!$A$2:$D$68,2,FALSE)),VLOOKUP(LEFT(AG7,4),'PO List by Level'!$A$2:$D$68,2,FALSE))","v":"Drill and Ceremonial"},{"$f":"IF(ISERROR(VLOOKUP(LEFT(AH7,4),'PO List by Level'!$A$2:$D$68,2,FALSE)),IF(ISERROR(VLOOKUP(AH7,'PO List by Level'!$A$2:$D$68,2,FALSE)),\"TBD\",VLOOKUP(AH7,'PO List by Level'!$A$2:$D$68,2,FALSE)),VLOOKUP(LEFT(AH7,4),'PO List by Level'!$A$2:$D$68,2,FALSE))","v":"Personal Fitness and Healthy Living"},{"$f":"IF(ISERROR(VLOOKUP(LEFT(AI7,4),'PO List by Level'!$A$2:$D$68,2,FALSE)),IF(ISERROR(VLOOKUP(AI7,'PO List by Level'!$A$2:$D$68,2,FALSE)),\"TBD\",VLOOKUP(AI7,'PO List by Level'!$A$2:$D$68,2,FALSE)),VLOOKUP(LEFT(AI7,4),'PO List by Level'!$A$2:$D$68,2,FALSE))","v":"Air Rifle Marksmanship"},{"$f":"IF(ISERROR(VLOOKUP(LEFT(AJ7,4),'PO List by Level'!$A$2:$D$68,2,FALSE)),IF(ISERROR(VLOOKUP(AJ7,'PO List by Level'!$A$2:$D$68,2,FALSE)),\"TBD\",VLOOKUP(AJ7,'PO List by Level'!$A$2:$D$68,2,FALSE)),VLOOKUP(LEFT(AJ7,4),'PO List by Level'!$A$2:$D$68,2,FALSE))","v":"Air Rifle Marksmanship"},{"$f":"IF(ISERROR(VLOOKUP(LEFT(AK7,4),'PO List by Level'!$A$2:$D$68,2,FALSE)),IF(ISERROR(VLOOKUP(AK7,'PO List by Level'!$A$2:$D$68,2,FALSE)),\"TBD\",VLOOKUP(AK7,'PO List by Level'!$A$2:$D$68,2,FALSE)),VLOOKUP(LEFT(AK7,4),'PO List by Level'!$A$2:$D$68,2,FALSE))","v":"Aerospace"},{"$f":"IF(ISERROR(VLOOKUP(LEFT(AL7,4),'PO List by Level'!$A$2:$D$68,2,FALSE)),IF(ISERROR(VLOOKUP(AL7,'PO List by Level'!$A$2:$D$68,2,FALSE)),\"TBD\",VLOOKUP(AL7,'PO List by Level'!$A$2:$D$68,2,FALSE)),VLOOKUP(LEFT(AL7,4),'PO List by Level'!$A$2:$D$68,2,FALSE))","v":"CAF Familiarization"},{"$f":"IF(ISERROR(VLOOKUP(LEFT(AM7,4),'PO List by Level'!$A$2:$D$68,2,FALSE)),IF(ISERROR(VLOOKUP(AM7,'PO List by Level'!$A$2:$D$68,2,FALSE)),\"TBD\",VLOOKUP(AM7,'PO List by Level'!$A$2:$D$68,2,FALSE)),VLOOKUP(LEFT(AM7,4),'PO List by Level'!$A$2:$D$68,2,FALSE))","v":"General Cadet Knowledge"},{"$f":"IF(ISERROR(VLOOKUP(LEFT(AN7,4),'PO List by Level'!$A$2:$D$68,2,FALSE)),IF(ISERROR(VLOOKUP(AN7,'PO List by Level'!$A$2:$D$68,2,FALSE)),\"TBD\",VLOOKUP(AN7,'PO List by Level'!$A$2:$D$68,2,FALSE)),VLOOKUP(LEFT(AN7,4),'PO List by Level'!$A$2:$D$68,2,FALSE))","v":"General Cadet Knowledge"},{"$f":"IF(ISERROR(VLOOKUP(LEFT(AO7,4),'PO List by Level'!$A$2:$D$68,2,FALSE)),IF(ISERROR(VLOOKUP(AO7,'PO List by Level'!$A$2:$D$68,2,FALSE)),\"TBD\",VLOOKUP(AO7,'PO List by Level'!$A$2:$D$68,2,FALSE)),VLOOKUP(LEFT(AO7,4),'PO List by Level'!$A$2:$D$68,2,FALSE))","v":"Aircraft Manufacturing and Maintenance"},{"$f":"IF(ISERROR(VLOOKUP(LEFT(AP7,4),'PO List by Level'!$A$2:$D$68,2,FALSE)),IF(ISERROR(VLOOKUP(AP7,'PO List by Level'!$A$2:$D$68,2,FALSE)),\"TBD\",VLOOKUP(AP7,'PO List by Level'!$A$2:$D$68,2,FALSE)),VLOOKUP(LEFT(AP7,4),'PO List by Level'!$A$2:$D$68,2,FALSE))","v":"Personal Fitness and Healthy Living"},{"$f":"IF(ISERROR(VLOOKUP(LEFT(AQ7,4),'PO List by Level'!$A$2:$D$68,2,FALSE)),IF(ISERROR(VLOOKUP(AQ7,'PO List by Level'!$A$2:$D$68,2,FALSE)),\"TBD\",VLOOKUP(AQ7,'PO List by Level'!$A$2:$D$68,2,FALSE)),VLOOKUP(LEFT(AQ7,4),'PO List by Level'!$A$2:$D$68,2,FALSE))","v":"ACR Practice"},{"$f":"IF(ISERROR(VLOOKUP(LEFT(AR7,4),'PO List by Level'!$A$2:$D$68,2,FALSE)),IF(ISERROR(VLOOKUP(AR7,'PO List by Level'!$A$2:$D$68,2,FALSE)),\"TBD\",VLOOKUP(AR7,'PO List by Level'!$A$2:$D$68,2,FALSE)),VLOOKUP(LEFT(AR7,4),'PO List by Level'!$A$2:$D$68,2,FALSE))","v":"TBD"},{"$f":"IF(ISERROR(VLOOKUP(LEFT(AS7,4),'PO List by Level'!$A$2:$D$68,2,FALSE)),IF(ISERROR(VLOOKUP(AS7,'PO List by Level'!$A$2:$D$68,2,FALSE)),\"TBD\",VLOOKUP(AS7,'PO List by Level'!$A$2:$D$68,2,FALSE)),VLOOKUP(LEFT(AS7,4),'PO List by Level'!$A$2:$D$68,2,FALSE))","v":"TBD"},{"$f":"IF(ISERROR(VLOOKUP(LEFT(AT7,4),'PO List by Level'!$A$2:$D$68,2,FALSE)),IF(ISERROR(VLOOKUP(AT7,'PO List by Level'!$A$2:$D$68,2,FALSE)),\"TBD\",VLOOKUP(AT7,'PO List by Level'!$A$2:$D$68,2,FALSE)),VLOOKUP(LEFT(AT7,4),'PO List by Level'!$A$2:$D$68,2,FALSE))","v":"TBD"},{"$f":"IF(ISERROR(VLOOKUP(LEFT(AU7,4),'PO List by Level'!$A$2:$D$68,2,FALSE)),IF(ISERROR(VLOOKUP(AU7,'PO List by Level'!$A$2:$D$68,2,FALSE)),\"TBD\",VLOOKUP(AU7,'PO List by Level'!$A$2:$D$68,2,FALSE)),VLOOKUP(LEFT(AU7,4),'PO List by Level'!$A$2:$D$68,2,FALSE))","v":"TBD"},{"$f":"IF(ISERROR(VLOOKUP(LEFT(AV7,4),'PO List by Level'!$A$2:$D$68,2,FALSE)),IF(ISERROR(VLOOKUP(AV7,'PO List by Level'!$A$2:$D$68,2,FALSE)),\"TBD\",VLOOKUP(AV7,'PO List by Level'!$A$2:$D$68,2,FALSE)),VLOOKUP(LEFT(AV7,4),'PO List by Level'!$A$2:$D$68,2,FALSE))","v":"TBD"}]
[null,null,"Instructor",null,null,"Virtual","Virtual","Virtual","Virtual","N. Hangar","Virtual",null,"Virtual",null,"Virtual","Virtual","Virtual",{"$nulls":3},"FSgt Bradford","FSgt Bradford","FSgt Bradford","FSgt Bradford","Same","Lt Hadwen","Same","FSgt Bradford","FSgt Bradford","FSgt Bradford",null,"FSgt Bradford","FSgt Bradford",null,"FSgt Diaz","FSgt Diaz","same","Virtual","same","same","same","Guest Speaker"]
[null,null,"Location",null,null,"WO2 Bradford","CI Melendez","FSgt Kurpejovic","WO2 Muscat","Sgt Accetta","Same",null,"Same","Sgt Korusenge","Same","Sgt Unnithan","Same",{"$nulls":20},"Mess Dinner"]
[null,3,"PO/EO",{"$nulls":15},"Christmas","Christmas",{"$nulls":10},"March Break",null,null,"MX04.03",{"$nulls":3},"MX20.01D",{"$nulls":4},"ACR Prep"]
[null,null,"Subject",{"$f":"IF(ISERROR(VLOOKUP(LEFT(D11,4),'PO List by Level'!$A$2:$D$68,2,FALSE)),IF(ISERROR(VLOOKUP(D11,'PO List by Level'!$A$2:$D$68,2,FALSE)),\"TBD\",VLOOKUP(D11,'PO List by Level'!$A$2:$D$68,2,FALSE)),VLOOKUP(LEFT(D11,4),'PO List by Level'!$A$2:$D$68,2,FALSE))","v":"TBD"},{"$f":"IF(ISERROR(VLOOKUP(LEFT(E11,4),'PO List by Level'!$A$2:$D$68,2,FALSE)),IF(ISERROR(VLOOKUP(E11,'PO List by Level'!$A$2:$D$68,2,FALSE)),\"TBD\",VLOOKUP(E11,'PO List by Level'!$A$2:$D$68,2,FALSE)),VLOOKUP(LEFT(E11,4),'PO List by Level'!$A$2:$D$68,2,FALSE))","v":"TBD"},{"$f":"IF(ISERROR(VLOOKUP(LEFT(F11,4),'PO List by Level'!$A$2:$D$68,2,FALSE)),IF(ISERROR(VLOOKUP(F11,'PO List by Level'!$A$2:$D$68,2,FALSE)),\"TBD\",VLOOKUP(F11,'PO List by Level'!$A$2:$D$68,2,FALSE)),VLOOKUP(LEFT(F11,4),'PO List by Level'!$A$2:$D$68,2,FALSE))","v":"TBD"},{"$f":"IF(ISERROR(VLOOKUP(LEFT(G11,4),'PO List by Level'!$A$2:$D$68,2,FALSE)),IF(ISERROR(VLOOKUP(G11,'PO List by Level'!$A$2:$D$68,2,FALSE)),\"TBD\",VLOOKUP(G11,'PO List by Level'!$A$2:$D$68,2,FALSE)),VLOOKUP(LEFT(G11,4),'PO List by Level'!$A$2:$D$68,2,FALSE))","v":"TBD"},{"$f":"IF(ISERROR(VLOOKUP(LEFT(H11,4),'PO List by Level'!$A$2:$D$68,2,FALSE)),IF(ISERROR(VLOOKUP(H11,'PO List by Level'!$A$2:$D$68,2,FALSE)),\"TBD\",VLOOKUP(H11,'PO List by Level'!$A$2:$D$68,2,FALSE)),VLOOKUP(LEFT(H11,4),'PO List by Level'!$A$2:$D$68,2,FALSE))","v":"TBD"},{"$f":"IF(ISERROR(VLOOKUP(LEFT(I11,4),'PO List by Level'!$A$2:$D$68,2,FALSE)),IF(ISERROR(VLOOKUP(I11,'PO List by Level'!$A$2:$D$68,2,FALSE)),\"TBD\",VLOOKUP(I11,'PO List by Level'!$A$2:$D$68,2,FALSE)),VLOOKUP(LEFT(I11,4),'PO List by Level'!$A$2:$D$68,2,FALSE))","v":"TBD"},{"$f":"IF(ISERROR(VLOOKUP(LEFT(J11,4),'PO List by Level'!$A$2:$D$68,2,FALSE)),IF(ISERROR(VLOOKUP(J11,'PO List by Level'!$A$2:$D$68,2,FALSE)),\"TBD\",VLOOKUP(J11,'PO List by Level'!$A$2:$D$68,2,FALSE)),VLOOKUP(LEFT(J11,4),'PO List by Level'!$A$2:$D$68,2,FALSE))","v":"TBD"},{"$f":"IF(ISERROR(VLOOKUP(LEFT(K11,4),'PO List by Level'!$A$2:$D$68,2,FALSE)),IF(ISERROR(VLOOKUP(K11,'PO List by Level'!$A$2:$D$68,2,FALSE)),\"TBD\",VLOOKUP(K11,'PO List by Level'!$A$2:$D$68,2,FALSE)),VLOOKUP(LEFT(K11,4),'PO List by Level'!$A$2:$D$68,2,FALSE))","v":"TBD"},{"$f":"IF(ISERROR(VLOOKUP(LEFT(L11,4),'PO List by Level'!$A$2:$D$68,2,FALSE)),IF(ISERROR(VLOOKUP(L11,'PO List by Level'!$A$2:$D$68,2,FALSE)),\"TBD\",VLOOKUP(L11,'PO List by Level'!$A$2:$D$68,2,FALSE)),VLOOKUP(LEFT(L11,4),'PO List by Level'!$A$2:$D$68,2,FALSE))","v":"TBD"},{"$f":"IF(ISERROR(VLOOKUP(LEFT(M11,4),'PO List by Level'!$A$2:$D$68,2,FALSE)),IF(ISERROR(VLOOKUP(M11,'PO List by Level'!$A$2:$D$68,2,FALSE)),\"TBD\",VLOOKUP(M11,'PO List by Level'!$A$2:$D$68,2,FALSE)),VLOOKUP(LEFT(M11,4),'PO List by Level'!$A$2:$D$68,2,FALSE))","v":"TBD"},{"$f":"IF(ISERROR(VLOOKUP(LEFT(N11,4),'PO List by Level'!$A$2:$D$68,2,FALSE)),IF(ISERROR(VLOOKUP(N11,'PO List by Level'!$A$2:$D$68,2,FALSE)),\"TBD\",VLOOKUP(N11,'PO List by Level'!$A$2:$D$68,2,FALSE)),VLOOKUP(LEFT(N11,4),'PO List by Level'!$A$2:$D$68,2,FALSE))","v":"TBD"},{"$f":"IF(ISERROR(VLOOKUP(LEFT(O11,4),'PO List by Level'!$A$2:$D$68,2,FALSE)),IF(ISERROR(VLOOKUP(O11,'PO List by Level'!$A$2:$D$68,2,FALSE)),\"TBD\",VLOOKUP(O11,'PO List by Level'!$A$2:$D$68,2,FALSE)),VLOOKUP(LEFT(O11,4),'PO List by Level'!$A$2:$D$68,2,FALSE))","v":"TBD"},{"$f":"IF(ISERROR(VLOOKUP(LEFT(P11,4),'PO List by Level'!$A$2:$D$68,2,FALSE)),IF(ISERROR(VLOOKUP(P11,'PO List by Level'!$A$2:$D$68,2,FALSE)),\"TBD\",VLOOKUP(P11,'PO List by Level'!$A$2:$D$68,2,FALSE)),VLOOKUP(LEFT(P11,4),'PO List by Level'!$A$2:$D$68,2,FALSE))","v":"TBD"},{"$f":"IF(ISERROR(VLOOKUP(LEFT(Q11,4),'PO List by Level'!$A$2:$D$68,2,FALSE)),IF(ISERROR(VLOOKUP(Q11,'PO List by Level'!$A$2:$D$68,2,FALSE)),\"TBD\",VLOOKUP(Q11,'PO List by Level'!$A$2:$D$68,2,FALSE)),VLOOKUP(LEFT(Q11,4),'PO List by Level'!$A$2:$D$68,2,FALSE))","v":"TBD"},{"$f":"IF(ISERROR(VLOOKUP(LEFT(R11,4),'PO List by Level'!$A$2:$D$68,2,FALSE)),IF(ISERROR(VLOOKUP(R11,'PO List by Level'!$A$2:$D$68,2,FALSE)),\"TBD\",VLOOKUP(R11,'PO List by Level'!$A$2:$D$68,2,FALSE)),VLOOKUP(LEFT(R11,4),'PO List by Level'!$A$2:$D$68,2,FALSE))","v":"TBD"},{"$f":"IF(ISERROR(VLOOKUP(LEFT(S11,4),'PO List by Level'!$A$2:$D$68,2,FALSE)),IF(ISERROR(VLOOKUP(S11,'PO List by Level'!$A$2:$D$68,2,FALSE)),\"TBD\",VLOOKUP(S11,'PO List by Level'!$A$2:$D$68,2,FALSE)),VLOOKUP(LEFT(S11,4),'PO List by Level'!$A$2:$D$68,2,FALSE))","v":"Xmas Break"},{"$f":"IF(ISERROR(VLOOKUP(LEFT(T11,4),'PO List by Level'!$A$2:$D$68,2,FALSE)),IF(ISERROR(VLOOKUP(T11,'PO List by Level'!$A$2:$D$68,2,FALSE)),\"TBD\",VLOOKUP(T11,'PO List by Level'!$A$2:$D$68,2,FALSE)),VLOOKUP(LEFT(T11,4),'PO List by Level'!$A$2:$D$68,2,FALSE))","v":"Xmas Break"},{"$f":"IF(ISERROR(VLOOKUP(LEFT(U11,4),'PO List by Level'!$A$2:$D$68,2,FALSE)),IF(ISERROR(VLOOKUP(U11,'PO List by Level'!$A$2:$D$68,2,FALSE)),\"TBD\",VLOOKUP(U11,'PO List by Level'!$A$2:$D$68,2,FALSE)),VLOOKUP(LEFT(U11,4),'PO List by Level'!$A$2:$D$68,2,FALSE))","v":"TBD"},{"$f":"IF(ISERROR(VLOOKUP(LEFT(V11,4),'PO List by Level'!$A$2:$D$68,2,FALSE)),IF(ISERROR(VLOOKUP(V11,'PO List by Level'!$A$2:$D$68,2,FALSE)),\"TBD\",VLOOKUP(V11,'PO List by Level'!$A$2:$D$68,2,FALSE)),VLOOKUP(LEFT(V11,4),'PO List by Level'!$A$2:$D$68,2,FALSE))","v":"TBD"},{"$f":"IF(ISERROR(VLOOKUP(LEFT(W11,4),'PO List by Level'!$A$2:$D$68,2,FALSE)),IF(ISERROR(VLOOKUP(W11,'PO List by Level'!$A$2:$D$68,2,FALSE)),\"TBD\",VLOOKUP(W11,'PO List by Level'!$A$2:$D$68,2,FALSE)),VLOOKUP(LEFT(W11,4),'PO List by Level'!$A$2:$D$68,2,FALSE))","v":"TBD"},{"$f":"IF(ISERROR(VLOOKUP(LEFT(X11,4),'PO List by Level'!$A$2:$D$68,2,FALSE)),IF(ISERROR(VLOOKUP(X11,'PO List by Level'!$A$2:$D$68,2,FALSE)),\"TBD\",VLOOKUP(X11,'PO List by Level'!$A$2:$D$68,2,FALSE)),VLOOKUP(LEFT(X11,4),'PO List by Level'!$A$2:$D$68,2,FALSE))","v":"TBD"},{"$f":"IF(ISERROR(VLOOKUP(LEFT(Y11,4),'PO List by Level'!$A$2:$D$68,2,FALSE)),IF(ISERROR(VLOOKUP(Y11,'PO List by Level'!$A$2:$D$68,2,FALSE)),\"TBD\",VLOOKUP(Y11,'PO List by Level'!$A$2:$D$68,2,FALSE)),VLOOKUP(LEFT(Y11,4),'PO List by Level'!$A$2:$D$68,2,FALSE))","v":"TBD"},{"$f":"IF(ISERROR(VLOOKUP(LEFT(Z11,4),'PO List by Level'!$A$2:$D$68,2,FALSE)),IF(ISERROR(VLOOKUP(Z11,'PO List by Level'!$A$2:$D$68,2,FALSE)),\"TBD\",VLOOKUP(Z11,'PO List by Level'!$A$2:$D$68,2,FALSE)),VLOOKUP(LEFT(Z11,4),'PO List by Level'!$A$2:$D$68,2,FALSE))","v":"TBD"},{"$f":"IF(ISERROR(VLOOKUP(LEFT(AA11,4),'PO List by Level'!$A$2:$D$68,2,FALSE)),IF(ISERROR(VLOOKUP(AA11,'PO List by Level'!$A$2:$D$68,2,FALSE)),\"TBD\",VLOOKUP(AA11,'PO List by Level'!$A$2:$D$68,2,FALSE)),VLOOKUP(LEFT(AA11,4),'PO List by Level'!$A$2:$D$68,2,FALSE))","v":"TBD"},{"$f":"IF(ISERROR(VLOOKUP(LEFT(AB11,4),'PO List by Level'!$A$2:$D$68,2,FALSE)),IF(ISERROR(VLOOKUP(AB11,'PO List by Level'!$A$2:$D$68,2,FALSE)),\"TBD\",VLOOKUP(AB11,'PO List by Level'!$A$2:$D$68,2,FALSE)),VLOOKUP(LEFT(AB11,4),'PO List by Level'!$A$2:$D$68,2,FALSE))","v":"TBD"},{"$f":"IF(ISERROR(VLOOKUP(LEFT(AC11,4),'PO List by Level'!$A$2:$D$68,2,FALSE)),IF(ISERROR(VLOOKUP(AC11,'PO List by Level'!$A$2:$D$68,2,FALSE)),\"TBD\",VLOOKUP(AC11,'PO List by Level'!$A$2:$D$68,2,FALSE)),VLOOKUP(LEFT(AC11,4),'PO List by Level'!$A$2:$D$68,2,FALSE))","v":"TBD"},{"$f":"IF(ISERROR(VLOOKUP(LEFT(AD11,4),'PO List by Level'!$A$2:$D$68,2,FALSE)),IF(ISERROR(VLOOKUP(AD11,'PO List by Level'!$A$2:$D$68,2,FALSE)),\"TBD\",VLOOKUP(AD11,'PO List by Level'!$A$2:$D$68,2,FALSE)),VLOOKUP(LEFT(AD11,4),'PO List by Level'!$A$2:$D$68,2,FALSE))","v":"TBD"},{"$f":"IF(ISERROR(VLOOKUP(LEFT(AE11,4),'PO List by Level'!$A$2:$D$68,2,FALSE)),IF(ISERROR(VLOOKUP(AE11,'PO List by Level'!$A$2:$D$68,2,FALSE)),\"TBD\",VLOOKUP(AE11,'PO List by Level'!$A$2:$D$68,2,FALSE)),VLOOKUP(LEFT(AE11,4),'PO List by Level'!$A$2:$D$68,2,FALSE))","v":"Break"},{"$f":"IF(ISERROR(VLOOKUP(LEFT(AF11,4),'PO List by Level'!$A$2:$D$68,2,FALSE)),IF(ISERROR(VLOOKUP(AF11,'PO List by Level'!$A$2:$D$68,2,FALSE)),\"TBD\",VLOOKUP(AF11,'PO List by Level'!$A$2:$D$68,2,FALSE)),VLOOKUP(LEFT(AF11,4),'PO List by Level'!$A$2:$D$68,2,FALSE))","v":"TBD"},{"$f":"IF(ISERROR(VLOOKUP(LEFT(AG11,4),'PO List by Level'!$A$2:$D$68,2,FALSE)),IF(ISERROR(VLOOKUP(AG11,'PO List by Level'!$A$2:$D$68,2,FALSE)),\"TBD\",VLOOKUP(AG11,'PO List by Level'!$A$2:$D$68,2,FALSE)),VLOOKUP(LEFT(AG11,4),'PO List by Level'!$A$2:$D$68,2,FALSE))","v":"TBD"},{"$f":"IF(ISERROR(VLOOKUP(LEFT(AH11,4),'PO List by Level'!$A$2:$D$68,2,FALSE)),IF(ISERROR(VLOOKUP(AH11,'PO List by Level'!$A$2:$D$68,2,FALSE)),\"TBD\",VLOOKUP(AH11,'PO List by Level'!$A$2:$D$68,2,FALSE)),VLOOKUP(LEFT(AH11,4),'PO List by Level'!$A$2:$D$68,2,FALSE))","v":"Personal Fitness and Healthy Living"},{"$f":"IF(ISERROR(VLOOKUP(LEFT(AI11,4),'PO List by Level'!$A$2:$D$68,2,FALSE)),IF(ISERROR(VLOOKUP(AI11,'PO List by Level'!$A$2:$D$68,2,FALSE)),\"TBD\",VLOOKUP(AI11,'PO List by Level'!$A$2:$D$68,2,FALSE)),VLOOKUP(LEFT(AI11,4),'PO List by Level'!$A$2:$D$68,2,FALSE))","v":"TBD"},{"$f":"IF(ISERROR(VLOOKUP(LEFT(AJ11,4),'PO List by Level'!$A$2:$D$68,2,FALSE)),IF(ISERROR(VLOOKUP(AJ11,'PO List by Level'!$A$2:$D$68,2,FALSE)),\"TBD\",VLOOKUP(AJ11,'PO List by Level'!$A$2:$D$68,2,FALSE)),VLOOKUP(LEFT(AJ11,4),'PO List by Level'!$A$2:$D$68,2,FALSE))","v":"TBD"},{"$f":"IF(ISERROR(VLOOKUP(LEFT(AK11,4),'PO List by Level'!$A$2:$D$68,2,FALSE)),IF(ISERROR(VLOOKUP(AK11,'PO List by Level'!$A$2:$D$68,2,FALSE)),\"TBD\",VLOOKUP(AK11,'PO List by Level'!$A$2:$D$68,2,FALSE)),VLOOKUP(LEFT(AK11,4),'PO List by Level'!$A$2:$D$68,2,FALSE))","v":"TBD"},{"$f":"IF(ISERROR(VLOOKUP(LEFT(AL11,4),'PO List by Level'!$A$2:$D$68,2,FALSE)),IF(ISERROR(VLOOKUP(AL11,'PO List by Level'!$A$2:$D$68,2,FALSE)),\"TBD\",VLOOKUP(AL11,'PO List by Level'!$A$2:$D$68,2,FALSE)),VLOOKUP(LEFT(AL11,4),'PO List by Level'!$A$2:$D$68,2,FALSE))","v":"CAF Familiarization"},{"$f":"IF(ISERROR(VLOOKUP(LEFT(AM11,4),'PO List by Level'!$A$2:$D$68,2,FALSE)),IF(ISERROR(VLOOKUP(AM11,'PO List by Level'!$A$2:$D$68,2,FALSE)),\"TBD\",VLOOKUP(AM11,'PO List by Level'!$A$2:$D$68,2,FALSE)),VLOOKUP(LEFT(AM11,4),'PO List by Level'!$A$2:$D$68,2,FALSE))","v":"TBD"},{"$f":"IF(ISERROR(VLOOKUP(LEFT(AN11,4),'PO List by Level'!$A$2:$D$68,2,FALSE)),IF(ISERROR(VLOOKUP(AN11,'PO List by Level'!$A$2:$D$68,2,FALSE)),\"TBD\",VLOOKUP(AN11,'PO List by Level'!$A$2:$D$68,2,FALSE)),VLOOKUP(LEFT(AN11,4),'PO List by Level'!$A$2:$D$68,2,FALSE))","v":"TBD"},{"$f":"IF(ISERROR(VLOOKUP(LEFT(AO11,4),'PO List by Level'!$A$2:$D$68,2,FALSE)),IF(ISERROR(VLOOKUP(AO11,'PO List by Level'!$A$2:$D$68,2,FALSE)),\"TBD\",VLOOKUP(AO11,'PO List by Level'!$A$2:$D$68,2,FALSE)),VLOOKUP(LEFT(AO11,4),'PO List by Level'!$A$2:$D$68,2,FALSE))","v":"TBD"},{"$f":"IF(ISERROR(VLOOKUP(LEFT(AP11,4),'PO List by Level'!$A$2:$D$68,2,FALSE)),IF(ISERROR(VLOOKUP(AP11,'PO List by Level'!$A$2:$D$68,2,FALSE)),\"TBD\",VLOOKUP(AP11,'PO List by Level'!$A$2:$D$68,2,FALSE)),VLOOKUP(LEFT(AP11,4),'PO List by Level'!$A$2:$D$68,2,FALSE))","v":"TBD"},{"$f":"IF(ISERROR(VLOOKUP(LEFT(AQ11,4),'PO List by Level'!$A$2:$D$68,2,FALSE)),IF(ISERROR(VLOOKUP(AQ11,'PO List by Level'!$A$2:$D$68,2,FALSE)),\"TBD\",VLOOKUP(AQ11,'PO List by Level'!$A$2:$D$68,2,FALSE)),VLOOKUP(LEFT(AQ11,4),'PO List by Level'!$A$2:$D$68,2,FALSE))","v":"ACR Practice"},{"$f":"IF(ISERROR(VLOOKUP(LEFT(AR11,4),'PO List by Level'!$A$2:$D$68,2,FALSE)),IF(ISERROR(VLOOKUP(AR11,'PO List by Level'!$A$2:$D$68,2,FALSE)),\"TBD\",VLOOKUP(AR11,'PO List by Level'!$A$2:$D$68,2,FALSE)),VLOOKUP(LEFT(AR11,4),'PO List by Level'!$A$2:$D$68,2,FALSE))","v":"TBD"},{"$f":"IF(ISERROR(VLOOKUP(LEFT(AS11,4),'PO List by Level'!$A$2:$D$68,2,FALSE)),IF(ISERROR(VLOOKUP(AS11,'PO List by Level'!$A$2:$D$68,2,FALSE)),\"TBD\",VLOOKUP(AS11,'PO List by Level'!$A$2:$D$68,2,FALSE)),VLOOKUP(LEFT(AS11,4),'PO List by Level'!$A$2:$D$68,2,FALSE))","v":"TBD"},{"$f":"IF(ISERROR(VLOOKUP(LEFT(AT11,4),'PO List by Level'!$A$2:$D$68,2,FALSE)),IF(ISERROR(VLOOKUP(AT11,'PO List by Level'!$A$2:$D$68,2,FALSE)),\"TBD\",VLOOKUP(AT11,'PO List by Level'!$A$2:$D$68,2,FALSE)),VLOOKUP(LEFT(AT11,4),'PO List by Level'!$A$2:$D$68,2,FALSE))","v":"TBD"},{"$f":"IF(ISERROR(VLOOKUP(LEFT(AU11,4),'PO List by Level'!$A$2:$D$68,2,FALSE)),IF(ISERROR(VLOOKUP(AU11,'PO List by Level'!$A$2:$D$68,2,FALSE)),\"TBD\",VLOOKUP(AU11,'PO List by Level'!$A$2:$D$68,2,FALSE)),VLOOKUP(LEFT(AU11,4),'PO List by Level'!$A$2:$D$68,2,FALSE))","v":"TBD"},{"$f":"IF(ISERROR(VLOOKUP(LEFT(AV11,4),'PO List by Level'!$A$2:$D$68,2,FALSE)),IF(ISERROR(VLOOKUP(AV11,'PO List by Level'!$A$2:$D$68,2,FALSE)),\"TBD\",VLOOKUP(AV11,'PO List by Level'!$A$2:$D$68,2,FALSE)),VLOOKUP(LEFT(AV11,4),'PO List by Level'!$A$2:$D$68,2,FALSE))","v":"TBD"}]
[null,null,"Instructor",{"$nulls":34},"Virtual"]
[null,null,"Location",{"$nulls":34},"Mess Dinner"]
[{"$f":"'Unit Info'!G3","v":"Level 2"},1,"PO/EO","Admin Night",null,"M207.01","M230.01","M203.05","M231.03","M203.06","M232.01","M260.02","M231.04","M240.02","M260.01","M240.03","M203.02","Party - C","Christmas","Christmas","M203.04","M207.04","M232.02","M231.05","M208.01","M270.01","M203.07","M232.03","C203.03","M270.02","March Break","M203.08","C203.06","MX04.03","M270.03","C240.03","M232.04","MX20.01D","C231.02","C240.05","C232.03","CX04.04","ACR Prep"]
[null,null,"Subject",{"$f":"IF(ISERROR(VLOOKUP(LEFT(D15,4),'PO List by Level'!$E$2:$H$70,2,FALSE)),IF(ISERROR(VLOOKUP(D15,'PO List by Level'!$E$2:$H$70,2,FALSE)),\"TBD\",VLOOKUP(D15,'PO List by Level'!$E$2:$H$70,2,FALSE)),VLOOKUP(LEFT(D15,4),'PO List by Level'!$E$2:$H$70,2,FALSE))","v":"TBD"},{"$f":"IF(ISERROR(VLOOKUP(LEFT(E15,4),'PO List by Level'!$E$2:$H$70,2,FALSE)),IF(ISERROR(VLOOKUP(E15,'PO List by Level'!$E$2:$H$70,2,FALSE)),\"TBD\",VLOOKUP(E15,'PO List by Level'!$E$2:$H$70,2,FALSE)),VLOOKUP(LEFT(E15,4),'PO List by Level'!$E$2:$H$70,2,FALSE))","v":"TBD"},{"$f":"IF(ISERROR(VLOOKUP(LEFT(F15,4),'PO List by Level'!$E$2:$H$70,2,FALSE)),IF(ISERROR(VLOOKUP(F15,'PO List by Level'!$E$2:$H$70,2,FALSE)),\"TBD\",VLOOKUP(F15,'PO List by Level'!$E$2:$H$70,2,FALSE)),VLOOKUP(LEFT(F15,4),'PO List by Level'!$E$2:$H$70,2,FALSE))","v":"General Cadet Knowledge"},{"$f":"IF(ISERROR(VLOOKUP(LEFT(G15,4),'PO List by Level'!$E$2:$H$70,2,FALSE)),IF(ISERROR(VLOOKUP(G15,'PO List by Level'!$E$2:$H$70,2,FALSE)),\"TBD\",VLOOKUP(G15,'PO List by Level'!$E$2:$H$70,2,FALSE)),VLOOKUP(LEFT(G15,4),'PO List by Level'!$E$2:$H$70,2,FALSE))","v":"Aviation"},{"$f":"IF(ISERROR(VLOOKUP(LEFT(H15,4),'PO List by Level'!$E$2:$H$70,2,FALSE)),IF(ISERROR(VLOOKUP(H15,'PO List by Level'!$E$2:$H$70,2,FALSE)),\"TBD\",VLOOKUP(H15,'PO List by Level'!$E$2:$H$70,2,FALSE)),VLOOKUP(LEFT(H15,4),'PO List by Level'!$E$2:$H$70,2,FALSE))","v":"Leadership"},{"$f":"IF(ISERROR(VLOOKUP(LEFT(I15,4),'PO List by Level'!$E$2:$H$70,2,FALSE)),IF(ISERROR(VLOOKUP(I15,'PO List by Level'!$E$2:$H$70,2,FALSE)),\"TBD\",VLOOKUP(I15,'PO List by Level'!$E$2:$H$70,2,FALSE)),VLOOKUP(LEFT(I15,4),'PO List by Level'!$E$2:$H$70,2,FALSE))","v":"Principles of Flight"},{"$f":"IF(ISERROR(VLOOKUP(LEFT(J15,4),'PO List by Level'!$E$2:$H$70,2,FALSE)),IF(ISERROR(VLOOKUP(J15,'PO List by Level'!$E$2:$H$70,2,FALSE)),\"TBD\",VLOOKUP(J15,'PO List by Level'!$E$2:$H$70,2,FALSE)),VLOOKUP(LEFT(J15,4),'PO List by Level'!$E$2:$H$70,2,FALSE))","v":"Leadership"},{"$f":"IF(ISERROR(VLOOKUP(LEFT(K15,4),'PO List by Level'!$E$2:$H$70,2,FALSE)),IF(ISERROR(VLOOKUP(K15,'PO List by Level'!$E$2:$H$70,2,FALSE)),\"TBD\",VLOOKUP(K15,'PO List by Level'!$E$2:$H$70,2,FALSE)),VLOOKUP(LEFT(K15,4),'PO List by Level'!$E$2:$H$70,2,FALSE))","v":"Propulsion"},{"$f":"IF(ISERROR(VLOOKUP(LEFT(L15,4),'PO List by Level'!$E$2:$H$70,2,FALSE)),IF(ISERROR(VLOOKUP(L15,'PO List by Level'!$E$2:$H$70,2,FALSE)),\"TBD\",VLOOKUP(L15,'PO List by Level'!$E$2:$H$70,2,FALSE)),VLOOKUP(LEFT(L15,4),'PO List by Level'!$E$2:$H$70,2,FALSE))","v":"Aerodrome Operations"},{"$f":"IF(ISERROR(VLOOKUP(LEFT(M15,4),'PO List by Level'!$E$2:$H$70,2,FALSE)),IF(ISERROR(VLOOKUP(M15,'PO List by Level'!$E$2:$H$70,2,FALSE)),\"TBD\",VLOOKUP(M15,'PO List by Level'!$E$2:$H$70,2,FALSE)),VLOOKUP(LEFT(M15,4),'PO List by Level'!$E$2:$H$70,2,FALSE))","v":"Principles of Flight"},{"$f":"IF(ISERROR(VLOOKUP(LEFT(N15,4),'PO List by Level'!$E$2:$H$70,2,FALSE)),IF(ISERROR(VLOOKUP(N15,'PO List by Level'!$E$2:$H$70,2,FALSE)),\"TBD\",VLOOKUP(N15,'PO List by Level'!$E$2:$H$70,2,FALSE)),VLOOKUP(LEFT(N15,4),'PO List by Level'!$E$2:$H$70,2,FALSE))","v":"Aerospace"},{"$f":"IF(ISERROR(VLOOKUP(LEFT(O15,4),'PO List by Level'!$E$2:$H$70,2,FALSE)),IF(ISERROR(VLOOKUP(O15,'PO List by Level'!$E$2:$H$70,2,FALSE)),\"TBD\",VLOOKUP(O15,'PO List by Level'!$E$2:$H$70,2,FALSE)),VLOOKUP(LEFT(O15,4),'PO List by Level'!$E$2:$H$70,2,FALSE))","v":"Aerodrome Operations"},{"$f":"IF(ISERROR(VLOOKUP(LEFT(P15,4),'PO List by Level'!$E$2:$H$70,2,FALSE)),IF(ISERROR(VLOOKUP(P15,'PO List by Level'!$E$2:$H$70,2,FALSE)),\"TBD\",VLOOKUP(P15,'PO List by Level'!$E$2:$H$70,2,FALSE)),VLOOKUP(LEFT(P15,4),'PO List by Level'!$E$2:$H$70,2,FALSE))","v":"Aerospace"},{"$f":"IF(ISERROR(VLOOKUP(LEFT(Q15,4),'PO List by Level'!$E$2:$H$70,2,FALSE)),IF(ISERROR(VLOOKUP(Q15,'PO List by Level'!$E$2:$H$70,2,FALSE)),\"TBD\",VLOOKUP(Q15,'PO List by Level'!$E$2:$H$70,2,FALSE)),VLOOKUP(LEFT(Q15,4),'PO List by Level'!$E$2:$H$70,2,FALSE))","v":"Leadership"},{"$f":"IF(ISERROR(VLOOKUP(LEFT(R15,4),'PO List by Level'!$E$2:$H$70,2,FALSE)),IF(ISERROR(VLOOKUP(R15,'PO List by Level'!$E$2:$H$70,2,FALSE)),\"TBD\",VLOOKUP(R15,'PO List by Level'!$E$2:$H$70,2,FALSE)),VLOOKUP(LEFT(R15,4),'PO List by Level'!$E$2:$H$70,2,FALSE))","v":"Christmas Party"},{"$f":"IF(ISERROR(VLOOKUP(LEFT(S15,4),'PO List by Level'!$E$2:$H$70,2,FALSE)),IF(ISERROR(VLOOKUP(S15,'PO List by Level'!$E$2:$H$70,2,FALSE)),\"TBD\",VLOOKUP(S15,'PO List by Level'!$E$2:$H$70,2,FALSE)),VLOOKUP(LEFT(S15,4),'PO List by Level'!$E$2:$H$70,2,FALSE))","v":"Xmas Break"},{"$f":"IF(ISERROR(VLOOKUP(LEFT(T15,4),'PO List by Level'!$E$2:$H$70,2,FALSE)),IF(ISERROR(VLOOKUP(T15,'PO List by Level'!$E$2:$H$70,2,FALSE)),\"TBD\",VLOOKUP(T15,'PO List by Level'!$E$2:$H$70,2,FALSE)),VLOOKUP(LEFT(T15,4),'PO List by Level'!$E$2:$H$70,2,FALSE))","v":"Xmas Break"},{"$f":"IF(ISERROR(VLOOKUP(LEFT(U15,4),'PO List by Level'!$E$2:$H$70,2,FALSE)),IF(ISERROR(VLOOKUP(U15,'PO List by Level'!$E$2:$H$70,2,FALSE)),\"TBD\",VLOOKUP(U15,'PO List by Level'!$E$2:$H$70,2,FALSE)),VLOOKUP(LEFT(U15,4),'PO List by Level'!$E$2:$H$70,2,FALSE))","v":"Leadership"},{"$f":"IF(ISERROR(VLOOKUP(LEFT(V15,4),'PO List by Level'!$E$2:$H$70,2,FALSE)),IF(ISERROR(VLOOKUP(V15,'PO List by Level'!$E$2:$H$70,2,FALSE)),\"TBD\",VLOOKUP(V15,'PO List by Level'!$E$2:$H$70,2,FALSE)),VLOOKUP(LEFT(V15,4),'PO List by Level'!$E$2:$H$70,2,FALSE))","v":"General Cadet Knowledge"},{"$f":"IF(ISERROR(VLOOKUP(LEFT(W15,4),'PO List by Level'!$E$2:$H$70,2,FALSE)),IF(ISERROR(VLOOKUP(W15,'PO List by Level'!$E$2:$H$70,2,FALSE)),\"TBD\",VLOOKUP(W15,'PO List by Level'!$E$2:$H$70,2,FALSE)),VLOOKUP(LEFT(W15,4),'PO List by Level'!$E$2:$H$70,2,FALSE))","v":"Propulsion"},{"$f":"IF(ISERROR(VLOOKUP(LEFT(X15,4),'PO List by Level'!$E$2:$H$70,2,FALSE)),IF(ISERROR(VLOOKUP(X15,'PO List by Level'!$E$2:$H$70,2,FALSE)),\"TBD\",VLOOKUP(X15,'PO List by Level'!$E$2:$H$70,2,FALSE)),VLOOKUP(LEFT(X15,4),'PO List by Level'!$E$2:$H$70,2,FALSE))","v":"Principles of Flight"},{"$f":"IF(ISERROR(VLOOKUP(LEFT(Y15,4),'PO List by Level'!$E$2:$H$70,2,FALSE)),IF(ISERROR(VLOOKUP(Y15,'PO List by Level'!$E$2:$H$70,2,FALSE)),\"TBD\",VLOOKUP(Y15,'PO List by Level'!$E$2:$H$70,2,FALSE)),VLOOKUP(LEFT(Y15,4),'PO List by Level'!$E$2:$H$70,2,FALSE))","v":"Drill and Ceremonial"},{"$f":"IF(ISERROR(VLOOKUP(LEFT(Z15,4),'PO List by Level'!$E$2:$H$70,2,FALSE)),IF(ISERROR(VLOOKUP(Z15,'PO List by Level'!$E$2:$H$70,2,FALSE)),\"TBD\",VLOOKUP(Z15,'PO List by Level'!$E$2:$H$70,2,FALSE)),VLOOKUP(LEFT(Z15,4),'PO List by Level'!$E$2:$H$70,2,FALSE))","v":"Aircraft Manufacturing and Maintenance"},{"$f":"IF(ISERROR(VLOOKUP(LEFT(AA15,4),'PO List by Level'!$E$2:$H$70,2,FALSE)),IF(ISERROR(VLOOKUP(AA15,'PO List by Level'!$E$2:$H$70,2,FALSE)),\"TBD\",VLOOKUP(AA15,'PO List by Level'!$E$2:$H$70,2,FALSE)),VLOOKUP(LEFT(AA15,4),'PO List by Level'!$E$2:$H$70,2,FALSE))","v":"Leadership"},{"$f":"IF(ISERROR(VLOOKUP(LEFT(AB15,4),'PO List by Level'!$E$2:$H$70,2,FALSE)),IF(ISERROR(VLOOKUP(AB15,'PO List by Level'!$E$2:$H$70,2,FALSE)),\"TBD\",VLOOKUP(AB15,'PO List by Level'!$E$2:$H$70,2,FALSE)),VLOOKUP(LEFT(AB15,4),'PO List by Level'!$E$2:$H$70,2,FALSE))","v":"Propulsion"},{"$f":"IF(ISERROR(VLOOKUP(LEFT(AC15,4),'PO List by Level'!$E$2:$H$70,2,FALSE)),IF(ISERROR(VLOOKUP(AC15,'PO List by Level'!$E$2:$H$70,2,FALSE)),\"TBD\",VLOOKUP(AC15,'PO List by Level'!$E$2:$H$70,2,FALSE)),VLOOKUP(LEFT(AC15,4),'PO List by Level'!$E$2:$H$70,2,FALSE))","v":"Leadership"},{"$f":"IF(ISERROR(VLOOKUP(LEFT(AD15,4),'PO List by Level'!$E$2:$H$70,2,FALSE)),IF(ISERROR(VLOOKUP(AD15,'PO List by Level'!$E$2:$H$70,2,FALSE)),\"TBD\",VLOOKUP(AD15,'PO List by Level'!$E$2:$H$70,2,FALSE)),VLOOKUP(LEFT(AD15,4),'PO List by Level'!$E$2:$H$70,2,FALSE))","v":"Aircraft Manufacturing and Maintenance"},{"$f":"IF(ISERROR(VLOOKUP(LEFT(AE15,4),'PO List by Level'!$E$2:$H$70,2,FALSE)),IF(ISERROR(VLOOKUP(AE15,'PO List by Level'!$E$2:$H$70,2,FALSE)),\"TBD\",VLOOKUP(AE15,'PO List by Level'!$E$2:$H$70,2,FALSE)),VLOOKUP(LEFT(AE15,4),'PO List by Level'!$E$2:$H$70,2,FALSE))","v":"Break"},{"$f":"IF(ISERROR(VLOOKUP(LEFT(AF15,4),'PO List by Level'!$E$2:$H$70,2,FALSE)),IF(ISERROR(VLOOKUP(AF15,'PO List by Level'!$E$2:$H$70,2,FALSE)),\"TBD\",VLOOKUP(AF15,'PO List by Level'!$E$2:$H$70,2,FALSE)),VLOOKUP(LEFT(AF15,4),'PO List by Level'!$E$2:$H$70,2,FALSE))","v":"Leadership"},{"$f":"IF(ISERROR(VLOOKUP(LEFT(AG15,4),'PO List by Level'!$E$2:$H$70,2,FALSE)),IF(ISERROR(VLOOKUP(AG15,'PO List by Level'!$E$2:$H$70,2,FALSE)),\"TBD\",VLOOKUP(AG15,'PO List by Level'!$E$2:$H$70,2,FALSE)),VLOOKUP(LEFT(AG15,4),'PO List by Level'!$E$2:$H$70,2,FALSE))","v":"Leadership"},{"$f":"IF(ISERROR(VLOOKUP(LEFT(AH15,4),'PO List by Level'!$E$2:$H$70,2,FALSE)),IF(ISERROR(VLOOKUP(AH15,'PO List by Level'!$E$2:$H$70,2,FALSE)),\"TBD\",VLOOKUP(AH15,'PO List by Level'!$E$2:$H$70,2,FALSE)),VLOOKUP(LEFT(AH15,4),'PO List by Level'!$E$2:$H$70,2,FALSE))","v":"Personal Fitness and Healthy Living"},{"$f":"IF(ISERROR(VLOOKUP(LEFT(AI15,4),'PO List by Level'!$E$2:$H$70,2,FALSE)),IF(ISERROR(VLOOKUP(AI15,'PO List by Level'!$E$2:$H$70,2,FALSE)),\"TBD\",VLOOKUP(AI15,'PO List by Level'!$E$2:$H$70,2,FALSE)),VLOOKUP(LEFT(AI15,4),'PO List by Level'!$E$2:$H$70,2,FALSE))","v":"Aircraft Manufacturing and Maintenance"},{"$f":"IF(ISERROR(VLOOKUP(LEFT(AJ15,4),'PO List by Level'!$E$2:$H$70,2,FALSE)),IF(ISERROR(VLOOKUP(AJ15,'PO List by Level'!$E$2:$H$70,2,FALSE)),\"TBD\",VLOOKUP(AJ15,'PO List by Level'!$E$2:$H$70,2,FALSE)),VLOOKUP(LEFT(AJ15,4),'PO List by Level'!$E$2:$H$70,2,FALSE))","v":"Aerospace"},{"$f":"IF(ISERROR(VLOOKUP(LEFT(AK15,4),'PO List by Level'!$E$2:$H$70,2,FALSE)),IF(ISERROR(VLOOKUP(AK15,'PO List by Level'!$E$2:$H$70,2,FALSE)),\"TBD\",VLOOKUP(AK15,'PO List by Level'!$E$2:$H$70,2,FALSE)),VLOOKUP(LEFT(AK15,4),'PO List by Level'!$E$2:$H$70,2,FALSE))","v":"Propulsion"},{"$f":"IF(ISERROR(VLOOKUP(LEFT(AL15,4),'PO List by Level'!$E$2:$H$70,2,FALSE)),IF(ISERROR(VLOOKUP(AL15,'PO List by Level'!$E$2:$H$70,2,FALSE)),\"TBD\",VLOOKUP(AL15,'PO List by Level'!$E$2:$H$70,2,FALSE)),VLOOKUP(LEFT(AL15,4),'PO List by Level'!$E$2:$H$70,2,FALSE))","v":"CAF Familiarization"},{"$f":"IF(ISERROR(VLOOKUP(LEFT(AM15,4),'PO List by Level'!$E$2:$H$70,2,FALSE)),IF(ISERROR(VLOOKUP(AM15,'PO List by Level'!$E$2:$H$70,2,FALSE)),\"TBD\",VLOOKUP(AM15,'PO List by Level'!$E$2:$H$70,2,FALSE)),VLOOKUP(LEFT(AM15,4),'PO List by Level'!$E$2:$H$70,2,FALSE))","v":"Principles of Flight"},{"$f":"IF(ISERROR(VLOOKUP(LEFT(AN15,4),'PO List by Level'!$E$2:$H$70,2,FALSE)),IF(ISERROR(VLOOKUP(AN15,'PO List by Level'!$E$2:$H$70,2,FALSE)),\"TBD\",VLOOKUP(AN15,'PO List by Level'!$E$2:$H$70,2,FALSE)),VLOOKUP(LEFT(AN15,4),'PO List by Level'!$E$2:$H$70,2,FALSE))","v":"Aerospace"},{"$f":"IF(ISERROR(VLOOKUP(LEFT(AO15,4),'PO List by Level'!$E$2:$H$70,2,FALSE)),IF(ISERROR(VLOOKUP(AO15,'PO List by Level'!$E$2:$H$70,2,FALSE)),\"TBD\",VLOOKUP(AO15,'PO List by Level'!$E$2:$H$70,2,FALSE)),VLOOKUP(LEFT(AO15,4),'PO List by Level'!$E$2:$H$70,2,FALSE))","v":"Propulsion"},{"$f":"IF(ISERROR(VLOOKUP(LEFT(AP15,4),'PO List by Level'!$E$2:$H$70,2,FALSE)),IF(ISERROR(VLOOKUP(AP15,'PO List by Level'!$E$2:$H$70,2,FALSE)),\"TBD\",VLOOKUP(AP15,'PO List by Level'!$E$2:$H$70,2,FALSE)),VLOOKUP(LEFT(AP15,4),'PO List by Level'!$E$2:$H$70,2,FALSE))","v":"Personal Fitness and Healthy Living"},{"$f":"IF(ISERROR(VLOOKUP(LEFT(AQ15,4),'PO List by Level'!$E$2:$H$70,2,FALSE)),IF(ISERROR(VLOOKUP(AQ15,'PO List by Level'!$E$2:$H$70,2,FALSE)),\"TBD\",VLOOKUP(AQ15,'PO List by Level'!$E$2:$H$70,2,FALSE)),VLOOKUP(LEFT(AQ15,4),'PO List by Level'!$E$2:$H$70,2,FALSE))","v":"ACR Practice"},{"$f":"IF(ISERROR(VLOOKUP(LEFT(AR15,4),'PO List by Level'!$E$2:$H$70,2,FALSE)),IF(ISERROR(VLOOKUP(AR15,'PO List by Level'!$E$2:$H$70,2,FALSE)),\"TBD\",VLOOKUP(AR15,'PO List by Level'!$E$2:$H$70,2,FALSE)),VLOOKUP(LEFT(AR15,4),'PO List by Level'!$E$2:$H$70,2,FALSE))","v":"TBD"},{"$f":"IF(ISERROR(VLOOKUP(LEFT(AS15,4),'PO List by Level'!$E$2:$H$70,2,FALSE)),IF(ISERROR(VLOOKUP(AS15,'PO List by Level'!$E$2:$H$70,2,FALSE)),\"TBD\",VLOOKUP(AS15,'PO List by Level'!$E$2:$H$70,2,FALSE)),VLOOKUP(LEFT(AS15,4),'PO List by Level'!$E$2:$H$70,2,FALSE))","v":"TBD"},{"$f":"IF(ISERROR(VLOOKUP(LEFT(AT15,4),'PO List by Level'!$E$2:$H$70,2,FALSE)),IF(ISERROR(VLOOKUP(AT15,'PO List by Level'!$E$2:$H$70,2,FALSE)),\"TBD\",VLOOKUP(AT15,'PO List by Level'!$E$2:$H$70,2,FALSE)),VLOOKUP(LEFT(AT15,4),'PO List by Level'!$E$2:$H$70,2,FALSE))","v":"TBD"},{"$f":"IF(ISERROR(VLOOKUP(LEFT(AU15,4),'PO List by Level'!$E$2:$H$70,2,FALSE)),IF(ISERROR(VLOOKUP(AU15,'PO List by Level'!$E$2:$H$70,2,FALSE)),\"TBD\",VLOOKUP(AU15,'PO List by Level'!$E$2:$H$70,2,FALSE)),VLOOKUP(LEFT(AU15,4),'PO List by Level'!$E$2:$H$70,2,FALSE))","v":"TBD"},{"$f":"IF(ISERROR(VLOOKUP(LEFT(AV15,4),'PO List by Level'!$E$2:$H$70,2,FALSE)),IF(ISERROR(VLOOKUP(AV15,'PO List by Level'!$E$2:$H$70,2,FALSE)),\"TBD\",VLOOKUP(AV15,'PO List by Level'!$E$2:$H$70,2,FALSE)),VLOOKUP(LEFT(AV15,4),'PO List by Level'!$E$2:$H$70,2,FALSE))","v":"TBD"}]
[null,null,"Instructor",null,null,"Virtual","Virtual","Virtual","N. Hangar","Virtual","Virtual","Virtual",null,"Virtual",null,"Virtual",null,"Virtual",null,null,"Sgt Pang","Sgt Korusenge","FSgt Al-Maghazachi","FSgt Vaupotic","Sgt Korusenge","Sgt Unnithan","Sgt Hoang (L4)","FSgt Filipowitz","FSgt Diaz","Sgt Unnithan",null,"FSgt Vaupotic","FSgt Irfan",null,null,"FSgt Vaupotic",null,"Virtual",{"$nulls":3},"Guest Speaker"]
[null,null,"Location",null,null,"FSgt Jasey","FSgt Al-Maghazachi","FSgt Filipowitz","Sgt Unnithan","FSgt Diaz","FSgt Filipowitz","FSgt Irfan","Sgt Unnithan","FSgt Froese","FSgt Jasey","WO2 Muscat","Sgt Accetta",{"$nulls":20},"Mess Dinner"]
[null,2,"PO/EO",null,null,"M231.01","M231.01","M231.02","M231.03","M203.06","M207.02","M240.01","M203.01","M240.02","M230.02","M207.03","M203.03","Party - C","Christmas","Christmas","M203.04","C260.04","M232.02","M231.05","M208.01","M270.01","C207.01","M232.03","C203.03","M270.02","March Break","M208.02","C203.06","MX04.03","M270.03","C203.05","C230.03","MX20.01D","C231.02","C240.05","C232.03","CX04.04","ACR Prep"]
[null,null,"Subject",{"$f":"IF(ISERROR(VLOOKUP(LEFT(D19,4),'PO List by Level'!$E$2:$H$70,2,FALSE)),IF(ISERROR(VLOOKUP(D19,'PO List by Level'!$E$2:$H$70,2,FALSE)),\"TBD\",VLOOKUP(D19,'PO List by Level'!$E$2:$H$70,2,FALSE)),VLOOKUP(LEFT(D19,4),'PO List by Level'!$E$2:$H$70,2,FALSE))","v":"TBD"},{"$f":"IF(ISERROR(VLOOKUP(LEFT(E19,4),'PO List by Level'!$E$2:$H$70,2,FALSE)),IF(ISERROR(VLOOKUP(E19,'PO List by Level'!$E$2:$H$70,2,FALSE)),\"TBD\",VLOOKUP(E19,'PO List by Level'!$E$2:$H$70,2,FALSE)),VLOOKUP(LEFT(E19,4),'PO List by Level'!$E$2:$H$70,2,FALSE))","v":"TBD"},{"$f":"IF(ISERROR(VLOOKUP(LEFT(F19,4),'PO List by Level'!$E$2:$H$70,2,FALSE)),IF(ISERROR(VLOOKUP(F19,'PO List by Level'!$E$2:$H$70,2,FALSE)),\"TBD\",VLOOKUP(F19,'PO List by Level'!$E$2:$H$70,2,FALSE)),VLOOKUP(LEFT(F19,4),'PO List by Level'!$E$2:$H$70,2,FALSE))","v":"Principles of Flight"},{"$f":"IF(ISERROR(VLOOKUP(LEFT(G19,4),'PO List by Level'!$E$2:$H$70,2,FALSE)),IF(ISERROR(VLOOKUP(G19,'PO List by Level'!$E$2:$H$70,2,FALSE)),\"TBD\",VLOOKUP(G19,'PO List by Level'!$E$2:$H$70,2,FALSE)),VLOOKUP(LEFT(G19,4),'PO List by Level'!$E$2:$H$70,2,FALSE))","v":"Principles of Flight"},{"$f":"IF(ISERROR(VLOOKUP(LEFT(H19,4),'PO List by Level'!$E$2:$H$70,2,FALSE)),IF(ISERROR(VLOOKUP(H19,'PO List by Level'!$E$2:$H$70,2,FALSE)),\"TBD\",VLOOKUP(H19,'PO List by Level'!$E$2:$H$70,2,FALSE)),VLOOKUP(LEFT(H19,4),'PO List by Level'!$E$2:$H$70,2,FALSE))","v":"Principles of Flight"},{"$f":"IF(ISERROR(VLOOKUP(LEFT(I19,4),'PO List by Level'!$E$2:$H$70,2,FALSE)),IF(ISERROR(VLOOKUP(I19,'PO List by Level'!$E$2:$H$70,2,FALSE)),\"TBD\",VLOOKUP(I19,'PO List by Level'!$E$2:$H$70,2,FALSE)),VLOOKUP(LEFT(I19,4),'PO List by Level'!$E$2:$H$70,2,FALSE))","v":"Principles of Flight"},{"$f":"IF(ISERROR(VLOOKUP(LEFT(J19,4),'PO List by Level'!$E$2:$H$70,2,FALSE)),IF(ISERROR(VLOOKUP(J19,'PO List by Level'!$E$2:$H$70,2,FALSE)),\"TBD\",VLOOKUP(J19,'PO List by Level'!$E$2:$H$70,2,FALSE)),VLOOKUP(LEFT(J19,4),'PO List by Level'!$E$2:$H$70,2,FALSE))","v":"Leadership"},{"$f":"IF(ISERROR(VLOOKUP(LEFT(K19,4),'PO List by Level'!$E$2:$H$70,2,FALSE)),IF(ISERROR(VLOOKUP(K19,'PO List by Level'!$E$2:$H$70,2,FALSE)),\"TBD\",VLOOKUP(K19,'PO List by Level'!$E$2:$H$70,2,FALSE)),VLOOKUP(LEFT(K19,4),'PO List by Level'!$E$2:$H$70,2,FALSE))","v":"General Cadet Knowledge"},{"$f":"IF(ISERROR(VLOOKUP(LEFT(L19,4),'PO List by Level'!$E$2:$H$70,2,FALSE)),IF(ISERROR(VLOOKUP(L19,'PO List by Level'!$E$2:$H$70,2,FALSE)),\"TBD\",VLOOKUP(L19,'PO List by Level'!$E$2:$H$70,2,FALSE)),VLOOKUP(LEFT(L19,4),'PO List by Level'!$E$2:$H$70,2,FALSE))","v":"Aerospace"},{"$f":"IF(ISERROR(VLOOKUP(LEFT(M19,4),'PO List by Level'!$E$2:$H$70,2,FALSE)),IF(ISERROR(VLOOKUP(M19,'PO List by Level'!$E$2:$H$70,2,FALSE)),\"TBD\",VLOOKUP(M19,'PO List by Level'!$E$2:$H$70,2,FALSE)),VLOOKUP(LEFT(M19,4),'PO List by Level'!$E$2:$H$70,2,FALSE))","v":"Leadership"},{"$f":"IF(ISERROR(VLOOKUP(LEFT(N19,4),'PO List by Level'!$E$2:$H$70,2,FALSE)),IF(ISERROR(VLOOKUP(N19,'PO List by Level'!$E$2:$H$70,2,FALSE)),\"TBD\",VLOOKUP(N19,'PO List by Level'!$E$2:$H$70,2,FALSE)),VLOOKUP(LEFT(N19,4),'PO List by Level'!$E$2:$H$70,2,FALSE))","v":"Aerospace"},{"$f":"IF(ISERROR(VLOOKUP(LEFT(O19,4),'PO List by Level'!$E$2:$H$70,2,FALSE)),IF(ISERROR(VLOOKUP(O19,'PO List by Level'!$E$2:$H$70,2,FALSE)),\"TBD\",VLOOKUP(O19,'PO List by Level'!$E$2:$H$70,2,FALSE)),VLOOKUP(LEFT(O19,4),'PO List by Level'!$E$2:$H$70,2,FALSE))","v":"Aviation"},{"$f":"IF(ISERROR(VLOOKUP(LEFT(P19,4),'PO List by Level'!$E$2:$H$70,2,FALSE)),IF(ISERROR(VLOOKUP(P19,'PO List by Level'!$E$2:$H$70,2,FALSE)),\"TBD\",VLOOKUP(P19,'PO List by Level'!$E$2:$H$70,2,FALSE)),VLOOKUP(LEFT(P19,4),'PO List by Level'!$E$2:$H$70,2,FALSE))","v":"General Cadet Knowledge"},{"$f":"IF(ISERROR(VLOOKUP(LEFT(Q19,4),'PO List by Level'!$E$2:$H$70,2,FALSE)),IF(ISERROR(VLOOKUP(Q19,'PO List by Level'!$E$2:$H$70,2,FALSE)),\"TBD\",VLOOKUP(Q19,'PO List by Level'!$E$2:$H$70,2,FALSE)),VLOOKUP(LEFT(Q19,4),'PO List by Level'!$E$2:$H$70,2,FALSE))","v":"Leadership"},{"$f":"IF(ISERROR(VLOOKUP(LEFT(R19,4),'PO List by Level'!$E$2:$H$70,2,FALSE)),IF(ISERROR(VLOOKUP(R19,'PO List by Level'!$E$2:$H$70,2,FALSE)),\"TBD\",VLOOKUP(R19,'PO List by Level'!$E$2:$H$70,2,FALSE)),VLOOKUP(LEFT(R19,4),'PO List by Level'!$E$2:$H$70,2,FALSE))","v":"Christmas Party"},{"$f":"IF(ISERROR(VLOOKUP(LEFT(S19,4),'PO List by Level'!$E$2:$H$70,2,FALSE)),IF(ISERROR(VLOOKUP(S19,'PO List by Level'!$E$2:$H$70,2,FALSE)),\"TBD\",VLOOKUP(S19,'PO List by Level'!$E$2:$H$70,2,FALSE)),VLOOKUP(LEFT(S19,4),'PO List by Level'!$E$2:$H$70,2,FALSE))","v":"Xmas Break"},{"$f":"IF(ISERROR(VLOOKUP(LEFT(T19,4),'PO List by Level'!$E$2:$H$70,2,FALSE)),IF(ISERROR(VLOOKUP(T19,'PO List by Level'!$E$2:$H$70,2,FALSE)),\"TBD\",VLOOKUP(T19,'PO List by Level'!$E$2:$H$70,2,FALSE)),VLOOKUP(LEFT(T19,4),'PO List by Level'!$E$2:$H$70,2,FALSE))","v":"Xmas Break"},{"$f":"IF(ISERROR(VLOOKUP(LEFT(U19,4),'PO List by Level'!$E$2:$H$70,2,FALSE)),IF(ISERROR(VLOOKUP(U19,'PO List by Level'!$E$2:$H$70,2,FALSE)),\"TBD\",VLOOKUP(U19,'PO List by Level'!$E$2:$H$70,2,FALSE)),VLOOKUP(LEFT(U19,4),'PO List by Level'!$E$2:$H$70,2,FALSE))","v":"Leadership"},{"$f":"IF(ISERROR(VLOOKUP(LEFT(V19,4),'PO List by Level'!$E$2:$H$70,2,FALSE)),IF(ISERROR(VLOOKUP(V19,'PO List by Level'!$E$2:$H$70,2,FALSE)),\"TBD\",VLOOKUP(V19,'PO List by Level'!$E$2:$H$70,2,FALSE)),VLOOKUP(LEFT(V19,4),'PO List by Level'!$E$2:$H$70,2,FALSE))","v":"Aerodrome Operations"},{"$f":"IF(ISERROR(VLOOKUP(LEFT(W19,4),'PO List by Level'!$E$2:$H$70,2,FALSE)),IF(ISERROR(VLOOKUP(W19,'PO List by Level'!$E$2:$H$70,2,FALSE)),\"TBD\",VLOOKUP(W19,'PO List by Level'!$E$2:$H$70,2,FALSE)),VLOOKUP(LEFT(W19,4),'PO List by Level'!$E$2:$H$70,2,FALSE))","v":"Propulsion"},{"$f":"IF(ISERROR(VLOOKUP(LEFT(X19,4),'PO List by Level'!$E$2:$H$70,2,FALSE)),IF(ISERROR(VLOOKUP(X19,'PO List by Level'!$E$2:$H$70,2,FALSE)),\"TBD\",VLOOKUP(X19,'PO List by Level'!$E$2:$H$70,2,FALSE)),VLOOKUP(LEFT(X19,4),'PO List by Level'!$E$2:$H$70,2,FALSE))","v":"Principles of Flight"},{"$f":"IF(ISERROR(VLOOKUP(LEFT(Y19,4),'PO List by Level'!$E$2:$H$70,2,FALSE)),IF(ISERROR(VLOOKUP(Y19,'PO List by Level'!$E$2:$H$70,2,FALSE)),\"TBD\",VLOOKUP(Y19,'PO List by Level'!$E$2:$H$70,2,FALSE)),VLOOKUP(LEFT(Y19,4),'PO List by Level'!$E$2:$H$70,2,FALSE))","v":"Drill and Ceremonial"},{"$f":"IF(ISERROR(VLOOKUP(LEFT(Z19,4),'PO List by Level'!$E$2:$H$70,2,FALSE)),IF(ISERROR(VLOOKUP(Z19,'PO List by Level'!$E$2:$H$70,2,FALSE)),\"TBD\",VLOOKUP(Z19,'PO List by Level'!$E$2:$H$70,2,FALSE)),VLOOKUP(LEFT(Z19,4),'PO List by Level'!$E$2:$H$70,2,FALSE))","v":"Aircraft Manufacturing and Maintenance"},{"$f":"IF(ISERROR(VLOOKUP(LEFT(AA19,4),'PO List by Level'!$E$2:$H$70,2,FALSE)),IF(ISERROR(VLOOKUP(AA19,'PO List by Level'!$E$2:$H$70,2,FALSE)),\"TBD\",VLOOKUP(AA19,'PO List by Level'!$E$2:$H$70,2,FALSE)),VLOOKUP(LEFT(AA19,4),'PO List by Level'!$E$2:$H$70,2,FALSE))","v":"General Cadet Knowledge"},{"$f":"IF(ISERROR(VLOOKUP(LEFT(AB19,4),'PO List by Level'!$E$2:$H$70,2,FALSE)),IF(ISERROR(VLOOKUP(AB19,'PO List by Level'!$E$2:$H$70,2,FALSE)),\"TBD\",VLOOKUP(AB19,'PO List by Level'!$E$2:$H$70,2,FALSE)),VLOOKUP(LEFT(AB19,4),'PO List by Level'!$E$2:$H$70,2,FALSE))","v":"Propulsion"},{"$f":"IF(ISERROR(VLOOKUP(LEFT(AC19,4),'PO List by Level'!$E$2:$H$70,2,FALSE)),IF(ISERROR(VLOOKUP(AC19,'PO List by Level'!$E$2:$H$70,2,FALSE)),\"TBD\",VLOOKUP(AC19,'PO List by Level'!$E$2:$H$70,2,FALSE)),VLOOKUP(LEFT(AC19,4),'PO List by Level'!$E$2:$H$70,2,FALSE))","v":"Leadership"},{"$f":"IF(ISERROR(VLOOKUP(LEFT(AD19,4),'PO List by Level'!$E$2:$H$70,2,FALSE)),IF(ISERROR(VLOOKUP(AD19,'PO List by Level'!$E$2:$H$70,2,FALSE)),\"TBD\",VLOOKUP(AD19,'PO List by Level'!$E$2:$H$70,2,FALSE)),VLOOKUP(LEFT(AD19,4),'PO List by Level'!$E$2:$H$70,2,FALSE))","v":"Aircraft Manufacturing and Maintenance"},{"$f":"IF(ISERROR(VLOOKUP(LEFT(AE19,4),'PO List by Level'!$E$2:$H$70,2,FALSE)),IF(ISERROR(VLOOKUP(AE19,'PO List by Level'!$E$2:$H$70,2,FALSE)),\"TBD\",VLOOKUP(AE19,'PO List by Level'!$E$2:$H$70,2,FALSE)),VLOOKUP(LEFT(AE19,4),'PO List by Level'!$E$2:$H$70,2,FALSE))","v":"Break"},{"$f":"IF(ISERROR(VLOOKUP(LEFT(AF19,4),'PO List by Level'!$E$2:$H$70,2,FALSE)),IF(ISERROR(VLOOKUP(AF19,'PO List by Level'!$E$2:$H$70,2,FALSE)),\"TBD\",VLOOKUP(AF19,'PO List by Level'!$E$2:$H$70,2,FALSE)),VLOOKUP(LEFT(AF19,4),'PO List by Level'!$E$2:$H$70,2,FALSE))","v":"Drill and Ceremonial"},{"$f":"IF(ISERROR(VLOOKUP(LEFT(AG19,4),'PO List by Level'!$E$2:$H$70,2,FALSE)),IF(ISERROR(VLOOKUP(AG19,'PO List by Level'!$E$2:$H$70,2,FALSE)),\"TBD\",VLOOKUP(AG19,'PO List by Level'!$E$2:$H$70,2,FALSE)),VLOOKUP(LEFT(AG19,4),'PO List by Level'!$E$2:$H$70,2,FALSE))","v":"Leadership"},{"$f":"IF(ISERROR(VLOOKUP(LEFT(AH19,4),'PO List by Level'!$E$2:$H$70,2,FALSE)),IF(ISERROR(VLOOKUP(AH19,'PO List by Level'!$E$2:$H$70,2,FALSE)),\"TBD\",VLOOKUP(AH19,'PO List by Level'!$E$2:$H$70,2,FALSE)),VLOOKUP(LEFT(AH19,4),'PO List by Level'!$E$2:$H$70,2,FALSE))","v":"Personal Fitness and Healthy Living"},{"$f":"IF(ISERROR(VLOOKUP(LEFT(AI19,4),'PO List by Level'!$E$2:$H$70,2,FALSE)),IF(ISERROR(VLOOKUP(AI19,'PO List by Level'!$E$2:$H$70,2,FALSE)),\"TBD\",VLOOKUP(AI19,'PO List by Level'!$E$2:$H$70,2,FALSE)),VLOOKUP(LEFT(AI19,4),'PO List by Level'!$E$2:$H$70,2,FALSE))","v":"Aircraft Manufacturing and Maintenance"},{"$f":"IF(ISERROR(VLOOKUP(LEFT(AJ19,4),'PO List by Level'!$E$2:$H$70,2,FALSE)),IF(ISERROR(VLOOKUP(AJ19,'PO List by Level'!$E$2:$H$70,2,FALSE)),\"TBD\",VLOOKUP(AJ19,'PO List by Level'!$E$2:$H$70,2,FALSE)),VLOOKUP(LEFT(AJ19,4),'PO List by Level'!$E$2:$H$70,2,FALSE))","v":"Leadership"},{"$f":"IF(ISERROR(VLOOKUP(LEFT(AK19,4),'PO List by Level'!$E$2:$H$70,2,FALSE)),IF(ISERROR(VLOOKUP(AK19,'PO List by Level'!$E$2:$H$70,2,FALSE)),\"TBD\",VLOOKUP(AK19,'PO List by Level'!$E$2:$H$70,2,FALSE)),VLOOKUP(LEFT(AK19,4),'PO List by Level'!$E$2:$H$70,2,FALSE))","v":"Aviation"},{"$f":"IF(ISERROR(VLOOKUP(LEFT(AL19,4),'PO List by Level'!$E$2:$H$70,2,FALSE)),IF(ISERROR(VLOOKUP(AL19,'PO List by Level'!$E$2:$H$70,2,FALSE)),\"TBD\",VLOOKUP(AL19,'PO List by Level'!$E$2:$H$70,2,FALSE)),VLOOKUP(LEFT(AL19,4),'PO List by Level'!$E$2:$H$70,2,FALSE))","v":"CAF Familiarization"},{"$f":"IF(ISERROR(VLOOKUP(LEFT(AM19,4),'PO List by Level'!$E$2:$H$70,2,FALSE)),IF(ISERROR(VLOOKUP(AM19,'PO List by Level'!$E$2:$H$70,2,FALSE)),\"TBD\",VLOOKUP(AM19,'PO List by Level'!$E$2:$H$70,2,FALSE)),VLOOKUP(LEFT(AM19,4),'PO List by Level'!$E$2:$H$70,2,FALSE))","v":"Principles of Flight"},{"$f":"IF(ISERROR(VLOOKUP(LEFT(AN19,4),'PO List by Level'!$E$2:$H$70,2,FALSE)),IF(ISERROR(VLOOKUP(AN19,'PO List by Level'!$E$2:$H$70,2,FALSE)),\"TBD\",VLOOKUP(AN19,'PO List by Level'!$E$2:$H$70,2,FALSE)),VLOOKUP(LEFT(AN19,4),'PO List by Level'!$E$2:$H$70,2,FALSE))","v":"Aerospace"},{"$f":"IF(ISERROR(VLOOKUP(LEFT(AO19,4),'PO List by Level'!$E$2:$H$70,2,FALSE)),IF(ISERROR(VLOOKUP(AO19,'PO List by Level'!$E$2:$H$70,2,FALSE)),\"TBD\",VLOOKUP(AO19,'PO List by Level'!$E$2:$H$70,2,FALSE)),VLOOKUP(LEFT(AO19,4),'PO List by Level'!$E$2:$H$70,2,FALSE))","v":"Propulsion"},{"$f":"IF(ISERROR(VLOOKUP(LEFT(AP19,4),'PO List by Level'!$E$2:$H$70,2,FALSE)),IF(ISERROR(VLOOKUP(AP19,'PO List by Level'!$E$2:$H$70,2,FALSE)),\"TBD\",VLOOKUP(AP19,'PO List by Level'!$E$2:$H$70,2,FALSE)),VLOOKUP(LEFT(AP19,4),'PO List by Level'!$E$2:$H$70,2,FALSE))","v":"Personal Fitness and Healthy Living"},{"$f":"IF(ISERROR(VLOOKUP(LEFT(AQ19,4),'PO List by Level'!$E$2:$H$70,2,FALSE)),IF(ISERROR(VLOOKUP(AQ19,'PO List by Level'!$E$2:$H$70,2,FALSE)),\"TBD\",VLOOKUP(AQ19,'PO List by Level'!$E$2:$H$70,2,FALSE)),VLOOKUP(LEFT(AQ19,4),'PO List by Level'!$E$2:$H$70,2,FALSE))","v":"ACR Practice"},{"$f":"IF(ISERROR(VLOOKUP(LEFT(AR19,4),'PO List by Level'!$E$2:$H$70,2,FALSE)),IF(ISERROR(VLOOKUP(AR19,'PO List by Level'!$E$2:$H$70,2,FALSE)),\"TBD\",VLOOKUP(AR19,'PO List by Level'!$E$2:$H$70,2,FALSE)),VLOOKUP(LEFT(AR19,4),'PO List by Level'!$E$2:$H$70,2,FALSE))","v":"TBD"},{"$f":"IF(ISERROR(VLOOKUP(LEFT(AS19,4),'PO List by Level'!$E$2:$H$70,2,FALSE)),IF(ISERROR(VLOOKUP(AS19,'PO List by Level'!$E$2:$H$70,2,FALSE)),\"TBD\",VLOOKUP(AS19,'PO List by Level'!$E$2:$H$70,2,FALSE)),VLOOKUP(LEFT(AS19,4),'PO List by Level'!$E$2:$H$70,2,FALSE))","v":"TBD"},{"$f":"IF(ISERROR(VLOOKUP(LEFT(AT19,4),'PO List by Level'!$E$2:$H$70,2,FALSE)),IF(ISERROR(VLOOKUP(AT19,'PO List by Level'!$E$2:$H$70,2,FALSE)),\"TBD\",VLOOKUP(AT19,'PO List by Level'!$E$2:$H$70,2,FALSE)),VLOOKUP(LEFT(AT19,4),'PO List by Level'!$E$2:$H$70,2,FALSE))","v":"TBD"},{"$f":"IF(ISERROR(VLOOKUP(LEFT(AU19,4),'PO List by Level'!$E$2:$H$70,2,FALSE)),IF(ISERROR(VLOOKUP(AU19,'PO List by Level'!$E$2:$H$70,2,FALSE)),\"TBD\",VLOOKUP(AU19,'PO List by Level'!$E$2:$H$70,2,FALSE)),VLOOKUP(LEFT(AU19,4),'PO List by Level'!$E$2:$H$70,2,FALSE))","v":"TBD"},{"$f":"IF(ISERROR(VLOOKUP(LEFT(AV19,4),'PO List by Level'!$E$2:$H$70,2,FALSE)),IF(ISERROR(VLOOKUP(AV19,'PO List by Level'!$E$2:$H$70,2,FALSE)),\"TBD\",VLOOKUP(AV19,'PO List by Level'!$E$2:$H$70,2,FALSE)),VLOOKUP(LEFT(AV19,4),'PO List by Level'!$E$2:$H$70,2,FALSE))","v":"TBD"}]
[null,null,"Instructor",null,null,"Virtual","Virtual","Virtual","N. Hangar","Virtual","Virtual","Virtual",null,"Virtual",null,"Virtual",null,"Virtual",null,null,"same","FSgt Vaupotic","same","same","same","same","FCpl Patel (L4)","same","same","same",null,null,"same",null,"same",null,null,"Virtual","same","same","same","Guest Speaker"]
[null,null,"Location",null,null,"FSgt Al-Maghazachi","FSgt Al-Maghazachi","FSgt Spiridon","Same","Same","FSgt Jasey","Sgt Unnithan","FSgt Filipowitz","Same","FSgt Diaz","CV Souchuk","FSgt Filipowitz",{"$nulls":20},"Mess Dinner"]
[null,3,"PO/EO",{"$nulls":15},"Christmas","Christmas",{"$nulls":10},"March Break",null,null,"MX04.03",{"$nulls":3},"MX20.01D",{"$nulls":4},"ACR Prep"]
[null,null,"Subject",{"$f":"IF(ISERROR(VLOOKUP(LEFT(D23,4),'PO List by Level'!$E$2:$H$70,2,FALSE)),IF(ISERROR(VLOOKUP(D23,'PO List by Level'!$E$2:$H$70,2,FALSE)),\"TBD\",VLOOKUP(D23,'PO List by Level'!$E$2:$H$70,2,FALSE)),VLOOKUP(LEFT(D23,4),'PO List by Level'!$E$2:$H$70,2,FALSE))","v":"TBD"},{"$f":"IF(ISERROR(VLOOKUP(LEFT(E23,4),'PO List by Level'!$E$2:$H$70,2,FALSE)),IF(ISERROR(VLOOKUP(E23,'PO List by Level'!$E$2:$H$70,2,FALSE)),\"TBD\",VLOOKUP(E23,'PO List by Level'!$E$2:$H$70,2,FALSE)),VLOOKUP(LEFT(E23,4),'PO List by Level'!$E$2:$H$70,2,FALSE))","v":"TBD"},{"$f":"IF(ISERROR(VLOOKUP(LEFT(F23,4),'PO List by Level'!$E$2:$H$70,2,FALSE)),IF(ISERROR(VLOOKUP(F23,'PO List by Level'!$E$2:$H$70,2,FALSE)),\"TBD\",VLOOKUP(F23,'PO List by Level'!$E$2:$H$70,2,FALSE)),VLOOKUP(LEFT(F23,4),'PO List by Level'!$E$2:$H$70,2,FALSE))","v":"TBD"},{"$f":"IF(ISERROR(VLOOKUP(LEFT(G23,4),'PO List by Level'!$E$2:$H$70,2,FALSE)),IF(ISERROR(VLOOKUP(G23,'PO List by Level'!$E$2:$H$70,2,FALSE)),\"TBD\",VLOOKUP(G23,'PO List by Level'!$E$2:$H$70,2,FALSE)),VLOOKUP(LEFT(G23,4),'PO List by Level'!$E$2:$H$70,2,FALSE))","v":"TBD"},{"$f":"IF(ISERROR(VLOOKUP(LEFT(H23,4),'PO List by Level'!$E$2:$H$70,2,FALSE)),IF(ISERROR(VLOOKUP(H23,'PO List by Level'!$E$2:$H$70,2,FALSE)),\"TBD\",VLOOKUP(H23,'PO List by Level'!$E$2:$H$70,2,FALSE)),VLOOKUP(LEFT(H23,4),'PO List by Level'!$E$2:$H$70,2,FALSE))","v":"TBD"},{"$f":"IF(ISERROR(VLOOKUP(LEFT(I23,4),'PO List by Level'!$E$2:$H$70,2,FALSE)),IF(ISERROR(VLOOKUP(I23,'PO List by Level'!$E$2:$H$70,2,FALSE)),\"TBD\",VLOOKUP(I23,'PO List by Level'!$E$2:$H$70,2,FALSE)),VLOOKUP(LEFT(I23,4),'PO List by Level'!$E$2:$H$70,2,FALSE))","v":"TBD"},{"$f":"IF(ISERROR(VLOOKUP(LEFT(J23,4),'PO List by Level'!$E$2:$H$70,2,FALSE)),IF(ISERROR(VLOOKUP(J23,'PO List by Level'!$E$2:$H$70,2,FALSE)),\"TBD\",VLOOKUP(J23,'PO List by Level'!$E$2:$H$70,2,FALSE)),VLOOKUP(LEFT(J23,4),'PO List by Level'!$E$2:$H$70,2,FALSE))","v":"TBD"},{"$f":"IF(ISERROR(VLOOKUP(LEFT(K23,4),'PO List by Level'!$E$2:$H$70,2,FALSE)),IF(ISERROR(VLOOKUP(K23,'PO List by Level'!$E$2:$H$70,2,FALSE)),\"TBD\",VLOOKUP(K23,'PO List by Level'!$E$2:$H$70,2,FALSE)),VLOOKUP(LEFT(K23,4),'PO List by Level'!$E$2:$H$70,2,FALSE))","v":"TBD"},{"$f":"IF(ISERROR(VLOOKUP(LEFT(L23,4),'PO List by Level'!$E$2:$H$70,2,FALSE)),IF(ISERROR(VLOOKUP(L23,'PO List by Level'!$E$2:$H$70,2,FALSE)),\"TBD\",VLOOKUP(L23,'PO List by Level'!$E$2:$H$70,2,FALSE)),VLOOKUP(LEFT(L23,4),'PO List by Level'!$E$2:$H$70,2,FALSE))","v":"TBD"},{"$f":"IF(ISERROR(VLOOKUP(LEFT(M23,4),'PO List by Level'!$E$2:$H$70,2,FALSE)),IF(ISERROR(VLOOKUP(M23,'PO List by Level'!$E$2:$H$70,2,FALSE)),\"TBD\",VLOOKUP(M23,'PO List by Level'!$E$2:$H$70,2,FALSE)),VLOOKUP(LEFT(M23,4),'PO List by Level'!$E$2:$H$70,2,FALSE))","v":"TBD"},{"$f":"IF(ISERROR(VLOOKUP(LEFT(N23,4),'PO List by Level'!$E$2:$H$70,2,FALSE)),IF(ISERROR(VLOOKUP(N23,'PO List by Level'!$E$2:$H$70,2,FALSE)),\"TBD\",VLOOKUP(N23,'PO List by Level'!$E$2:$H$70,2,FALSE)),VLOOKUP(LEFT(N23,4),'PO List by Level'!$E$2:$H$70,2,FALSE))","v":"TBD"},{"$f":"IF(ISERROR(VLOOKUP(LEFT(O23,4),'PO List by Level'!$E$2:$H$70,2,FALSE)),IF(ISERROR(VLOOKUP(O23,'PO List by Level'!$E$2:$H$70,2,FALSE)),\"TBD\",VLOOKUP(O23,'PO List by Level'!$E$2:$H$70,2,FALSE)),VLOOKUP(LEFT(O23,4),'PO List by Level'!$E$2:$H$70,2,FALSE))","v":"TBD"},{"$f":"IF(ISERROR(VLOOKUP(LEFT(P23,4),'PO List by Level'!$E$2:$H$70,2,FALSE)),IF(ISERROR(VLOOKUP(P23,'PO List by Level'!$E$2:$H$70,2,FALSE)),\"TBD\",VLOOKUP(P23,'PO List by Level'!$E$2:$H$70,2,FALSE)),VLOOKUP(LEFT(P23,4),'PO List by Level'!$E$2:$H$70,2,FALSE))","v":"TBD"},{"$f":"IF(ISERROR(VLOOKUP(LEFT(Q23,4),'PO List by Level'!$E$2:$H$70,2,FALSE)),IF(ISERROR(VLOOKUP(Q23,'PO List by Level'!$E$2:$H$70,2,FALSE)),\"TBD\",VLOOKUP(Q23,'PO List by Level'!$E$2:$H$70,2,FALSE)),VLOOKUP(LEFT(Q23,4),'PO List by Level'!$E$2:$H$70,2,FALSE))","v":"TBD"},{"$f":"IF(ISERROR(VLOOKUP(LEFT(R23,4),'PO List by Level'!$E$2:$H$70,2,FALSE)),IF(ISERROR(VLOOKUP(R23,'PO List by Level'!$E$2:$H$70,2,FALSE)),\"TBD\",VLOOKUP(R23,'PO List by Level'!$E$2:$H$70,2,FALSE)),VLOOKUP(LEFT(R23,4),'PO List by Level'!$E$2:$H$70,2,FALSE))","v":"TBD"},{"$f":"IF(ISERROR(VLOOKUP(LEFT(S23,4),'PO List by Level'!$E$2:$H$70,2,FALSE)),IF(ISERROR(VLOOKUP(S23,'PO List by Level'!$E$2:$H$70,2,FALSE)),\"TBD\",VLOOKUP(S23,'PO List by Level'!$E$2:$H$70,2,FALSE)),VLOOKUP(LEFT(S23,4),'PO List by Level'!$E$2:$H$70,2,FALSE))","v":"Xmas Break"},{"$f":"IF(ISERROR(VLOOKUP(LEFT(T23,4),'PO List by Level'!$E$2:$H$70,2,FALSE)),IF(ISERROR(VLOOKUP(T23,'PO List by Level'!$E$2:$H$70,2,FALSE)),\"TBD\",VLOOKUP(T23,'PO List by Level'!$E$2:$H$70,2,FALSE)),VLOOKUP(LEFT(T23,4),'PO List by Level'!$E$2:$H$70,2,FALSE))","v":"Xmas Break"},{"$f":"IF(ISERROR(VLOOKUP(LEFT(U23,4),'PO List by Level'!$E$2:$H$70,2,FALSE)),IF(ISERROR(VLOOKUP(U23,'PO List by Level'!$E$2:$H$70,2,FALSE)),\"TBD\",VLOOKUP(U23,'PO List by Level'!$E$2:$H$70,2,FALSE)),VLOOKUP(LEFT(U23,4),'PO List by Level'!$E$2:$H$70,2,FALSE))","v":"TBD"},{"$f":"IF(ISERROR(VLOOKUP(LEFT(V23,4),'PO List by Level'!$E$2:$H$70,2,FALSE)),IF(ISERROR(VLOOKUP(V23,'PO List by Level'!$E$2:$H$70,2,FALSE)),\"TBD\",VLOOKUP(V23,'PO List by Level'!$E$2:$H$70,2,FALSE)),VLOOKUP(LEFT(V23,4),'PO List by Level'!$E$2:$H$70,2,FALSE))","v":"TBD"},{"$f":"IF(ISERROR(VLOOKUP(LEFT(W23,4),'PO List by Level'!$E$2:$H$70,2,FALSE)),IF(ISERROR(VLOOKUP(W23,'PO List by Level'!$E$2:$H$70,2,FALSE)),\"TBD\",VLOOKUP(W23,'PO List by Level'!$E$2:$H$70,2,FALSE)),VLOOKUP(LEFT(W23,4),'PO List by Level'!$E$2:$H$70,2,FALSE))","v":"TBD"},{"$f":"IF(ISERROR(VLOOKUP(LEFT(X23,4),'PO List by Level'!$E$2:$H$70,2,FALSE)),IF(ISERROR(VLOOKUP(X23,'PO List by Level'!$E$2:$H$70,2,FALSE)),\"TBD\",VLOOKUP(X23,'PO List by Level'!$E$2:$H$70,2,FALSE)),VLOOKUP(LEFT(X23,4),'PO List by Level'!$E$2:$H$70,2,FALSE))","v":"TBD"},{"$f":"IF(ISERROR(VLOOKUP(LEFT(Y23,4),'PO List by Level'!$E$2:$H$70,2,FALSE)),IF(ISERROR(VLOOKUP(Y23,'PO List by Level'!$E$2:$H$70,2,FALSE)),\"TBD\",VLOOKUP(Y23,'PO List by Level'!$E$2:$H$70,2,FALSE)),VLOOKUP(LEFT(Y23,4),'PO List by Level'!$E$2:$H$70,2,FALSE))","v":"TBD"},{"$f":"IF(ISERROR(VLOOKUP(LEFT(Z23,4),'PO List by Level'!$E$2:$H$70,2,FALSE)),IF(ISERROR(VLOOKUP(Z23,'PO List by Level'!$E$2:$H$70,2,FALSE)),\"TBD\",VLOOKUP(Z23,'PO List by Level'!$E$2:$H$70,2,FALSE)),VLOOKUP(LEFT(Z23,4),'PO List by Level'!$E$2:$H$70,2,FALSE))","v":"TBD"},{"$f":"IF(ISERROR(VLOOKUP(LEFT(AA23,4),'PO List by Level'!$E$2:$H$70,2,FALSE)),IF(ISERROR(VLOOKUP(AA23,'PO List by Level'!$E$2:$H$70,2,FALSE)),\"TBD\",VLOOKUP(AA23,'PO List by Level'!$E$2:$H$70,2,FALSE)),VLOOKUP(LEFT(AA23,4),'PO List by Level'!$E$2:$H$70,2,FALSE))","v":"TBD"},{"$f":"IF(ISERROR(VLOOKUP(LEFT(AB23,4),'PO List by Level'!$E$2:$H$70,2,FALSE)),IF(ISERROR(VLOOKUP(AB23,'PO List by Level'!$E$2:$H$70,2,FALSE)),\"TBD\",VLOOKUP(AB23,'PO List by Level'!$E$2:$H$70,2,FALSE)),VLOOKUP(LEFT(AB23,4),'PO List by Level'!$E$2:$H$70,2,FALSE))","v":"TBD"},{"$f":"IF(ISERROR(VLOOKUP(LEFT(AC23,4),'PO List by Level'!$E$2:$H$70,2,FALSE)),IF(ISERROR(VLOOKUP(AC23,'PO List by Level'!$E$2:$H$70,2,FALSE)),\"TBD\",VLOOKUP(AC23,'PO List by Level'!$E$2:$H$70,2,FALSE)),VLOOKUP(LEFT(AC23,4),'PO List by Level'!$E$2:$H$70,2,FALSE))","v":"TBD"},{"$f":"IF(ISERROR(VLOOKUP(LEFT(AD23,4),'PO List by Level'!$E$2:$H$70,2,FALSE)),IF(ISERROR(VLOOKUP(AD23,'PO List by Level'!$E$2:$H$70,2,FALSE)),\"TBD\",VLOOKUP(AD23,'PO List by Level'!$E$2:$H$70,2,FALSE)),VLOOKUP(LEFT(AD23,4),'PO List by Level'!$E$2:$H$70,2,FALSE))","v":"TBD"},{"$f":"IF(ISERROR(VLOOKUP(LEFT(AE23,4),'PO List by Level'!$E$2:$H$70,2,FALSE)),IF(ISERROR(VLOOKUP(AE23,'PO List by Level'!$E$2:$H$70,2,FALSE)),\"TBD\",VLOOKUP(AE23,'PO List by Level'!$E$2:$H$70,2,FALSE)),VLOOKUP(LEFT(AE23,4),'PO List by Level'!$E$2:$H$70,2,FALSE))","v":"Break"},{"$f":"IF(ISERROR(VLOOKUP(LEFT(AF23,4),'PO List by Level'!$E$2:$H$70,2,FALSE)),IF(ISERROR(VLOOKUP(AF23,'PO List by Level'!$E$2:$H$70,2,FALSE)),\"TBD\",VLOOKUP(AF23,'PO List by Level'!$E$2:$H$70,2,FALSE)),VLOOKUP(LEFT(AF23,4),'PO List by Level'!$E$2:$H$70,2,FALSE))","v":"TBD"},{"$f":"IF(ISERROR(VLOOKUP(LEFT(AG23,4),'PO List by Level'!$E$2:$H$70,2,FALSE)),IF(ISERROR(VLOOKUP(AG23,'PO List by Level'!$E$2:$H$70,2,FALSE)),\"TBD\",VLOOKUP(AG23,'PO List by Level'!$E$2:$H$70,2,FALSE)),VLOOKUP(LEFT(AG23,4),'PO List by Level'!$E$2:$H$70,2,FALSE))","v":"TBD"},{"$f":"IF(ISERROR(VLOOKUP(LEFT(AH23,4),'PO List by Level'!$E$2:$H$70,2,FALSE)),IF(ISERROR(VLOOKUP(AH23,'PO List by Level'!$E$2:$H$70,2,FALSE)),\"TBD\",VLOOKUP(AH23,'PO List by Level'!$E$2:$H$70,2,FALSE)),VLOOKUP(LEFT(AH23,4),'PO List by Level'!$E$2:$H$70,2,FALSE))","v":"Personal Fitness and Healthy Living"},{"$f":"IF(ISERROR(VLOOKUP(LEFT(AI23,4),'PO List by Level'!$E$2:$H$70,2,FALSE)),IF(ISERROR(VLOOKUP(AI23,'PO List by Level'!$E$2:$H$70,2,FALSE)),\"TBD\",VLOOKUP(AI23,'PO List by Level'!$E$2:$H$70,2,FALSE)),VLOOKUP(LEFT(AI23,4),'PO List by Level'!$E$2:$H$70,2,FALSE))","v":"TBD"},{"$f":"IF(ISERROR(VLOOKUP(LEFT(AJ23,4),'PO List by Level'!$E$2:$H$70,2,FALSE)),IF(ISERROR(VLOOKUP(AJ23,'PO List by Level'!$E$2:$H$70,2,FALSE)),\"TBD\",VLOOKUP(AJ23,'PO List by Level'!$E$2:$H$70,2,FALSE)),VLOOKUP(LEFT(AJ23,4),'PO List by Level'!$E$2:$H$70,2,FALSE))","v":"TBD"},{"$f":"IF(ISERROR(VLOOKUP(LEFT(AK23,4),'PO List by Level'!$E$2:$H$70,2,FALSE)),IF(ISERROR(VLOOKUP(AK23,'PO List by Level'!$E$2:$H$70,2,FALSE)),\"TBD\",VLOOKUP(AK23,'PO List by Level'!$E$2:$H$70,2,FALSE)),VLOOKUP(LEFT(AK23,4),'PO List by Level'!$E$2:$H$70,2,FALSE))","v":"TBD"},{"$f":"IF(ISERROR(VLOOKUP(LEFT(AL23,4),'PO List by Level'!$E$2:$H$70,2,FALSE)),IF(ISERROR(VLOOKUP(AL23,'PO List by Level'!$E$2:$H$70,2,FALSE)),\"TBD\",VLOOKUP(AL23,'PO List by Level'!$E$2:$H$70,2,FALSE)),VLOOKUP(LEFT(AL23,4),'PO List by Level'!$E$2:$H$70,2,FALSE))","v":"CAF Familiarization"},{"$f":"IF(ISERROR(VLOOKUP(LEFT(AM23,4),'PO List by Level'!$E$2:$H$70,2,FALSE)),IF(ISERROR(VLOOKUP(AM23,'PO List by Level'!$E$2:$H$70,2,FALSE)),\"TBD\",VLOOKUP(AM23,'PO List by Level'!$E$2:$H$70,2,FALSE)),VLOOKUP(LEFT(AM23,4),'PO List by Level'!$E$2:$H$70,2,FALSE))","v":"TBD"},{"$f":"IF(ISERROR(VLOOKUP(LEFT(AN23,4),'PO List by Level'!$E$2:$H$70,2,FALSE)),IF(ISERROR(VLOOKUP(AN23,'PO List by Level'!$E$2:$H$70,2,FALSE)),\"TBD\",VLOOKUP(AN23,'PO List by Level'!$E$2:$H$70,2,FALSE)),VLOOKUP(LEFT(AN23,4),'PO List by Level'!$E$2:$H$70,2,FALSE))","v":"TBD"},{"$f":"IF(ISERROR(VLOOKUP(LEFT(AO23,4),'PO List by Level'!$E$2:$H$70,2,FALSE)),IF(ISERROR(VLOOKUP(AO23,'PO List by Level'!$E$2:$H$70,2,FALSE)),\"TBD\",VLOOKUP(AO23,'PO List by Level'!$E$2:$H$70,2,FALSE)),VLOOKUP(LEFT(AO23,4),'PO List by Level'!$E$2:$H$70,2,FALSE))","v":"TBD"},{"$f":"IF(ISERROR(VLOOKUP(LEFT(AP23,4),'PO List by Level'!$E$2:$H$70,2,FALSE)),IF(ISERROR(VLOOKUP(AP23,'PO List by Level'!$E$2:$H$70,2,FALSE)),\"TBD\",VLOOKUP(AP23,'PO List by Level'!$E$2:$H$70,2,FALSE)),VLOOKUP(LEFT(AP23,4),'PO List by Level'!$E$2:$H$70,2,FALSE))","v":"TBD"},{"$f":"IF(ISERROR(VLOOKUP(LEFT(AQ23,4),'PO List by Level'!$E$2:$H$70,2,FALSE)),IF(ISERROR(VLOOKUP(AQ23,'PO List by Level'!$E$2:$H$70,2,FALSE)),\"TBD\",VLOOKUP(AQ23,'PO List by Level'!$E$2:$H$70,2,FALSE)),VLOOKUP(LEFT(AQ23,4),'PO List by Level'!$E$2:$H$70,2,FALSE))","v":"ACR Practice"},{"$f":"IF(ISERROR(VLOOKUP(LEFT(AR23,4),'PO List by Level'!$E$2:$H$70,2,FALSE)),IF(ISERROR(VLOOKUP(AR23,'PO List by Level'!$E$2:$H$70,2,FALSE)),\"TBD\",VLOOKUP(AR23,'PO List by Level'!$E$2:$H$70,2,FALSE)),VLOOKUP(LEFT(AR23,4),'PO List by Level'!$E$2:$H$70,2,FALSE))","v":"TBD"},{"$f":"IF(ISERROR(VLOOKUP(LEFT(AS23,4),'PO List by Level'!$E$2:$H$70,2,FALSE)),IF(ISERROR(VLOOKUP(AS23,'PO List by Level'!$E$2:$H$70,2,FALSE)),\"TBD\",VLOOKUP(AS23,'PO List by Level'!$E$2:$H$70,2,FALSE)),VLOOKUP(LEFT(AS23,4),'PO List by Level'!$E$2:$H$70,2,FALSE))","v":"TBD"},{"$f":"IF(ISERROR(VLOOKUP(LEFT(AT23,4),'PO List by Level'!$E$2:$H$70,2,FALSE)),IF(ISERROR(VLOOKUP(AT23,'PO List by Level'!$E$2:$H$70,2,FALSE)),\"TBD\",VLOOKUP(AT23,'PO List by Level'!$E$2:$H$70,2,FALSE)),VLOOKUP(LEFT(AT23,4),'PO List by Level'!$E$2:$H$70,2,FALSE))","v":"TBD"},{"$f":"IF(ISERROR(VLOOKUP(LEFT(AU23,4),'PO List by Level'!$E$2:$H$70,2,FALSE)),IF(ISERROR(VLOOKUP(AU23,'PO List by Level'!$E$2:$H$70,2,FALSE)),\"TBD\",VLOOKUP(AU23,'PO List by Level'!$E$2:$H$70,2,FALSE)),VLOOKUP(LEFT(AU23,4),'PO List by Level'!$E$2:$H$70,2,FALSE))","v":"TBD"},{"$f":"IF(ISERROR(VLOOKUP(LEFT(AV23,4),'PO List by Level'!$E$2:$H$70,2,FALSE)),IF(ISERROR(VLOOKUP(AV23,'PO List by Level'!$E$2:$H$70,2,FALSE)),\"TBD\",VLOOKUP(AV23,'PO List by Level'!$E$2:$H$70,2,FALSE)),VLOOKUP(LEFT(AV23,4),'PO List by Level'!$E$2:$H$70,2,FALSE))","v":"TBD"}]
[null,null,"Instructor",{"$nulls":34},"Virtual"]
[null,null,"Location",{"$nulls":34},"Mess Dinner"]
[{"$f":"'Unit Info'!G4","v":"Level 3"},1,"PO/EO","Admin Night",null,"M307.01","M340.01","M336.01","M390.01","C208.01","M336.02","M340.02","M303.01","M308.01","M309.01","M309.02","M370.01","Party - C","Christmas","Christmas","M331.01","M337.01","M303.03","M336.04","M308.02","M336.PC","M303.04","M309.03","M303.05","M309.05","March Break","M303.06","M309.06","MX04.03","M303.07","M309.07","M309.PC","MX20.01D","M309.PC","M309.PC","M309.PC","CX04.04","ACR Prep"]
[null,null,"Subject",{"$f":"IF(ISERROR(VLOOKUP(LEFT(D27,4),'PO List by Level'!$I$2:$L$70,2,FALSE)),IF(ISERROR(VLOOKUP(D27,'PO List by Level'!$I$2:$L$70,2,FALSE)),\"TBD\",VLOOKUP(D27,'PO List by Level'!$I$2:$L$70,2,FALSE)),VLOOKUP(LEFT(D27,4),'PO List by Level'!$I$2:$L$70,2,FALSE))","v":"TBD"},{"$f":"IF(ISERROR(VLOOKUP(LEFT(E27,4),'PO List by Level'!$I$2:$L$70,2,FALSE)),IF(ISERROR(VLOOKUP(E27,'PO List by Level'!$I$2:$L$70,2,FALSE)),\"TBD\",VLOOKUP(E27,'PO List by Level'!$I$2:$L$70,2,FALSE)),VLOOKUP(LEFT(E27,4),'PO List by Level'!$I$2:$L$70,2,FALSE))","v":"TBD"},{"$f":"IF(ISERROR(VLOOKUP(LEFT(F27,4),'PO List by Level'!$I$2:$L$70,2,FALSE)),IF(ISERROR(VLOOKUP(F27,'PO List by Level'!$I$2:$L$70,2,FALSE)),\"TBD\",VLOOKUP(F27,'PO List by Level'!$I$2:$L$70,2,FALSE)),VLOOKUP(LEFT(F27,4),'PO List by Level'!$I$2:$L$70,2,FALSE))","v":"General Cadet Knowledge"},{"$f":"IF(ISERROR(VLOOKUP(LEFT(G27,4),'PO List by Level'!$I$2:$L$70,2,FALSE)),IF(ISERROR(VLOOKUP(G27,'PO List by Level'!$I$2:$L$70,2,FALSE)),\"TBD\",VLOOKUP(G27,'PO List by Level'!$I$2:$L$70,2,FALSE)),VLOOKUP(LEFT(G27,4),'PO List by Level'!$I$2:$L$70,2,FALSE))","v":"Aerospace"},{"$f":"IF(ISERROR(VLOOKUP(LEFT(H27,4),'PO List by Level'!$I$2:$L$70,2,FALSE)),IF(ISERROR(VLOOKUP(H27,'PO List by Level'!$I$2:$L$70,2,FALSE)),\"TBD\",VLOOKUP(H27,'PO List by Level'!$I$2:$L$70,2,FALSE)),VLOOKUP(LEFT(H27,4),'PO List by Level'!$I$2:$L$70,2,FALSE))","v":"Meteorology"},{"$f":"IF(ISERROR(VLOOKUP(LEFT(I27,4),'PO List by Level'!$I$2:$L$70,2,FALSE)),IF(ISERROR(VLOOKUP(I27,'PO List by Level'!$I$2:$L$70,2,FALSE)),\"TBD\",VLOOKUP(I27,'PO List by Level'!$I$2:$L$70,2,FALSE)),VLOOKUP(LEFT(I27,4),'PO List by Level'!$I$2:$L$70,2,FALSE))","v":"Aircrew Survival"},{"$f":"IF(ISERROR(VLOOKUP(LEFT(J27,4),'PO List by Level'!$I$2:$L$70,2,FALSE)),IF(ISERROR(VLOOKUP(J27,'PO List by Level'!$I$2:$L$70,2,FALSE)),\"TBD\",VLOOKUP(J27,'PO List by Level'!$I$2:$L$70,2,FALSE)),VLOOKUP(LEFT(J27,4),'PO List by Level'!$I$2:$L$70,2,FALSE))","v":"Drill and Ceremonial"},{"$f":"IF(ISERROR(VLOOKUP(LEFT(K27,4),'PO List by Level'!$I$2:$L$70,2,FALSE)),IF(ISERROR(VLOOKUP(K27,'PO List by Level'!$I$2:$L$70,2,FALSE)),\"TBD\",VLOOKUP(K27,'PO List by Level'!$I$2:$L$70,2,FALSE)),VLOOKUP(LEFT(K27,4),'PO List by Level'!$I$2:$L$70,2,FALSE))","v":"Meteorology"},{"$f":"IF(ISERROR(VLOOKUP(LEFT(L27,4),'PO List by Level'!$I$2:$L$70,2,FALSE)),IF(ISERROR(VLOOKUP(L27,'PO List by Level'!$I$2:$L$70,2,FALSE)),\"TBD\",VLOOKUP(L27,'PO List by Level'!$I$2:$L$70,2,FALSE)),VLOOKUP(LEFT(L27,4),'PO List by Level'!$I$2:$L$70,2,FALSE))","v":"Aerospace"},{"$f":"IF(ISERROR(VLOOKUP(LEFT(M27,4),'PO List by Level'!$I$2:$L$70,2,FALSE)),IF(ISERROR(VLOOKUP(M27,'PO List by Level'!$I$2:$L$70,2,FALSE)),\"TBD\",VLOOKUP(M27,'PO List by Level'!$I$2:$L$70,2,FALSE)),VLOOKUP(LEFT(M27,4),'PO List by Level'!$I$2:$L$70,2,FALSE))","v":"Leadership"},{"$f":"IF(ISERROR(VLOOKUP(LEFT(N27,4),'PO List by Level'!$I$2:$L$70,2,FALSE)),IF(ISERROR(VLOOKUP(N27,'PO List by Level'!$I$2:$L$70,2,FALSE)),\"TBD\",VLOOKUP(N27,'PO List by Level'!$I$2:$L$70,2,FALSE)),VLOOKUP(LEFT(N27,4),'PO List by Level'!$I$2:$L$70,2,FALSE))","v":"Drill and Ceremonial"},{"$f":"IF(ISERROR(VLOOKUP(LEFT(O27,4),'PO List by Level'!$I$2:$L$70,2,FALSE)),IF(ISERROR(VLOOKUP(O27,'PO List by Level'!$I$2:$L$70,2,FALSE)),\"TBD\",VLOOKUP(O27,'PO List by Level'!$I$2:$L$70,2,FALSE)),VLOOKUP(LEFT(O27,4),'PO List by Level'!$I$2:$L$70,2,FALSE))","v":"Instructional Techniques."},{"$f":"IF(ISERROR(VLOOKUP(LEFT(P27,4),'PO List by Level'!$I$2:$L$70,2,FALSE)),IF(ISERROR(VLOOKUP(P27,'PO List by Level'!$I$2:$L$70,2,FALSE)),\"TBD\",VLOOKUP(P27,'PO List by Level'!$I$2:$L$70,2,FALSE)),VLOOKUP(LEFT(P27,4),'PO List by Level'!$I$2:$L$70,2,FALSE))","v":"Instructional Techniques."},{"$f":"IF(ISERROR(VLOOKUP(LEFT(Q27,4),'PO List by Level'!$I$2:$L$70,2,FALSE)),IF(ISERROR(VLOOKUP(Q27,'PO List by Level'!$I$2:$L$70,2,FALSE)),\"TBD\",VLOOKUP(Q27,'PO List by Level'!$I$2:$L$70,2,FALSE)),VLOOKUP(LEFT(Q27,4),'PO List by Level'!$I$2:$L$70,2,FALSE))","v":"Aircraft Manufacturing and Maintenance"},{"$f":"IF(ISERROR(VLOOKUP(LEFT(R27,4),'PO List by Level'!$I$2:$L$70,2,FALSE)),IF(ISERROR(VLOOKUP(R27,'PO List by Level'!$I$2:$L$70,2,FALSE)),\"TBD\",VLOOKUP(R27,'PO List by Level'!$I$2:$L$70,2,FALSE)),VLOOKUP(LEFT(R27,4),'PO List by Level'!$I$2:$L$70,2,FALSE))","v":"Christmas Party"},{"$f":"IF(ISERROR(VLOOKUP(LEFT(S27,4),'PO List by Level'!$I$2:$L$70,2,FALSE)),IF(ISERROR(VLOOKUP(S27,'PO List by Level'!$I$2:$L$70,2,FALSE)),\"TBD\",VLOOKUP(S27,'PO List by Level'!$I$2:$L$70,2,FALSE)),VLOOKUP(LEFT(S27,4),'PO List by Level'!$I$2:$L$70,2,FALSE))","v":"Xmas Break"},{"$f":"IF(ISERROR(VLOOKUP(LEFT(T27,4),'PO List by Level'!$I$2:$L$70,2,FALSE)),IF(ISERROR(VLOOKUP(T27,'PO List by Level'!$I$2:$L$70,2,FALSE)),\"TBD\",VLOOKUP(T27,'PO List by Level'!$I$2:$L$70,2,FALSE)),VLOOKUP(LEFT(T27,4),'PO List by Level'!$I$2:$L$70,2,FALSE))","v":"Xmas Break"},{"$f":"IF(ISERROR(VLOOKUP(LEFT(U27,4),'PO List by Level'!$I$2:$L$70,2,FALSE)),IF(ISERROR(VLOOKUP(U27,'PO List by Level'!$I$2:$L$70,2,FALSE)),\"TBD\",VLOOKUP(U27,'PO List by Level'!$I$2:$L$70,2,FALSE)),VLOOKUP(LEFT(U27,4),'PO List by Level'!$I$2:$L$70,2,FALSE))","v":"Principles of Flight"},{"$f":"IF(ISERROR(VLOOKUP(LEFT(V27,4),'PO List by Level'!$I$2:$L$70,2,FALSE)),IF(ISERROR(VLOOKUP(V27,'PO List by Level'!$I$2:$L$70,2,FALSE)),\"TBD\",VLOOKUP(V27,'PO List by Level'!$I$2:$L$70,2,FALSE)),VLOOKUP(LEFT(V27,4),'PO List by Level'!$I$2:$L$70,2,FALSE))","v":"Air Navigation"},{"$f":"IF(ISERROR(VLOOKUP(LEFT(W27,4),'PO List by Level'!$I$2:$L$70,2,FALSE)),IF(ISERROR(VLOOKUP(W27,'PO List by Level'!$I$2:$L$70,2,FALSE)),\"TBD\",VLOOKUP(W27,'PO List by Level'!$I$2:$L$70,2,FALSE)),VLOOKUP(LEFT(W27,4),'PO List by Level'!$I$2:$L$70,2,FALSE))","v":"Leadership"},{"$f":"IF(ISERROR(VLOOKUP(LEFT(X27,4),'PO List by Level'!$I$2:$L$70,2,FALSE)),IF(ISERROR(VLOOKUP(X27,'PO List by Level'!$I$2:$L$70,2,FALSE)),\"TBD\",VLOOKUP(X27,'PO List by Level'!$I$2:$L$70,2,FALSE)),VLOOKUP(LEFT(X27,4),'PO List by Level'!$I$2:$L$70,2,FALSE))","v":"Meteorology"},{"$f":"IF(ISERROR(VLOOKUP(LEFT(Y27,4),'PO List by Level'!$I$2:$L$70,2,FALSE)),IF(ISERROR(VLOOKUP(Y27,'PO List by Level'!$I$2:$L$70,2,FALSE)),\"TBD\",VLOOKUP(Y27,'PO List by Level'!$I$2:$L$70,2,FALSE)),VLOOKUP(LEFT(Y27,4),'PO List by Level'!$I$2:$L$70,2,FALSE))","v":"Drill and Ceremonial"},{"$f":"IF(ISERROR(VLOOKUP(LEFT(Z27,4),'PO List by Level'!$I$2:$L$70,2,FALSE)),IF(ISERROR(VLOOKUP(Z27,'PO List by Level'!$I$2:$L$70,2,FALSE)),\"TBD\",VLOOKUP(Z27,'PO List by Level'!$I$2:$L$70,2,FALSE)),VLOOKUP(LEFT(Z27,4),'PO List by Level'!$I$2:$L$70,2,FALSE))","v":"Meteorology"},{"$f":"IF(ISERROR(VLOOKUP(LEFT(AA27,4),'PO List by Level'!$I$2:$L$70,2,FALSE)),IF(ISERROR(VLOOKUP(AA27,'PO List by Level'!$I$2:$L$70,2,FALSE)),\"TBD\",VLOOKUP(AA27,'PO List by Level'!$I$2:$L$70,2,FALSE)),VLOOKUP(LEFT(AA27,4),'PO List by Level'!$I$2:$L$70,2,FALSE))","v":"Leadership"},{"$f":"IF(ISERROR(VLOOKUP(LEFT(AB27,4),'PO List by Level'!$I$2:$L$70,2,FALSE)),IF(ISERROR(VLOOKUP(AB27,'PO List by Level'!$I$2:$L$70,2,FALSE)),\"TBD\",VLOOKUP(AB27,'PO List by Level'!$I$2:$L$70,2,FALSE)),VLOOKUP(LEFT(AB27,4),'PO List by Level'!$I$2:$L$70,2,FALSE))","v":"Instructional Techniques."},{"$f":"IF(ISERROR(VLOOKUP(LEFT(AC27,4),'PO List by Level'!$I$2:$L$70,2,FALSE)),IF(ISERROR(VLOOKUP(AC27,'PO List by Level'!$I$2:$L$70,2,FALSE)),\"TBD\",VLOOKUP(AC27,'PO List by Level'!$I$2:$L$70,2,FALSE)),VLOOKUP(LEFT(AC27,4),'PO List by Level'!$I$2:$L$70,2,FALSE))","v":"Leadership"},{"$f":"IF(ISERROR(VLOOKUP(LEFT(AD27,4),'PO List by Level'!$I$2:$L$70,2,FALSE)),IF(ISERROR(VLOOKUP(AD27,'PO List by Level'!$I$2:$L$70,2,FALSE)),\"TBD\",VLOOKUP(AD27,'PO List by Level'!$I$2:$L$70,2,FALSE)),VLOOKUP(LEFT(AD27,4),'PO List by Level'!$I$2:$L$70,2,FALSE))","v":"Instructional Techniques."},{"$f":"IF(ISERROR(VLOOKUP(LEFT(AE27,4),'PO List by Level'!$I$2:$L$70,2,FALSE)),IF(ISERROR(VLOOKUP(AE27,'PO List by Level'!$I$2:$L$70,2,FALSE)),\"TBD\",VLOOKUP(AE27,'PO List by Level'!$I$2:$L$70,2,FALSE)),VLOOKUP(LEFT(AE27,4),'PO List by Level'!$I$2:$L$70,2,FALSE))","v":"Break"},{"$f":"IF(ISERROR(VLOOKUP(LEFT(AF27,4),'PO List by Level'!$I$2:$L$70,2,FALSE)),IF(ISERROR(VLOOKUP(AF27,'PO List by Level'!$I$2:$L$70,2,FALSE)),\"TBD\",VLOOKUP(AF27,'PO List by Level'!$I$2:$L$70,2,FALSE)),VLOOKUP(LEFT(AF27,4),'PO List by Level'!$I$2:$L$70,2,FALSE))","v":"Leadership"},{"$f":"IF(ISERROR(VLOOKUP(LEFT(AG27,4),'PO List by Level'!$I$2:$L$70,2,FALSE)),IF(ISERROR(VLOOKUP(AG27,'PO List by Level'!$I$2:$L$70,2,FALSE)),\"TBD\",VLOOKUP(AG27,'PO List by Level'!$I$2:$L$70,2,FALSE)),VLOOKUP(LEFT(AG27,4),'PO List by Level'!$I$2:$L$70,2,FALSE))","v":"Instructional Techniques."},{"$f":"IF(ISERROR(VLOOKUP(LEFT(AH27,4),'PO List by Level'!$I$2:$L$70,2,FALSE)),IF(ISERROR(VLOOKUP(AH27,'PO List by Level'!$I$2:$L$70,2,FALSE)),\"TBD\",VLOOKUP(AH27,'PO List by Level'!$I$2:$L$70,2,FALSE)),VLOOKUP(LEFT(AH27,4),'PO List by Level'!$I$2:$L$70,2,FALSE))","v":"Personal Fitness and Healthy Living"},{"$f":"IF(ISERROR(VLOOKUP(LEFT(AI27,4),'PO List by Level'!$I$2:$L$70,2,FALSE)),IF(ISERROR(VLOOKUP(AI27,'PO List by Level'!$I$2:$L$70,2,FALSE)),\"TBD\",VLOOKUP(AI27,'PO List by Level'!$I$2:$L$70,2,FALSE)),VLOOKUP(LEFT(AI27,4),'PO List by Level'!$I$2:$L$70,2,FALSE))","v":"Leadership"},{"$f":"IF(ISERROR(VLOOKUP(LEFT(AJ27,4),'PO List by Level'!$I$2:$L$70,2,FALSE)),IF(ISERROR(VLOOKUP(AJ27,'PO List by Level'!$I$2:$L$70,2,FALSE)),\"TBD\",VLOOKUP(AJ27,'PO List by Level'!$I$2:$L$70,2,FALSE)),VLOOKUP(LEFT(AJ27,4),'PO List by Level'!$I$2:$L$70,2,FALSE))","v":"Instructional Techniques."},{"$f":"IF(ISERROR(VLOOKUP(LEFT(AK27,4),'PO List by Level'!$I$2:$L$70,2,FALSE)),IF(ISERROR(VLOOKUP(AK27,'PO List by Level'!$I$2:$L$70,2,FALSE)),\"TBD\",VLOOKUP(AK27,'PO List by Level'!$I$2:$L$70,2,FALSE)),VLOOKUP(LEFT(AK27,4),'PO List by Level'!$I$2:$L$70,2,FALSE))","v":"Instructional Techniques."},{"$f":"IF(ISERROR(VLOOKUP(LEFT(AL27,4),'PO List by Level'!$I$2:$L$70,2,FALSE)),IF(ISERROR(VLOOKUP(AL27,'PO List by Level'!$I$2:$L$70,2,FALSE)),\"TBD\",VLOOKUP(AL27,'PO List by Level'!$I$2:$L$70,2,FALSE)),VLOOKUP(LEFT(AL27,4),'PO List by Level'!$I$2:$L$70,2,FALSE))","v":"CAF Familiarization"},{"$f":"IF(ISERROR(VLOOKUP(LEFT(AM27,4),'PO List by Level'!$I$2:$L$70,2,FALSE)),IF(ISERROR(VLOOKUP(AM27,'PO List by Level'!$I$2:$L$70,2,FALSE)),\"TBD\",VLOOKUP(AM27,'PO List by Level'!$I$2:$L$70,2,FALSE)),VLOOKUP(LEFT(AM27,4),'PO List by Level'!$I$2:$L$70,2,FALSE))","v":"Instructional Techniques."},{"$f":"IF(ISERROR(VLOOKUP(LEFT(AN27,4),'PO List by Level'!$I$2:$L$70,2,FALSE)),IF(ISERROR(VLOOKUP(AN27,'PO List by Level'!$I$2:$L$70,2,FALSE)),\"TBD\",VLOOKUP(AN27,'PO List by Level'!$I$2:$L$70,2,FALSE)),VLOOKUP(LEFT(AN27,4),'PO List by Level'!$I$2:$L$70,2,FALSE))","v":"Instructional Techniques."},{"$f":"IF(ISERROR(VLOOKUP(LEFT(AO27,4),'PO List by Level'!$I$2:$L$70,2,FALSE)),IF(ISERROR(VLOOKUP(AO27,'PO List by Level'!$I$2:$L$70,2,FALSE)),\"TBD\",VLOOKUP(AO27,'PO List by Level'!$I$2:$L$70,2,FALSE)),VLOOKUP(LEFT(AO27,4),'PO List by Level'!$I$2:$L$70,2,FALSE))","v":"Instructional Techniques."},{"$f":"IF(ISERROR(VLOOKUP(LEFT(AP27,4),'PO List by Level'!$I$2:$L$70,2,FALSE)),IF(ISERROR(VLOOKUP(AP27,'PO List by Level'!$I$2:$L$70,2,FALSE)),\"TBD\",VLOOKUP(AP27,'PO List by Level'!$I$2:$L$70,2,FALSE)),VLOOKUP(LEFT(AP27,4),'PO List by Level'!$I$2:$L$70,2,FALSE))","v":"Personal Fitness and Healthy Living"},{"$f":"IF(ISERROR(VLOOKUP(LEFT(AQ27,4),'PO List by Level'!$I$2:$L$70,2,FALSE)),IF(ISERROR(VLOOKUP(AQ27,'PO List by Level'!$I$2:$L$70,2,FALSE)),\"TBD\",VLOOKUP(AQ27,'PO List by Level'!$I$2:$L$70,2,FALSE)),VLOOKUP(LEFT(AQ27,4),'PO List by Level'!$I$2:$L$70,2,FALSE))","v":"ACR Practice"},{"$f":"IF(ISERROR(VLOOKUP(LEFT(AR27,4),'PO List by Level'!$I$2:$L$70,2,FALSE)),IF(ISERROR(VLOOKUP(AR27,'PO List by Level'!$I$2:$L$70,2,FALSE)),\"TBD\",VLOOKUP(AR27,'PO List by Level'!$I$2:$L$70,2,FALSE)),VLOOKUP(LEFT(AR27,4),'PO List by Level'!$I$2:$L$70,2,FALSE))","v":"TBD"},{"$f":"IF(ISERROR(VLOOKUP(LEFT(AS27,4),'PO List by Level'!$I$2:$L$70,2,FALSE)),IF(ISERROR(VLOOKUP(AS27,'PO List by Level'!$I$2:$L$70,2,FALSE)),\"TBD\",VLOOKUP(AS27,'PO List by Level'!$I$2:$L$70,2,FALSE)),VLOOKUP(LEFT(AS27,4),'PO List by Level'!$I$2:$L$70,2,FALSE))","v":"TBD"},{"$f":"IF(ISERROR(VLOOKUP(LEFT(AT27,4),'PO List by Level'!$I$2:$L$70,2,FALSE)),IF(ISERROR(VLOOKUP(AT27,'PO List by Level'!$I$2:$L$70,2,FALSE)),\"TBD\",VLOOKUP(AT27,'PO List by Level'!$I$2:$L$70,2,FALSE)),VLOOKUP(LEFT(AT27,4),'PO List by Level'!$I$2:$L$70,2,FALSE))","v":"TBD"},{"$f":"IF(ISERROR(VLOOKUP(LEFT(AU27,4),'PO List by Level'!$I$2:$L$70,2,FALSE)),IF(ISERROR(VLOOKUP(AU27,'PO List by Level'!$I$2:$L$70,2,FALSE)),\"TBD\",VLOOKUP(AU27,'PO List by Level'!$I$2:$L$70,2,FALSE)),VLOOKUP(LEFT(AU27,4),'PO List by Level'!$I$2:$L$70,2,FALSE))","v":"TBD"},{"$f":"IF(ISERROR(VLOOKUP(LEFT(AV27,4),'PO List by Level'!$I$2:$L$70,2,FALSE)),IF(ISERROR(VLOOKUP(AV27,'PO List by Level'!$I$2:$L$70,2,FALSE)),\"TBD\",VLOOKUP(AV27,'PO List by Level'!$I$2:$L$70,2,FALSE)),VLOOKUP(LEFT(AV27,4),'PO List by Level'!$I$2:$L$70,2,FALSE))","v":"TBD"}]
[null,null,"Instructor",null,null,"Virtual","Virtual","Virtual","Virtual","S. Hangar","Virtual",null,"Virtual",null,"Virtual","Virtual","Virtual",{"$nulls":3},"FSgt Irfan","FSgt Al-Maghazachi","FSgt Jasey","OCdt Bryan","Sgt Pang","Staff","FSgt Irfan",null,"Sgt Pang",{"$nulls":8},"Virtual",{"$nulls":3},"Guest Speaker"]
[null,null,"Location",null,null,"FSgt Vaupotic","Sgt Pang","FSgt Diaz","Sgt Pang","WO2 Bradford","FSgt Irfan","WO2 Muscat","Sgt Orr","Sgt Loewen","Sgt Gorham","FSgt Vaupotic","FSgt Irfan",{"$nulls":20},"Mess Dinner"]
[null,2,"PO/EO",null,null,"M307.03","C309.01","M307.02","M303.02","C208.01","C309.04","M370.02","M303.01","M308.01","M309.01","M309.02","M370.03","Party - C","Christmas","Christmas","M331.01","M337.02","M336.03","M336.04","C331.01","M336.PC","M303.04","M309.04","M303.05","M309.05","March Break","M303.06","M309.06","MX04.03","M303.07","M309.07","M309.PC","MX20.01D","M309.PC","M309.PC","M309.PC","CX04.04","ACR Prep"]
[null,null,"Subject",{"$f":"IF(ISERROR(VLOOKUP(LEFT(D31,4),'PO List by Level'!$I$2:$L$70,2,FALSE)),IF(ISERROR(VLOOKUP(D31,'PO List by Level'!$I$2:$L$70,2,FALSE)),\"TBD\",VLOOKUP(D31,'PO List by Level'!$I$2:$L$70,2,FALSE)),VLOOKUP(LEFT(D31,4),'PO List by Level'!$I$2:$L$70,2,FALSE))","v":"TBD"},{"$f":"IF(ISERROR(VLOOKUP(LEFT(E31,4),'PO List by Level'!$I$2:$L$70,2,FALSE)),IF(ISERROR(VLOOKUP(E31,'PO List by Level'!$I$2:$L$70,2,FALSE)),\"TBD\",VLOOKUP(E31,'PO List by Level'!$I$2:$L$70,2,FALSE)),VLOOKUP(LEFT(E31,4),'PO List by Level'!$I$2:$L$70,2,FALSE))","v":"TBD"},{"$f":"IF(ISERROR(VLOOKUP(LEFT(F31,4),'PO List by Level'!$I$2:$L$70,2,FALSE)),IF(ISERROR(VLOOKUP(F31,'PO List by Level'!$I$2:$L$70,2,FALSE)),\"TBD\",VLOOKUP(F31,'PO List by Level'!$I$2:$L$70,2,FALSE)),VLOOKUP(LEFT(F31,4),'PO List by Level'!$I$2:$L$70,2,FALSE))","v":"General Cadet Knowledge"},{"$f":"IF(ISERROR(VLOOKUP(LEFT(G31,4),'PO List by Level'!$I$2:$L$70,2,FALSE)),IF(ISERROR(VLOOKUP(G31,'PO List by Level'!$I$2:$L$70,2,FALSE)),\"TBD\",VLOOKUP(G31,'PO List by Level'!$I$2:$L$70,2,FALSE)),VLOOKUP(LEFT(G31,4),'PO List by Level'!$I$2:$L$70,2,FALSE))","v":"Instructional Techniques."},{"$f":"IF(ISERROR(VLOOKUP(LEFT(H31,4),'PO List by Level'!$I$2:$L$70,2,FALSE)),IF(ISERROR(VLOOKUP(H31,'PO List by Level'!$I$2:$L$70,2,FALSE)),\"TBD\",VLOOKUP(H31,'PO List by Level'!$I$2:$L$70,2,FALSE)),VLOOKUP(LEFT(H31,4),'PO List by Level'!$I$2:$L$70,2,FALSE))","v":"General Cadet Knowledge"},{"$f":"IF(ISERROR(VLOOKUP(LEFT(I31,4),'PO List by Level'!$I$2:$L$70,2,FALSE)),IF(ISERROR(VLOOKUP(I31,'PO List by Level'!$I$2:$L$70,2,FALSE)),\"TBD\",VLOOKUP(I31,'PO List by Level'!$I$2:$L$70,2,FALSE)),VLOOKUP(LEFT(I31,4),'PO List by Level'!$I$2:$L$70,2,FALSE))","v":"Leadership"},{"$f":"IF(ISERROR(VLOOKUP(LEFT(J31,4),'PO List by Level'!$I$2:$L$70,2,FALSE)),IF(ISERROR(VLOOKUP(J31,'PO List by Level'!$I$2:$L$70,2,FALSE)),\"TBD\",VLOOKUP(J31,'PO List by Level'!$I$2:$L$70,2,FALSE)),VLOOKUP(LEFT(J31,4),'PO List by Level'!$I$2:$L$70,2,FALSE))","v":"Drill and Ceremonial"},{"$f":"IF(ISERROR(VLOOKUP(LEFT(K31,4),'PO List by Level'!$I$2:$L$70,2,FALSE)),IF(ISERROR(VLOOKUP(K31,'PO List by Level'!$I$2:$L$70,2,FALSE)),\"TBD\",VLOOKUP(K31,'PO List by Level'!$I$2:$L$70,2,FALSE)),VLOOKUP(LEFT(K31,4),'PO List by Level'!$I$2:$L$70,2,FALSE))","v":"Instructional Techniques."},{"$f":"IF(ISERROR(VLOOKUP(LEFT(L31,4),'PO List by Level'!$I$2:$L$70,2,FALSE)),IF(ISERROR(VLOOKUP(L31,'PO List by Level'!$I$2:$L$70,2,FALSE)),\"TBD\",VLOOKUP(L31,'PO List by Level'!$I$2:$L$70,2,FALSE)),VLOOKUP(LEFT(L31,4),'PO List by Level'!$I$2:$L$70,2,FALSE))","v":"Aircraft Manufacturing and Maintenance"},{"$f":"IF(ISERROR(VLOOKUP(LEFT(M31,4),'PO List by Level'!$I$2:$L$70,2,FALSE)),IF(ISERROR(VLOOKUP(M31,'PO List by Level'!$I$2:$L$70,2,FALSE)),\"TBD\",VLOOKUP(M31,'PO List by Level'!$I$2:$L$70,2,FALSE)),VLOOKUP(LEFT(M31,4),'PO List by Level'!$I$2:$L$70,2,FALSE))","v":"Leadership"},{"$f":"IF(ISERROR(VLOOKUP(LEFT(N31,4),'PO List by Level'!$I$2:$L$70,2,FALSE)),IF(ISERROR(VLOOKUP(N31,'PO List by Level'!$I$2:$L$70,2,FALSE)),\"TBD\",VLOOKUP(N31,'PO List by Level'!$I$2:$L$70,2,FALSE)),VLOOKUP(LEFT(N31,4),'PO List by Level'!$I$2:$L$70,2,FALSE))","v":"Drill and Ceremonial"},{"$f":"IF(ISERROR(VLOOKUP(LEFT(O31,4),'PO List by Level'!$I$2:$L$70,2,FALSE)),IF(ISERROR(VLOOKUP(O31,'PO List by Level'!$I$2:$L$70,2,FALSE)),\"TBD\",VLOOKUP(O31,'PO List by Level'!$I$2:$L$70,2,FALSE)),VLOOKUP(LEFT(O31,4),'PO List by Level'!$I$2:$L$70,2,FALSE))","v":"Instructional Techniques."},{"$f":"IF(ISERROR(VLOOKUP(LEFT(P31,4),'PO List by Level'!$I$2:$L$70,2,FALSE)),IF(ISERROR(VLOOKUP(P31,'PO List by Level'!$I$2:$L$70,2,FALSE)),\"TBD\",VLOOKUP(P31,'PO List by Level'!$I$2:$L$70,2,FALSE)),VLOOKUP(LEFT(P31,4),'PO List by Level'!$I$2:$L$70,2,FALSE))","v":"Instructional Techniques."},{"$f":"IF(ISERROR(VLOOKUP(LEFT(Q31,4),'PO List by Level'!$I$2:$L$70,2,FALSE)),IF(ISERROR(VLOOKUP(Q31,'PO List by Level'!$I$2:$L$70,2,FALSE)),\"TBD\",VLOOKUP(Q31,'PO List by Level'!$I$2:$L$70,2,FALSE)),VLOOKUP(LEFT(Q31,4),'PO List by Level'!$I$2:$L$70,2,FALSE))","v":"Aircraft Manufacturing and Maintenance"},{"$f":"IF(ISERROR(VLOOKUP(LEFT(R31,4),'PO List by Level'!$I$2:$L$70,2,FALSE)),IF(ISERROR(VLOOKUP(R31,'PO List by Level'!$I$2:$L$70,2,FALSE)),\"TBD\",VLOOKUP(R31,'PO List by Level'!$I$2:$L$70,2,FALSE)),VLOOKUP(LEFT(R31,4),'PO List by Level'!$I$2:$L$70,2,FALSE))","v":"Christmas Party"},{"$f":"IF(ISERROR(VLOOKUP(LEFT(S31,4),'PO List by Level'!$I$2:$L$70,2,FALSE)),IF(ISERROR(VLOOKUP(S31,'PO List by Level'!$I$2:$L$70,2,FALSE)),\"TBD\",VLOOKUP(S31,'PO List by Level'!$I$2:$L$70,2,FALSE)),VLOOKUP(LEFT(S31,4),'PO List by Level'!$I$2:$L$70,2,FALSE))","v":"Xmas Break"},{"$f":"IF(ISERROR(VLOOKUP(LEFT(T31,4),'PO List by Level'!$I$2:$L$70,2,FALSE)),IF(ISERROR(VLOOKUP(T31,'PO List by Level'!$I$2:$L$70,2,FALSE)),\"TBD\",VLOOKUP(T31,'PO List by Level'!$I$2:$L$70,2,FALSE)),VLOOKUP(LEFT(T31,4),'PO List by Level'!$I$2:$L$70,2,FALSE))","v":"Xmas Break"},{"$f":"IF(ISERROR(VLOOKUP(LEFT(U31,4),'PO List by Level'!$I$2:$L$70,2,FALSE)),IF(ISERROR(VLOOKUP(U31,'PO List by Level'!$I$2:$L$70,2,FALSE)),\"TBD\",VLOOKUP(U31,'PO List by Level'!$I$2:$L$70,2,FALSE)),VLOOKUP(LEFT(U31,4),'PO List by Level'!$I$2:$L$70,2,FALSE))","v":"Principles of Flight"},{"$f":"IF(ISERROR(VLOOKUP(LEFT(V31,4),'PO List by Level'!$I$2:$L$70,2,FALSE)),IF(ISERROR(VLOOKUP(V31,'PO List by Level'!$I$2:$L$70,2,FALSE)),\"TBD\",VLOOKUP(V31,'PO List by Level'!$I$2:$L$70,2,FALSE)),VLOOKUP(LEFT(V31,4),'PO List by Level'!$I$2:$L$70,2,FALSE))","v":"Air Navigation"},{"$f":"IF(ISERROR(VLOOKUP(LEFT(W31,4),'PO List by Level'!$I$2:$L$70,2,FALSE)),IF(ISERROR(VLOOKUP(W31,'PO List by Level'!$I$2:$L$70,2,FALSE)),\"TBD\",VLOOKUP(W31,'PO List by Level'!$I$2:$L$70,2,FALSE)),VLOOKUP(LEFT(W31,4),'PO List by Level'!$I$2:$L$70,2,FALSE))","v":"Meteorology"},{"$f":"IF(ISERROR(VLOOKUP(LEFT(X31,4),'PO List by Level'!$I$2:$L$70,2,FALSE)),IF(ISERROR(VLOOKUP(X31,'PO List by Level'!$I$2:$L$70,2,FALSE)),\"TBD\",VLOOKUP(X31,'PO List by Level'!$I$2:$L$70,2,FALSE)),VLOOKUP(LEFT(X31,4),'PO List by Level'!$I$2:$L$70,2,FALSE))","v":"Meteorology"},{"$f":"IF(ISERROR(VLOOKUP(LEFT(Y31,4),'PO List by Level'!$I$2:$L$70,2,FALSE)),IF(ISERROR(VLOOKUP(Y31,'PO List by Level'!$I$2:$L$70,2,FALSE)),\"TBD\",VLOOKUP(Y31,'PO List by Level'!$I$2:$L$70,2,FALSE)),VLOOKUP(LEFT(Y31,4),'PO List by Level'!$I$2:$L$70,2,FALSE))","v":"Principles of Flight"},{"$f":"IF(ISERROR(VLOOKUP(LEFT(Z31,4),'PO List by Level'!$I$2:$L$70,2,FALSE)),IF(ISERROR(VLOOKUP(Z31,'PO List by Level'!$I$2:$L$70,2,FALSE)),\"TBD\",VLOOKUP(Z31,'PO List by Level'!$I$2:$L$70,2,FALSE)),VLOOKUP(LEFT(Z31,4),'PO List by Level'!$I$2:$L$70,2,FALSE))","v":"Meteorology"},{"$f":"IF(ISERROR(VLOOKUP(LEFT(AA31,4),'PO List by Level'!$I$2:$L$70,2,FALSE)),IF(ISERROR(VLOOKUP(AA31,'PO List by Level'!$I$2:$L$70,2,FALSE)),\"TBD\",VLOOKUP(AA31,'PO List by Level'!$I$2:$L$70,2,FALSE)),VLOOKUP(LEFT(AA31,4),'PO List by Level'!$I$2:$L$70,2,FALSE))","v":"Leadership"},{"$f":"IF(ISERROR(VLOOKUP(LEFT(AB31,4),'PO List by Level'!$I$2:$L$70,2,FALSE)),IF(ISERROR(VLOOKUP(AB31,'PO List by Level'!$I$2:$L$70,2,FALSE)),\"TBD\",VLOOKUP(AB31,'PO List by Level'!$I$2:$L$70,2,FALSE)),VLOOKUP(LEFT(AB31,4),'PO List by Level'!$I$2:$L$70,2,FALSE))","v":"Instructional Techniques."},{"$f":"IF(ISERROR(VLOOKUP(LEFT(AC31,4),'PO List by Level'!$I$2:$L$70,2,FALSE)),IF(ISERROR(VLOOKUP(AC31,'PO List by Level'!$I$2:$L$70,2,FALSE)),\"TBD\",VLOOKUP(AC31,'PO List by Level'!$I$2:$L$70,2,FALSE)),VLOOKUP(LEFT(AC31,4),'PO List by Level'!$I$2:$L$70,2,FALSE))","v":"Leadership"},{"$f":"IF(ISERROR(VLOOKUP(LEFT(AD31,4),'PO List by Level'!$I$2:$L$70,2,FALSE)),IF(ISERROR(VLOOKUP(AD31,'PO List by Level'!$I$2:$L$70,2,FALSE)),\"TBD\",VLOOKUP(AD31,'PO List by Level'!$I$2:$L$70,2,FALSE)),VLOOKUP(LEFT(AD31,4),'PO List by Level'!$I$2:$L$70,2,FALSE))","v":"Instructional Techniques."},{"$f":"IF(ISERROR(VLOOKUP(LEFT(AE31,4),'PO List by Level'!$I$2:$L$70,2,FALSE)),IF(ISERROR(VLOOKUP(AE31,'PO List by Level'!$I$2:$L$70,2,FALSE)),\"TBD\",VLOOKUP(AE31,'PO List by Level'!$I$2:$L$70,2,FALSE)),VLOOKUP(LEFT(AE31,4),'PO List by Level'!$I$2:$L$70,2,FALSE))","v":"Break"},{"$f":"IF(ISERROR(VLOOKUP(LEFT(AF31,4),'PO List by Level'!$I$2:$L$70,2,FALSE)),IF(ISERROR(VLOOKUP(AF31,'PO List by Level'!$I$2:$L$70,2,FALSE)),\"TBD\",VLOOKUP(AF31,'PO List by Level'!$I$2:$L$70,2,FALSE)),VLOOKUP(LEFT(AF31,4),'PO List by Level'!$I$2:$L$70,2,FALSE))","v":"Leadership"},{"$f":"IF(ISERROR(VLOOKUP(LEFT(AG31,4),'PO List by Level'!$I$2:$L$70,2,FALSE)),IF(ISERROR(VLOOKUP(AG31,'PO List by Level'!$I$2:$L$70,2,FALSE)),\"TBD\",VLOOKUP(AG31,'PO List by Level'!$I$2:$L$70,2,FALSE)),VLOOKUP(LEFT(AG31,4),'PO List by Level'!$I$2:$L$70,2,FALSE))","v":"Instructional Techniques."},{"$f":"IF(ISERROR(VLOOKUP(LEFT(AH31,4),'PO List by Level'!$I$2:$L$70,2,FALSE)),IF(ISERROR(VLOOKUP(AH31,'PO List by Level'!$I$2:$L$70,2,FALSE)),\"TBD\",VLOOKUP(AH31,'PO List by Level'!$I$2:$L$70,2,FALSE)),VLOOKUP(LEFT(AH31,4),'PO List by Level'!$I$2:$L$70,2,FALSE))","v":"Personal Fitness and Healthy Living"},{"$f":"IF(ISERROR(VLOOKUP(LEFT(AI31,4),'PO List by Level'!$I$2:$L$70,2,FALSE)),IF(ISERROR(VLOOKUP(AI31,'PO List by Level'!$I$2:$L$70,2,FALSE)),\"TBD\",VLOOKUP(AI31,'PO List by Level'!$I$2:$L$70,2,FALSE)),VLOOKUP(LEFT(AI31,4),'PO List by Level'!$I$2:$L$70,2,FALSE))","v":"Leadership"},{"$f":"IF(ISERROR(VLOOKUP(LEFT(AJ31,4),'PO List by Level'!$I$2:$L$70,2,FALSE)),IF(ISERROR(VLOOKUP(AJ31,'PO List by Level'!$I$2:$L$70,2,FALSE)),\"TBD\",VLOOKUP(AJ31,'PO List by Level'!$I$2:$L$70,2,FALSE)),VLOOKUP(LEFT(AJ31,4),'PO List by Level'!$I$2:$L$70,2,FALSE))","v":"Instructional Techniques."},{"$f":"IF(ISERROR(VLOOKUP(LEFT(AK31,4),'PO List by Level'!$I$2:$L$70,2,FALSE)),IF(ISERROR(VLOOKUP(AK31,'PO List by Level'!$I$2:$L$70,2,FALSE)),\"TBD\",VLOOKUP(AK31,'PO List by Level'!$I$2:$L$70,2,FALSE)),VLOOKUP(LEFT(AK31,4),'PO List by Level'!$I$2:$L$70,2,FALSE))","v":"Instructional Techniques."},{"$f":"IF(ISERROR(VLOOKUP(LEFT(AL31,4),'PO List by Level'!$I$2:$L$70,2,FALSE)),IF(ISERROR(VLOOKUP(AL31,'PO List by Level'!$I$2:$L$70,2,FALSE)),\"TBD\",VLOOKUP(AL31,'PO List by Level'!$I$2:$L$70,2,FALSE)),VLOOKUP(LEFT(AL31,4),'PO List by Level'!$I$2:$L$70,2,FALSE))","v":"CAF Familiarization"},{"$f":"IF(ISERROR(VLOOKUP(LEFT(AM31,4),'PO List by Level'!$I$2:$L$70,2,FALSE)),IF(ISERROR(VLOOKUP(AM31,'PO List by Level'!$I$2:$L$70,2,FALSE)),\"TBD\",VLOOKUP(AM31,'PO List by Level'!$I$2:$L$70,2,FALSE)),VLOOKUP(LEFT(AM31,4),'PO List by Level'!$I$2:$L$70,2,FALSE))","v":"Instructional Techniques."},{"$f":"IF(ISERROR(VLOOKUP(LEFT(AN31,4),'PO List by Level'!$I$2:$L$70,2,FALSE)),IF(ISERROR(VLOOKUP(AN31,'PO List by Level'!$I$2:$L$70,2,FALSE)),\"TBD\",VLOOKUP(AN31,'PO List by Level'!$I$2:$L$70,2,FALSE)),VLOOKUP(LEFT(AN31,4),'PO List by Level'!$I$2:$L$70,2,FALSE))","v":"Instructional Techniques."},{"$f":"IF(ISERROR(VLOOKUP(LEFT(AO31,4),'PO List by Level'!$I$2:$L$70,2,FALSE)),IF(ISERROR(VLOOKUP(AO31,'PO List by Level'!$I$2:$L$70,2,FALSE)),\"TBD\",VLOOKUP(AO31,'PO List by Level'!$I$2:$L$70,2,FALSE)),VLOOKUP(LEFT(AO31,4),'PO List by Level'!$I$2:$L$70,2,FALSE))","v":"Instructional Techniques."},{"$f":"IF(ISERROR(VLOOKUP(LEFT(AP31,4),'PO List by Level'!$I$2:$L$70,2,FALSE)),IF(ISERROR(VLOOKUP(AP31,'PO List by Level'!$I$2:$L$70,2,FALSE)),\"TBD\",VLOOKUP(AP31,'PO List by Level'!$I$2:$L$70,2,FALSE)),VLOOKUP(LEFT(AP31,4),'PO List by Level'!$I$2:$L$70,2,FALSE))","v":"Personal Fitness and Healthy Living"},{"$f":"IF(ISERROR(VLOOKUP(LEFT(AQ31,4),'PO List by Level'!$I$2:$L$70,2,FALSE)),IF(ISERROR(VLOOKUP(AQ31,'PO List by Level'!$I$2:$L$70,2,FALSE)),\"TBD\",VLOOKUP(AQ31,'PO List by Level'!$I$2:$L$70,2,FALSE)),VLOOKUP(LEFT(AQ31,4),'PO List by Level'!$I$2:$L$70,2,FALSE))","v":"ACR Practice"},{"$f":"IF(ISERROR(VLOOKUP(LEFT(AR31,4),'PO List by Level'!$I$2:$L$70,2,FALSE)),IF(ISERROR(VLOOKUP(AR31,'PO List by Level'!$I$2:$L$70,2,FALSE)),\"TBD\",VLOOKUP(AR31,'PO List by Level'!$I$2:$L$70,2,FALSE)),VLOOKUP(LEFT(AR31,4),'PO List by Level'!$I$2:$L$70,2,FALSE))","v":"TBD"},{"$f":"IF(ISERROR(VLOOKUP(LEFT(AS31,4),'PO List by Level'!$I$2:$L$70,2,FALSE)),IF(ISERROR(VLOOKUP(AS31,'PO List by Level'!$I$2:$L$70,2,FALSE)),\"TBD\",VLOOKUP(AS31,'PO List by Level'!$I$2:$L$70,2,FALSE)),VLOOKUP(LEFT(AS31,4),'PO List by Level'!$I$2:$L$70,2,FALSE))","v":"TBD"},{"$f":"IF(ISERROR(VLOOKUP(LEFT(AT31,4),'PO List by Level'!$I$2:$L$70,2,FALSE)),IF(ISERROR(VLOOKUP(AT31,'PO List by Level'!$I$2:$L$70,2,FALSE)),\"TBD\",VLOOKUP(AT31,'PO List by Level'!$I$2:$L$70,2,FALSE)),VLOOKUP(LEFT(AT31,4),'PO List by Level'!$I$2:$L$70,2,FALSE))","v":"TBD"},{"$f":"IF(ISERROR(VLOOKUP(LEFT(AU31,4),'PO List by Level'!$I$2:$L$70,2,FALSE)),IF(ISERROR(VLOOKUP(AU31,'PO List by Level'!$I$2:$L$70,2,FALSE)),\"TBD\",VLOOKUP(AU31,'PO List by Level'!$I$2:$L$70,2,FALSE)),VLOOKUP(LEFT(AU31,4),'PO List by Level'!$I$2:$L$70,2,FALSE))","v":"TBD"},{"$f":"IF(ISERROR(VLOOKUP(LEFT(AV31,4),'PO List by Level'!$I$2:$L$70,2,FALSE)),IF(ISERROR(VLOOKUP(AV31,'PO List by Level'!$I$2:$L$70,2,FALSE)),\"TBD\",VLOOKUP(AV31,'PO List by Level'!$I$2:$L$70,2,FALSE)),VLOOKUP(LEFT(AV31,4),'PO List by Level'!$I$2:$L$70,2,FALSE))","v":"TBD"}]
[null,null,"Instructor",null,null,"Virtual","Virtual","Virtual","Virtual","S. Hangar","Virtual",null,"Virtual",null,"Virtual","Virtual","Virtual",{"$nulls":3},"same","FSgt Filipowitz","FSgt Filipowitz","same","FSgt Irfan","Same","same",null,"Same","Same",null,"Same","Same",null,"Same",null,null,"Virtual",{"$nulls":3},"Guest Speaker"]
[null,null,"Location",null,null,"Sgt Pang","WO2 Muscat","Sgt Unnithan",null,"same","WO2 Zaid","Sgt Pang","Same","Same","Same","Same","FSgt Al-Maghazachi",{"$nulls":20},"Mess Dinner"]
[null,3,"PO/EO",{"$nulls":15},"Christmas","Christmas",{"$nulls":10},"March Break",null,null,"MX04.03",null,"M309.07",null,"MX20.01D",{"$nulls":4},"ACR Prep"]
[null,null,"Subject",{"$f":"IF(ISERROR(VLOOKUP(LEFT(D35,4),'PO List by Level'!$I$2:$L$70,2,FALSE)),IF(ISERROR(VLOOKUP(D35,'PO List by Level'!$I$2:$L$70,2,FALSE)),\"TBD\",VLOOKUP(D35,'PO List by Level'!$I$2:$L$70,2,FALSE)),VLOOKUP(LEFT(D35,4),'PO List by Level'!$I$2:$L$70,2,FALSE))","v":"TBD"},{"$f":"IF(ISERROR(VLOOKUP(LEFT(E35,4),'PO List by Level'!$I$2:$L$70,2,FALSE)),IF(ISERROR(VLOOKUP(E35,'PO List by Level'!$I$2:$L$70,2,FALSE)),\"TBD\",VLOOKUP(E35,'PO List by Level'!$I$2:$L$70,2,FALSE)),VLOOKUP(LEFT(E35,4),'PO List by Level'!$I$2:$L$70,2,FALSE))","v":"TBD"},{"$f":"IF(ISERROR(VLOOKUP(LEFT(F35,4),'PO List by Level'!$I$2:$L$70,2,FALSE)),IF(ISERROR(VLOOKUP(F35,'PO List by Level'!$I$2:$L$70,2,FALSE)),\"TBD\",VLOOKUP(F35,'PO List by Level'!$I$2:$L$70,2,FALSE)),VLOOKUP(LEFT(F35,4),'PO List by Level'!$I$2:$L$70,2,FALSE))","v":"TBD"},{"$f":"IF(ISERROR(VLOOKUP(LEFT(G35,4),'PO List by Level'!$I$2:$L$70,2,FALSE)),IF(ISERROR(VLOOKUP(G35,'PO List by Level'!$I$2:$L$70,2,FALSE)),\"TBD\",VLOOKUP(G35,'PO List by Level'!$I$2:$L$70,2,FALSE)),VLOOKUP(LEFT(G35,4),'PO List by Level'!$I$2:$L$70,2,FALSE))","v":"TBD"},{"$f":"IF(ISERROR(VLOOKUP(LEFT(H35,4),'PO List by Level'!$I$2:$L$70,2,FALSE)),IF(ISERROR(VLOOKUP(H35,'PO List by Level'!$I$2:$L$70,2,FALSE)),\"TBD\",VLOOKUP(H35,'PO List by Level'!$I$2:$L$70,2,FALSE)),VLOOKUP(LEFT(H35,4),'PO List by Level'!$I$2:$L$70,2,FALSE))","v":"TBD"},{"$f":"IF(ISERROR(VLOOKUP(LEFT(I35,4),'PO List by Level'!$I$2:$L$70,2,FALSE)),IF(ISERROR(VLOOKUP(I35,'PO List by Level'!$I$2:$L$70,2,FALSE)),\"TBD\",VLOOKUP(I35,'PO List by Level'!$I$2:$L$70,2,FALSE)),VLOOKUP(LEFT(I35,4),'PO List by Level'!$I$2:$L$70,2,FALSE))","v":"TBD"},{"$f":"IF(ISERROR(VLOOKUP(LEFT(J35,4),'PO List by Level'!$I$2:$L$70,2,FALSE)),IF(ISERROR(VLOOKUP(J35,'PO List by Level'!$I$2:$L$70,2,FALSE)),\"TBD\",VLOOKUP(J35,'PO List by Level'!$I$2:$L$70,2,FALSE)),VLOOKUP(LEFT(J35,4),'PO List by Level'!$I$2:$L$70,2,FALSE))","v":"TBD"},{"$f":"IF(ISERROR(VLOOKUP(LEFT(K35,4),'PO List by Level'!$I$2:$L$70,2,FALSE)),IF(ISERROR(VLOOKUP(K35,'PO List by Level'!$I$2:$L$70,2,FALSE)),\"TBD\",VLOOKUP(K35,'PO List by Level'!$I$2:$L$70,2,FALSE)),VLOOKUP(LEFT(K35,4),'PO List by Level'!$I$2:$L$70,2,FALSE))","v":"TBD"},{"$f":"IF(ISERROR(VLOOKUP(LEFT(L35,4),'PO List by Level'!$I$2:$L$70,2,FALSE)),IF(ISERROR(VLOOKUP(L35,'PO List by Level'!$I$2:$L$70,2,FALSE)),\"TBD\",VLOOKUP(L35,'PO List by Level'!$I$2:$L$70,2,FALSE)),VLOOKUP(LEFT(L35,4),'PO List by Level'!$I$2:$L$70,2,FALSE))","v":"TBD"},{"$f":"IF(ISERROR(VLOOKUP(LEFT(M35,4),'PO List by Level'!$I$2:$L$70,2,FALSE)),IF(ISERROR(VLOOKUP(M35,'PO List by Level'!$I$2:$L$70,2,FALSE)),\"TBD\",VLOOKUP(M35,'PO List by Level'!$I$2:$L$70,2,FALSE)),VLOOKUP(LEFT(M35,4),'PO List by Level'!$I$2:$L$70,2,FALSE))","v":"TBD"},{"$f":"IF(ISERROR(VLOOKUP(LEFT(N35,4),'PO List by Level'!$I$2:$L$70,2,FALSE)),IF(ISERROR(VLOOKUP(N35,'PO List by Level'!$I$2:$L$70,2,FALSE)),\"TBD\",VLOOKUP(N35,'PO List by Level'!$I$2:$L$70,2,FALSE)),VLOOKUP(LEFT(N35,4),'PO List by Level'!$I$2:$L$70,2,FALSE))","v":"TBD"},{"$f":"IF(ISERROR(VLOOKUP(LEFT(O35,4),'PO List by Level'!$I$2:$L$70,2,FALSE)),IF(ISERROR(VLOOKUP(O35,'PO List by Level'!$I$2:$L$70,2,FALSE)),\"TBD\",VLOOKUP(O35,'PO List by Level'!$I$2:$L$70,2,FALSE)),VLOOKUP(LEFT(O35,4),'PO List by Level'!$I$2:$L$70,2,FALSE))","v":"TBD"},{"$f":"IF(ISERROR(VLOOKUP(LEFT(P35,4),'PO List by Level'!$I$2:$L$70,2,FALSE)),IF(ISERROR(VLOOKUP(P35,'PO List by Level'!$I$2:$L$70,2,FALSE)),\"TBD\",VLOOKUP(P35,'PO List by Level'!$I$2:$L$70,2,FALSE)),VLOOKUP(LEFT(P35,4),'PO List by Level'!$I$2:$L$70,2,FALSE))","v":"TBD"},{"$f":"IF(ISERROR(VLOOKUP(LEFT(Q35,4),'PO List by Level'!$I$2:$L$70,2,FALSE)),IF(ISERROR(VLOOKUP(Q35,'PO List by Level'!$I$2:$L$70,2,FALSE)),\"TBD\",VLOOKUP(Q35,'PO List by Level'!$I$2:$L$70,2,FALSE)),VLOOKUP(LEFT(Q35,4),'PO List by Level'!$I$2:$L$70,2,FALSE))","v":"TBD"},{"$f":"IF(ISERROR(VLOOKUP(LEFT(R35,4),'PO List by Level'!$I$2:$L$70,2,FALSE)),IF(ISERROR(VLOOKUP(R35,'PO List by Level'!$I$2:$L$70,2,FALSE)),\"TBD\",VLOOKUP(R35,'PO List by Level'!$I$2:$L$70,2,FALSE)),VLOOKUP(LEFT(R35,4),'PO List by Level'!$I$2:$L$70,2,FALSE))","v":"TBD"},{"$f":"IF(ISERROR(VLOOKUP(LEFT(S35,4),'PO List by Level'!$I$2:$L$70,2,FALSE)),IF(ISERROR(VLOOKUP(S35,'PO List by Level'!$I$2:$L$70,2,FALSE)),\"TBD\",VLOOKUP(S35,'PO List by Level'!$I$2:$L$70,2,FALSE)),VLOOKUP(LEFT(S35,4),'PO List by Level'!$I$2:$L$70,2,FALSE))","v":"Xmas Break"},{"$f":"IF(ISERROR(VLOOKUP(LEFT(T35,4),'PO List by Level'!$I$2:$L$70,2,FALSE)),IF(ISERROR(VLOOKUP(T35,'PO List by Level'!$I$2:$L$70,2,FALSE)),\"TBD\",VLOOKUP(T35,'PO List by Level'!$I$2:$L$70,2,FALSE)),VLOOKUP(LEFT(T35,4),'PO List by Level'!$I$2:$L$70,2,FALSE))","v":"Xmas Break"},{"$f":"IF(ISERROR(VLOOKUP(LEFT(U35,4),'PO List by Level'!$I$2:$L$70,2,FALSE)),IF(ISERROR(VLOOKUP(U35,'PO List by Level'!$I$2:$L$70,2,FALSE)),\"TBD\",VLOOKUP(U35,'PO List by Level'!$I$2:$L$70,2,FALSE)),VLOOKUP(LEFT(U35,4),'PO List by Level'!$I$2:$L$70,2,FALSE))","v":"TBD"},{"$f":"IF(ISERROR(VLOOKUP(LEFT(V35,4),'PO List by Level'!$I$2:$L$70,2,FALSE)),IF(ISERROR(VLOOKUP(V35,'PO List by Level'!$I$2:$L$70,2,FALSE)),\"TBD\",VLOOKUP(V35,'PO List by Level'!$I$2:$L$70,2,FALSE)),VLOOKUP(LEFT(V35,4),'PO List by Level'!$I$2:$L$70,2,FALSE))","v":"TBD"},{"$f":"IF(ISERROR(VLOOKUP(LEFT(W35,4),'PO List by Level'!$I$2:$L$70,2,FALSE)),IF(ISERROR(VLOOKUP(W35,'PO List by Level'!$I$2:$L$70,2,FALSE)),\"TBD\",VLOOKUP(W35,'PO List by Level'!$I$2:$L$70,2,FALSE)),VLOOKUP(LEFT(W35,4),'PO List by Level'!$I$2:$L$70,2,FALSE))","v":"TBD"},{"$f":"IF(ISERROR(VLOOKUP(LEFT(X35,4),'PO List by Level'!$I$2:$L$70,2,FALSE)),IF(ISERROR(VLOOKUP(X35,'PO List by Level'!$I$2:$L$70,2,FALSE)),\"TBD\",VLOOKUP(X35,'PO List by Level'!$I$2:$L$70,2,FALSE)),VLOOKUP(LEFT(X35,4),'PO List by Level'!$I$2:$L$70,2,FALSE))","v":"TBD"},{"$f":"IF(ISERROR(VLOOKUP(LEFT(Y35,4),'PO List by Level'!$I$2:$L$70,2,FALSE)),IF(ISERROR(VLOOKUP(Y35,'PO List by Level'!$I$2:$L$70,2,FALSE)),\"TBD\",VLOOKUP(Y35,'PO List by Level'!$I$2:$L$70,2,FALSE)),VLOOKUP(LEFT(Y35,4),'PO List by Level'!$I$2:$L$70,2,FALSE))","v":"TBD"},{"$f":"IF(ISERROR(VLOOKUP(LEFT(Z35,4),'PO List by Level'!$I$2:$L$70,2,FALSE)),IF(ISERROR(VLOOKUP(Z35,'PO List by Level'!$I$2:$L$70,2,FALSE)),\"TBD\",VLOOKUP(Z35,'PO List by Level'!$I$2:$L$70,2,FALSE)),VLOOKUP(LEFT(Z35,4),'PO List by Level'!$I$2:$L$70,2,FALSE))","v":"TBD"},{"$f":"IF(ISERROR(VLOOKUP(LEFT(AA35,4),'PO List by Level'!$I$2:$L$70,2,FALSE)),IF(ISERROR(VLOOKUP(AA35,'PO List by Level'!$I$2:$L$70,2,FALSE)),\"TBD\",VLOOKUP(AA35,'PO List by Level'!$I$2:$L$70,2,FALSE)),VLOOKUP(LEFT(AA35,4),'PO List by Level'!$I$2:$L$70,2,FALSE))","v":"TBD"},{"$f":"IF(ISERROR(VLOOKUP(LEFT(AB35,4),'PO List by Level'!$I$2:$L$70,2,FALSE)),IF(ISERROR(VLOOKUP(AB35,'PO List by Level'!$I$2:$L$70,2,FALSE)),\"TBD\",VLOOKUP(AB35,'PO List by Level'!$I$2:$L$70,2,FALSE)),VLOOKUP(LEFT(AB35,4),'PO List by Level'!$I$2:$L$70,2,FALSE))","v":"TBD"},{"$f":"IF(ISERROR(VLOOKUP(LEFT(AC35,4),'PO List by Level'!$I$2:$L$70,2,FALSE)),IF(ISERROR(VLOOKUP(AC35,'PO List by Level'!$I$2:$L$70,2,FALSE)),\"TBD\",VLOOKUP(AC35,'PO List by Level'!$I$2:$L$70,2,FALSE)),VLOOKUP(LEFT(AC35,4),'PO List by Level'!$I$2:$L$70,2,FALSE))","v":"TBD"},{"$f":"IF(ISERROR(VLOOKUP(LEFT(AD35,4),'PO List by Level'!$I$2:$L$70,2,FALSE)),IF(ISERROR(VLOOKUP(AD35,'PO List by Level'!$I$2:$L$70,2,FALSE)),\"TBD\",VLOOKUP(AD35,'PO List by Level'!$I$2:$L$70,2,FALSE)),VLOOKUP(LEFT(AD35,4),'PO List by Level'!$I$2:$L$70,2,FALSE))","v":"TBD"},{"$f":"IF(ISERROR(VLOOKUP(LEFT(AE35,4),'PO List by Level'!$I$2:$L$70,2,FALSE)),IF(ISERROR(VLOOKUP(AE35,'PO List by Level'!$I$2:$L$70,2,FALSE)),\"TBD\",VLOOKUP(AE35,'PO List by Level'!$I$2:$L$70,2,FALSE)),VLOOKUP(LEFT(AE35,4),'PO List by Level'!$I$2:$L$70,2,FALSE))","v":"Break"},{"$f":"IF(ISERROR(VLOOKUP(LEFT(AF35,4),'PO List by Level'!$I$2:$L$70,2,FALSE)),IF(ISERROR(VLOOKUP(AF35,'PO List by Level'!$I$2:$L$70,2,FALSE)),\"TBD\",VLOOKUP(AF35,'PO List by Level'!$I$2:$L$70,2,FALSE)),VLOOKUP(LEFT(AF35,4),'PO List by Level'!$I$2:$L$70,2,FALSE))","v":"TBD"},{"$f":"IF(ISERROR(VLOOKUP(LEFT(AG35,4),'PO List by Level'!$I$2:$L$70,2,FALSE)),IF(ISERROR(VLOOKUP(AG35,'PO List by Level'!$I$2:$L$70,2,FALSE)),\"TBD\",VLOOKUP(AG35,'PO List by Level'!$I$2:$L$70,2,FALSE)),VLOOKUP(LEFT(AG35,4),'PO List by Level'!$I$2:$L$70,2,FALSE))","v":"TBD"},{"$f":"IF(ISERROR(VLOOKUP(LEFT(AH35,4),'PO List by Level'!$I$2:$L$70,2,FALSE)),IF(ISERROR(VLOOKUP(AH35,'PO List by Level'!$I$2:$L$70,2,FALSE)),\"TBD\",VLOOKUP(AH35,'PO List by Level'!$I$2:$L$70,2,FALSE)),VLOOKUP(LEFT(AH35,4),'PO List by Level'!$I$2:$L$70,2,FALSE))","v":"Personal Fitness and Healthy Living"},{"$f":"IF(ISERROR(VLOOKUP(LEFT(AI35,4),'PO List by Level'!$I$2:$L$70,2,FALSE)),IF(ISERROR(VLOOKUP(AI35,'PO List by Level'!$I$2:$L$70,2,FALSE)),\"TBD\",VLOOKUP(AI35,'PO List by Level'!$I$2:$L$70,2,FALSE)),VLOOKUP(LEFT(AI35,4),'PO List by Level'!$I$2:$L$70,2,FALSE))","v":"TBD"},{"$f":"IF(ISERROR(VLOOKUP(LEFT(AJ35,4),'PO List by Level'!$I$2:$L$70,2,FALSE)),IF(ISERROR(VLOOKUP(AJ35,'PO List by Level'!$I$2:$L$70,2,FALSE)),\"TBD\",VLOOKUP(AJ35,'PO List by Level'!$I$2:$L$70,2,FALSE)),VLOOKUP(LEFT(AJ35,4),'PO List by Level'!$I$2:$L$70,2,FALSE))","v":"Instructional Techniques."},{"$f":"IF(ISERROR(VLOOKUP(LEFT(AK35,4),'PO List by Level'!$I$2:$L$70,2,FALSE)),IF(ISERROR(VLOOKUP(AK35,'PO List by Level'!$I$2:$L$70,2,FALSE)),\"TBD\",VLOOKUP(AK35,'PO List by Level'!$I$2:$L$70,2,FALSE)),VLOOKUP(LEFT(AK35,4),'PO List by Level'!$I$2:$L$70,2,FALSE))","v":"TBD"},{"$f":"IF(ISERROR(VLOOKUP(LEFT(AL35,4),'PO List by Level'!$I$2:$L$70,2,FALSE)),IF(ISERROR(VLOOKUP(AL35,'PO List by Level'!$I$2:$L$70,2,FALSE)),\"TBD\",VLOOKUP(AL35,'PO List by Level'!$I$2:$L$70,2,FALSE)),VLOOKUP(LEFT(AL35,4),'PO List by Level'!$I$2:$L$70,2,FALSE))","v":"CAF Familiarization"},{"$f":"IF(ISERROR(VLOOKUP(LEFT(AM35,4),'PO List by Level'!$I$2:$L$70,2,FALSE)),IF(ISERROR(VLOOKUP(AM35,'PO List by Level'!$I$2:$L$70,2,FALSE)),\"TBD\",VLOOKUP(AM35,'PO List by Level'!$I$2:$L$70,2,FALSE)),VLOOKUP(LEFT(AM35,4),'PO List by Level'!$I$2:$L$70,2,FALSE))","v":"TBD"},{"$f":"IF(ISERROR(VLOOKUP(LEFT(AN35,4),'PO List by Level'!$I$2:$L$70,2,FALSE)),IF(ISERROR(VLOOKUP(AN35,'PO List by Level'!$I$2:$L$70,2,FALSE)),\"TBD\",VLOOKUP(AN35,'PO List by Level'!$I$2:$L$70,2,FALSE)),VLOOKUP(LEFT(AN35,4),'PO List by Level'!$I$2:$L$70,2,FALSE))","v":"TBD"},{"$f":"IF(ISERROR(VLOOKUP(LEFT(AO35,4),'PO List by Level'!$I$2:$L$70,2,FALSE)),IF(ISERROR(VLOOKUP(AO35,'PO List by Level'!$I$2:$L$70,2,FALSE)),\"TBD\",VLOOKUP(AO35,'PO List by Level'!$I$2:$L$70,2,FALSE)),VLOOKUP(LEFT(AO35,4),'PO List by Level'!$I$2:$L$70,2,FALSE))","v":"TBD"},{"$f":"IF(ISERROR(VLOOKUP(LEFT(AP35,4),'PO List by Level'!$I$2:$L$70,2,FALSE)),IF(ISERROR(VLOOKUP(AP35,'PO List by Level'!$I$2:$L$70,2,FALSE)),\"TBD\",VLOOKUP(AP35,'PO List by Level'!$I$2:$L$70,2,FALSE)),VLOOKUP(LEFT(AP35,4),'PO List by Level'!$I$2:$L$70,2,FALSE))","v":"TBD"},{"$f":"IF(ISERROR(VLOOKUP(LEFT(AQ35,4),'PO List by Level'!$I$2:$L$70,2,FALSE)),IF(ISERROR(VLOOKUP(AQ35,'PO List by Level'!$I$2:$L$70,2,FALSE)),\"TBD\",VLOOKUP(AQ35,'PO List by Level'!$I$2:$L$70,2,FALSE)),VLOOKUP(LEFT(AQ35,4),'PO List by Level'!$I$2:$L$70,2,FALSE))","v":"ACR Practice"},{"$f":"IF(ISERROR(VLOOKUP(LEFT(AR35,4),'PO List by Level'!$I$2:$L$70,2,FALSE)),IF(ISERROR(VLOOKUP(AR35,'PO List by Level'!$I$2:$L$70,2,FALSE)),\"TBD\",VLOOKUP(AR35,'PO List by Level'!$I$2:$L$70,2,FALSE)),VLOOKUP(LEFT(AR35,4),'PO List by Level'!$I$2:$L$70,2,FALSE))","v":"TBD"},{"$f":"IF(ISERROR(VLOOKUP(LEFT(AS35,4),'PO List by Level'!$I$2:$L$70,2,FALSE)),IF(ISERROR(VLOOKUP(AS35,'PO List by Level'!$I$2:$L$70,2,FALSE)),\"TBD\",VLOOKUP(AS35,'PO List by Level'!$I$2:$L$70,2,FALSE)),VLOOKUP(LEFT(AS35,4),'PO List by Level'!$I$2:$L$70,2,FALSE))","v":"TBD"},{"$f":"IF(ISERROR(VLOOKUP(LEFT(AT35,4),'PO List by Level'!$I$2:$L$70,2,FALSE)),IF(ISERROR(VLOOKUP(AT35,'PO List by Level'!$I$2:$L$70,2,FALSE)),\"TBD\",VLOOKUP(AT35,'PO List by Level'!$I$2:$L$70,2,FALSE)),VLOOKUP(LEFT(AT35,4),'PO List by Level'!$I$2:$L$70,2,FALSE))","v":"TBD"},{"$f":"IF(ISERROR(VLOOKUP(LEFT(AU35,4),'PO List by Level'!$I$2:$L$70,2,FALSE)),IF(ISERROR(VLOOKUP(AU35,'PO List by Level'!$I$2:$L$70,2,FALSE)),\"TBD\",VLOOKUP(AU35,'PO List by Level'!$I$2:$L$70,2,FALSE)),VLOOKUP(LEFT(AU35,4),'PO List by Level'!$I$2:$L$70,2,FALSE))","v":"TBD"},{"$f":"IF(ISERROR(VLOOKUP(LEFT(AV35,4),'PO List by Level'!$I$2:$L$70,2,FALSE)),IF(ISERROR(VLOOKUP(AV35,'PO List by Level'!$I$2:$L$70,2,FALSE)),\"TBD\",VLOOKUP(AV35,'PO List by Level'!$I$2:$L$70,2,FALSE)),VLOOKUP(LEFT(AV35,4),'PO List by Level'!$I$2:$L$70,2,FALSE))","v":"TBD"}]
[null,null,"Instructor",{"$nulls":34},"Virtual"]
[null,null,"Location",{"$nulls":34},"Mess Dinner"]
[{"$f":"'Unit Info'!G5","v":"Level 4"},1,"PO/EO","Admin Night",null,"M400.01","M400.02","M400.03","M431.01","M431.02","M437.02","M436.02","M437.01","M432.01","M432.02","C437.PC","M437.PC","Party - C","Christmas","Christmas","M409.01","M409.02","M409.03","M409.04","M409.05","M440.01","M407.01","C309.05","M403.02","M440.02","March Break","M403.03","M408.03","MX04.03","M408.04","M403.04","C429.01","MX20.01D","M403.05","C429.03","M403.06","C303.01","ACR Prep"]
[null,null,"Subject",{"$f":"IF(ISERROR(VLOOKUP(LEFT(D39,4),'PO List by Level'!$M$2:$P$70,2,FALSE)),IF(ISERROR(VLOOKUP(D39,'PO List by Level'!$M$2:$P$70,2,FALSE)),\"TBD\",VLOOKUP(D39,'PO List by Level'!$M$2:$P$70,2,FALSE)),VLOOKUP(LEFT(D39,4),'PO List by Level'!$M$2:$P$70,2,FALSE))","v":"TBD"},{"$f":"IF(ISERROR(VLOOKUP(LEFT(E39,4),'PO List by Level'!$M$2:$P$70,2,FALSE)),IF(ISERROR(VLOOKUP(E39,'PO List by Level'!$M$2:$P$70,2,FALSE)),\"TBD\",VLOOKUP(E39,'PO List by Level'!$M$2:$P$70,2,FALSE)),VLOOKUP(LEFT(E39,4),'PO List by Level'!$M$2:$P$70,2,FALSE))","v":"TBD"},{"$f":"IF(ISERROR(VLOOKUP(LEFT(F39,4),'PO List by Level'!$M$2:$P$70,2,FALSE)),IF(ISERROR(VLOOKUP(F39,'PO List by Level'!$M$2:$P$70,2,FALSE)),\"TBD\",VLOOKUP(F39,'PO List by Level'!$M$2:$P$70,2,FALSE)),VLOOKUP(LEFT(F39,4),'PO List by Level'!$M$2:$P$70,2,FALSE))","v":"Positive Social Relations for Youth"},{"$f":"IF(ISERROR(VLOOKUP(LEFT(G39,4),'PO List by Level'!$M$2:$P$70,2,FALSE)),IF(ISERROR(VLOOKUP(G39,'PO List by Level'!$M$2:$P$70,2,FALSE)),\"TBD\",VLOOKUP(G39,'PO List by Level'!$M$2:$P$70,2,FALSE)),VLOOKUP(LEFT(G39,4),'PO List by Level'!$M$2:$P$70,2,FALSE))","v":"Positive Social Relations for Youth"},{"$f":"IF(ISERROR(VLOOKUP(LEFT(H39,4),'PO List by Level'!$M$2:$P$70,2,FALSE)),IF(ISERROR(VLOOKUP(H39,'PO List by Level'!$M$2:$P$70,2,FALSE)),\"TBD\",VLOOKUP(H39,'PO List by Level'!$M$2:$P$70,2,FALSE)),VLOOKUP(LEFT(H39,4),'PO List by Level'!$M$2:$P$70,2,FALSE))","v":"Positive Social Relations for Youth"},{"$f":"IF(ISERROR(VLOOKUP(LEFT(I39,4),'PO List by Level'!$M$2:$P$70,2,FALSE)),IF(ISERROR(VLOOKUP(I39,'PO List by Level'!$M$2:$P$70,2,FALSE)),\"TBD\",VLOOKUP(I39,'PO List by Level'!$M$2:$P$70,2,FALSE)),VLOOKUP(LEFT(I39,4),'PO List by Level'!$M$2:$P$70,2,FALSE))","v":"Principles of Flight"},{"$f":"IF(ISERROR(VLOOKUP(LEFT(J39,4),'PO List by Level'!$M$2:$P$70,2,FALSE)),IF(ISERROR(VLOOKUP(J39,'PO List by Level'!$M$2:$P$70,2,FALSE)),\"TBD\",VLOOKUP(J39,'PO List by Level'!$M$2:$P$70,2,FALSE)),VLOOKUP(LEFT(J39,4),'PO List by Level'!$M$2:$P$70,2,FALSE))","v":"Principles of Flight"},{"$f":"IF(ISERROR(VLOOKUP(LEFT(K39,4),'PO List by Level'!$M$2:$P$70,2,FALSE)),IF(ISERROR(VLOOKUP(K39,'PO List by Level'!$M$2:$P$70,2,FALSE)),\"TBD\",VLOOKUP(K39,'PO List by Level'!$M$2:$P$70,2,FALSE)),VLOOKUP(LEFT(K39,4),'PO List by Level'!$M$2:$P$70,2,FALSE))","v":"Air Navigation"},{"$f":"IF(ISERROR(VLOOKUP(LEFT(L39,4),'PO List by Level'!$M$2:$P$70,2,FALSE)),IF(ISERROR(VLOOKUP(L39,'PO List by Level'!$M$2:$P$70,2,FALSE)),\"TBD\",VLOOKUP(L39,'PO List by Level'!$M$2:$P$70,2,FALSE)),VLOOKUP(LEFT(L39,4),'PO List by Level'!$M$2:$P$70,2,FALSE))","v":"Meteorology"},{"$f":"IF(ISERROR(VLOOKUP(LEFT(M39,4),'PO List by Level'!$M$2:$P$70,2,FALSE)),IF(ISERROR(VLOOKUP(M39,'PO List by Level'!$M$2:$P$70,2,FALSE)),\"TBD\",VLOOKUP(M39,'PO List by Level'!$M$2:$P$70,2,FALSE)),VLOOKUP(LEFT(M39,4),'PO List by Level'!$M$2:$P$70,2,FALSE))","v":"Air Navigation"},{"$f":"IF(ISERROR(VLOOKUP(LEFT(N39,4),'PO List by Level'!$M$2:$P$70,2,FALSE)),IF(ISERROR(VLOOKUP(N39,'PO List by Level'!$M$2:$P$70,2,FALSE)),\"TBD\",VLOOKUP(N39,'PO List by Level'!$M$2:$P$70,2,FALSE)),VLOOKUP(LEFT(N39,4),'PO List by Level'!$M$2:$P$70,2,FALSE))","v":"Propulsion"},{"$f":"IF(ISERROR(VLOOKUP(LEFT(O39,4),'PO List by Level'!$M$2:$P$70,2,FALSE)),IF(ISERROR(VLOOKUP(O39,'PO List by Level'!$M$2:$P$70,2,FALSE)),\"TBD\",VLOOKUP(O39,'PO List by Level'!$M$2:$P$70,2,FALSE)),VLOOKUP(LEFT(O39,4),'PO List by Level'!$M$2:$P$70,2,FALSE))","v":"Propulsion"},{"$f":"IF(ISERROR(VLOOKUP(LEFT(P39,4),'PO List by Level'!$M$2:$P$70,2,FALSE)),IF(ISERROR(VLOOKUP(P39,'PO List by Level'!$M$2:$P$70,2,FALSE)),\"TBD\",VLOOKUP(P39,'PO List by Level'!$M$2:$P$70,2,FALSE)),VLOOKUP(LEFT(P39,4),'PO List by Level'!$M$2:$P$70,2,FALSE))","v":"Air Navigation"},{"$f":"IF(ISERROR(VLOOKUP(LEFT(Q39,4),'PO List by Level'!$M$2:$P$70,2,FALSE)),IF(ISERROR(VLOOKUP(Q39,'PO List by Level'!$M$2:$P$70,2,FALSE)),\"TBD\",VLOOKUP(Q39,'PO List by Level'!$M$2:$P$70,2,FALSE)),VLOOKUP(LEFT(Q39,4),'PO List by Level'!$M$2:$P$70,2,FALSE))","v":"Air Navigation"},{"$f":"IF(ISERROR(VLOOKUP(LEFT(R39,4),'PO List by Level'!$M$2:$P$70,2,FALSE)),IF(ISERROR(VLOOKUP(R39,'PO List by Level'!$M$2:$P$70,2,FALSE)),\"TBD\",VLOOKUP(R39,'PO List by Level'!$M$2:$P$70,2,FALSE)),VLOOKUP(LEFT(R39,4),'PO List by Level'!$M$2:$P$70,2,FALSE))","v":"Christmas Party"},{"$f":"IF(ISERROR(VLOOKUP(LEFT(S39,4),'PO List by Level'!$M$2:$P$70,2,FALSE)),IF(ISERROR(VLOOKUP(S39,'PO List by Level'!$M$2:$P$70,2,FALSE)),\"TBD\",VLOOKUP(S39,'PO List by Level'!$M$2:$P$70,2,FALSE)),VLOOKUP(LEFT(S39,4),'PO List by Level'!$M$2:$P$70,2,FALSE))","v":"Xmas Break"},{"$f":"IF(ISERROR(VLOOKUP(LEFT(T39,4),'PO List by Level'!$M$2:$P$70,2,FALSE)),IF(ISERROR(VLOOKUP(T39,'PO List by Level'!$M$2:$P$70,2,FALSE)),\"TBD\",VLOOKUP(T39,'PO List by Level'!$M$2:$P$70,2,FALSE)),VLOOKUP(LEFT(T39,4),'PO List by Level'!$M$2:$P$70,2,FALSE))","v":"Xmas Break"},{"$f":"IF(ISERROR(VLOOKUP(LEFT(U39,4),'PO List by Level'!$M$2:$P$70,2,FALSE)),IF(ISERROR(VLOOKUP(U39,'PO List by Level'!$M$2:$P$70,2,FALSE)),\"TBD\",VLOOKUP(U39,'PO List by Level'!$M$2:$P$70,2,FALSE)),VLOOKUP(LEFT(U39,4),'PO List by Level'!$M$2:$P$70,2,FALSE))","v":"Instructional Techniques."},{"$f":"IF(ISERROR(VLOOKUP(LEFT(V39,4),'PO List by Level'!$M$2:$P$70,2,FALSE)),IF(ISERROR(VLOOKUP(V39,'PO List by Level'!$M$2:$P$70,2,FALSE)),\"TBD\",VLOOKUP(V39,'PO List by Level'!$M$2:$P$70,2,FALSE)),VLOOKUP(LEFT(V39,4),'PO List by Level'!$M$2:$P$70,2,FALSE))","v":"Instructional Techniques."},{"$f":"IF(ISERROR(VLOOKUP(LEFT(W39,4),'PO List by Level'!$M$2:$P$70,2,FALSE)),IF(ISERROR(VLOOKUP(W39,'PO List by Level'!$M$2:$P$70,2,FALSE)),\"TBD\",VLOOKUP(W39,'PO List by Level'!$M$2:$P$70,2,FALSE)),VLOOKUP(LEFT(W39,4),'PO List by Level'!$M$2:$P$70,2,FALSE))","v":"Instructional Techniques."},{"$f":"IF(ISERROR(VLOOKUP(LEFT(X39,4),'PO List by Level'!$M$2:$P$70,2,FALSE)),IF(ISERROR(VLOOKUP(X39,'PO List by Level'!$M$2:$P$70,2,FALSE)),\"TBD\",VLOOKUP(X39,'PO List by Level'!$M$2:$P$70,2,FALSE)),VLOOKUP(LEFT(X39,4),'PO List by Level'!$M$2:$P$70,2,FALSE))","v":"Instructional Techniques."},{"$f":"IF(ISERROR(VLOOKUP(LEFT(Y39,4),'PO List by Level'!$M$2:$P$70,2,FALSE)),IF(ISERROR(VLOOKUP(Y39,'PO List by Level'!$M$2:$P$70,2,FALSE)),\"TBD\",VLOOKUP(Y39,'PO List by Level'!$M$2:$P$70,2,FALSE)),VLOOKUP(LEFT(Y39,4),'PO List by Level'!$M$2:$P$70,2,FALSE))","v":"Instructional Techniques."},{"$f":"IF(ISERROR(VLOOKUP(LEFT(Z39,4),'PO List by Level'!$M$2:$P$70,2,FALSE)),IF(ISERROR(VLOOKUP(Z39,'PO List by Level'!$M$2:$P$70,2,FALSE)),\"TBD\",VLOOKUP(Z39,'PO List by Level'!$M$2:$P$70,2,FALSE)),VLOOKUP(LEFT(Z39,4),'PO List by Level'!$M$2:$P$70,2,FALSE))","v":"Aerospace"},{"$f":"IF(ISERROR(VLOOKUP(LEFT(AA39,4),'PO List by Level'!$M$2:$P$70,2,FALSE)),IF(ISERROR(VLOOKUP(AA39,'PO List by Level'!$M$2:$P$70,2,FALSE)),\"TBD\",VLOOKUP(AA39,'PO List by Level'!$M$2:$P$70,2,FALSE)),VLOOKUP(LEFT(AA39,4),'PO List by Level'!$M$2:$P$70,2,FALSE))","v":"General Cadet Knowledge"},{"$f":"IF(ISERROR(VLOOKUP(LEFT(AB39,4),'PO List by Level'!$M$2:$P$70,2,FALSE)),IF(ISERROR(VLOOKUP(AB39,'PO List by Level'!$M$2:$P$70,2,FALSE)),\"TBD\",VLOOKUP(AB39,'PO List by Level'!$M$2:$P$70,2,FALSE)),VLOOKUP(LEFT(AB39,4),'PO List by Level'!$M$2:$P$70,2,FALSE))","v":"Instructional Techniques."},{"$f":"IF(ISERROR(VLOOKUP(LEFT(AC39,4),'PO List by Level'!$M$2:$P$70,2,FALSE)),IF(ISERROR(VLOOKUP(AC39,'PO List by Level'!$M$2:$P$70,2,FALSE)),\"TBD\",VLOOKUP(AC39,'PO List by Level'!$M$2:$P$70,2,FALSE)),VLOOKUP(LEFT(AC39,4),'PO List by Level'!$M$2:$P$70,2,FALSE))","v":"Leadership"},{"$f":"IF(ISERROR(VLOOKUP(LEFT(AD39,4),'PO List by Level'!$M$2:$P$70,2,FALSE)),IF(ISERROR(VLOOKUP(AD39,'PO List by Level'!$M$2:$P$70,2,FALSE)),\"TBD\",VLOOKUP(AD39,'PO List by Level'!$M$2:$P$70,2,FALSE)),VLOOKUP(LEFT(AD39,4),'PO List by Level'!$M$2:$P$70,2,FALSE))","v":"Aerospace"},{"$f":"IF(ISERROR(VLOOKUP(LEFT(AE39,4),'PO List by Level'!$M$2:$P$70,2,FALSE)),IF(ISERROR(VLOOKUP(AE39,'PO List by Level'!$M$2:$P$70,2,FALSE)),\"TBD\",VLOOKUP(AE39,'PO List by Level'!$M$2:$P$70,2,FALSE)),VLOOKUP(LEFT(AE39,4),'PO List by Level'!$M$2:$P$70,2,FALSE))","v":"Break"},{"$f":"IF(ISERROR(VLOOKUP(LEFT(AF39,4),'PO List by Level'!$M$2:$P$70,2,FALSE)),IF(ISERROR(VLOOKUP(AF39,'PO List by Level'!$M$2:$P$70,2,FALSE)),\"TBD\",VLOOKUP(AF39,'PO List by Level'!$M$2:$P$70,2,FALSE)),VLOOKUP(LEFT(AF39,4),'PO List by Level'!$M$2:$P$70,2,FALSE))","v":"Leadership"},{"$f":"IF(ISERROR(VLOOKUP(LEFT(AG39,4),'PO List by Level'!$M$2:$P$70,2,FALSE)),IF(ISERROR(VLOOKUP(AG39,'PO List by Level'!$M$2:$P$70,2,FALSE)),\"TBD\",VLOOKUP(AG39,'PO List by Level'!$M$2:$P$70,2,FALSE)),VLOOKUP(LEFT(AG39,4),'PO List by Level'!$M$2:$P$70,2,FALSE))","v":"Drill and Ceremonial"},{"$f":"IF(ISERROR(VLOOKUP(LEFT(AH39,4),'PO List by Level'!$M$2:$P$70,2,FALSE)),IF(ISERROR(VLOOKUP(AH39,'PO List by Level'!$M$2:$P$70,2,FALSE)),\"TBD\",VLOOKUP(AH39,'PO List by Level'!$M$2:$P$70,2,FALSE)),VLOOKUP(LEFT(AH39,4),'PO List by Level'!$M$2:$P$70,2,FALSE))","v":"Personal Fitness and Healthy Living"},{"$f":"IF(ISERROR(VLOOKUP(LEFT(AI39,4),'PO List by Level'!$M$2:$P$70,2,FALSE)),IF(ISERROR(VLOOKUP(AI39,'PO List by Level'!$M$2:$P$70,2,FALSE)),\"TBD\",VLOOKUP(AI39,'PO List by Level'!$M$2:$P$70,2,FALSE)),VLOOKUP(LEFT(AI39,4),'PO List by Level'!$M$2:$P$70,2,FALSE))","v":"Drill and Ceremonial"},{"$f":"IF(ISERROR(VLOOKUP(LEFT(AJ39,4),'PO List by Level'!$M$2:$P$70,2,FALSE)),IF(ISERROR(VLOOKUP(AJ39,'PO List by Level'!$M$2:$P$70,2,FALSE)),\"TBD\",VLOOKUP(AJ39,'PO List by Level'!$M$2:$P$70,2,FALSE)),VLOOKUP(LEFT(AJ39,4),'PO List by Level'!$M$2:$P$70,2,FALSE))","v":"Leadership"},{"$f":"IF(ISERROR(VLOOKUP(LEFT(AK39,4),'PO List by Level'!$M$2:$P$70,2,FALSE)),IF(ISERROR(VLOOKUP(AK39,'PO List by Level'!$M$2:$P$70,2,FALSE)),\"TBD\",VLOOKUP(AK39,'PO List by Level'!$M$2:$P$70,2,FALSE)),VLOOKUP(LEFT(AK39,4),'PO List by Level'!$M$2:$P$70,2,FALSE))","v":"Radio Communication"},{"$f":"IF(ISERROR(VLOOKUP(LEFT(AL39,4),'PO List by Level'!$M$2:$P$70,2,FALSE)),IF(ISERROR(VLOOKUP(AL39,'PO List by Level'!$M$2:$P$70,2,FALSE)),\"TBD\",VLOOKUP(AL39,'PO List by Level'!$M$2:$P$70,2,FALSE)),VLOOKUP(LEFT(AL39,4),'PO List by Level'!$M$2:$P$70,2,FALSE))","v":"CAF Familiarization"},{"$f":"IF(ISERROR(VLOOKUP(LEFT(AM39,4),'PO List by Level'!$M$2:$P$70,2,FALSE)),IF(ISERROR(VLOOKUP(AM39,'PO List by Level'!$M$2:$P$70,2,FALSE)),\"TBD\",VLOOKUP(AM39,'PO List by Level'!$M$2:$P$70,2,FALSE)),VLOOKUP(LEFT(AM39,4),'PO List by Level'!$M$2:$P$70,2,FALSE))","v":"Leadership"},{"$f":"IF(ISERROR(VLOOKUP(LEFT(AN39,4),'PO List by Level'!$M$2:$P$70,2,FALSE)),IF(ISERROR(VLOOKUP(AN39,'PO List by Level'!$M$2:$P$70,2,FALSE)),\"TBD\",VLOOKUP(AN39,'PO List by Level'!$M$2:$P$70,2,FALSE)),VLOOKUP(LEFT(AN39,4),'PO List by Level'!$M$2:$P$70,2,FALSE))","v":"Radio Communication"},{"$f":"IF(ISERROR(VLOOKUP(LEFT(AO39,4),'PO List by Level'!$M$2:$P$70,2,FALSE)),IF(ISERROR(VLOOKUP(AO39,'PO List by Level'!$M$2:$P$70,2,FALSE)),\"TBD\",VLOOKUP(AO39,'PO List by Level'!$M$2:$P$70,2,FALSE)),VLOOKUP(LEFT(AO39,4),'PO List by Level'!$M$2:$P$70,2,FALSE))","v":"Leadership"},{"$f":"IF(ISERROR(VLOOKUP(LEFT(AP39,4),'PO List by Level'!$M$2:$P$70,2,FALSE)),IF(ISERROR(VLOOKUP(AP39,'PO List by Level'!$M$2:$P$70,2,FALSE)),\"TBD\",VLOOKUP(AP39,'PO List by Level'!$M$2:$P$70,2,FALSE)),VLOOKUP(LEFT(AP39,4),'PO List by Level'!$M$2:$P$70,2,FALSE))","v":"Leadership"},{"$f":"IF(ISERROR(VLOOKUP(LEFT(AQ39,4),'PO List by Level'!$M$2:$P$70,2,FALSE)),IF(ISERROR(VLOOKUP(AQ39,'PO List by Level'!$M$2:$P$70,2,FALSE)),\"TBD\",VLOOKUP(AQ39,'PO List by Level'!$M$2:$P$70,2,FALSE)),VLOOKUP(LEFT(AQ39,4),'PO List by Level'!$M$2:$P$70,2,FALSE))","v":"ACR Practice"},{"$f":"IF(ISERROR(VLOOKUP(LEFT(AR39,4),'PO List by Level'!$M$2:$P$70,2,FALSE)),IF(ISERROR(VLOOKUP(AR39,'PO List by Level'!$M$2:$P$70,2,FALSE)),\"TBD\",VLOOKUP(AR39,'PO List by Level'!$M$2:$P$70,2,FALSE)),VLOOKUP(LEFT(AR39,4),'PO List by Level'!$M$2:$P$70,2,FALSE))","v":"TBD"},{"$f":"IF(ISERROR(VLOOKUP(LEFT(AS39,4),'PO List by Level'!$M$2:$P$70,2,FALSE)),IF(ISERROR(VLOOKUP(AS39,'PO List by Level'!$M$2:$P$70,2,FALSE)),\"TBD\",VLOOKUP(AS39,'PO List by Level'!$M$2:$P$70,2,FALSE)),VLOOKUP(LEFT(AS39,4),'PO List by Level'!$M$2:$P$70,2,FALSE))","v":"TBD"},{"$f":"IF(ISERROR(VLOOKUP(LEFT(AT39,4),'PO List by Level'!$M$2:$P$70,2,FALSE)),IF(ISERROR(VLOOKUP(AT39,'PO List by Level'!$M$2:$P$70,2,FALSE)),\"TBD\",VLOOKUP(AT39,'PO List by Level'!$M$2:$P$70,2,FALSE)),VLOOKUP(LEFT(AT39,4),'PO List by Level'!$M$2:$P$70,2,FALSE))","v":"TBD"},{"$f":"IF(ISERROR(VLOOKUP(LEFT(AU39,4),'PO List by Level'!$M$2:$P$70,2,FALSE)),IF(ISERROR(VLOOKUP(AU39,'PO List by Level'!$M$2:$P$70,2,FALSE)),\"TBD\",VLOOKUP(AU39,'PO List by Level'!$M$2:$P$70,2,FALSE)),VLOOKUP(LEFT(AU39,4),'PO List by Level'!$M$2:$P$70,2,FALSE))","v":"TBD"},{"$f":"IF(ISERROR(VLOOKUP(LEFT(AV39,4),'PO List by Level'!$M$2:$P$70,2,FALSE)),IF(ISERROR(VLOOKUP(AV39,'PO List by Level'!$M$2:$P$70,2,FALSE)),\"TBD\",VLOOKUP(AV39,'PO List by Level'!$M$2:$P$70,2,FALSE)),VLOOKUP(LEFT(AV39,4),'PO List by Level'!$M$2:$P$70,2,FALSE))","v":"TBD"}]
[null,null,"Instructor",null,null,"Virtual","Virtual","Virtual","S. Hangar","Virtual","Virtual","Virtual",null,"Virtual",null,"Virtual",null,"Virtual",null,null,"FSgt Jasey","FSgt Spiridon","WO2 Muscat",null,"FSgt Diaz","FSgt Spiridon","FSgt Diaz",null,"Sgt Korusenge","Sgt Irfan",{"$nulls":6},"FSgt Irfan","Virtual",{"$nulls":3},"self-lead"]
[null,null,"Location",null,null,"Lt Hadwen","Lt Hadwen","Lt Hadwen","FSgt Spiridon","FSgt Al-Maghazachi","FSgt Vaupotic","CI Melendez","WO2 Muscat","FSgt Vaupotic","FSgt Spiridon","CI Melendez",{"$nulls":21},"Mess Dinner"]
[null,2,"PO/EO",null,null,"M400.01","M400.02","M400.03","M436.01","M431.02","M436.02","M436.02","M437.01","M432.03","C436.02","C437.PC","M437.PC","Party - C","Christmas","Christmas","M409.01","M409.02","M409.03","M409.05","M409.05","M408.01","M403.01","C309.05","M403.02","M408.02","March Break","M403.03","M407.02","MX04.03","M408.04","M403.04","C429.02","MX20.01D","M403.05","C429.04","C407.02","C303.01","ACR Prep"]
[null,null,"Subject",{"$f":"IF(ISERROR(VLOOKUP(LEFT(D43,4),'PO List by Level'!$M$2:$P$70,2,FALSE)),IF(ISERROR(VLOOKUP(D43,'PO List by Level'!$M$2:$P$70,2,FALSE)),\"TBD\",VLOOKUP(D43,'PO List by Level'!$M$2:$P$70,2,FALSE)),VLOOKUP(LEFT(D43,4),'PO List by Level'!$M$2:$P$70,2,FALSE))","v":"TBD"},{"$f":"IF(ISERROR(VLOOKUP(LEFT(E43,4),'PO List by Level'!$M$2:$P$70,2,FALSE)),IF(ISERROR(VLOOKUP(E43,'PO List by Level'!$M$2:$P$70,2,FALSE)),\"TBD\",VLOOKUP(E43,'PO List by Level'!$M$2:$P$70,2,FALSE)),VLOOKUP(LEFT(E43,4),'PO List by Level'!$M$2:$P$70,2,FALSE))","v":"TBD"},{"$f":"IF(ISERROR(VLOOKUP(LEFT(F43,4),'PO List by Level'!$M$2:$P$70,2,FALSE)),IF(ISERROR(VLOOKUP(F43,'PO List by Level'!$M$2:$P$70,2,FALSE)),\"TBD\",VLOOKUP(F43,'PO List by Level'!$M$2:$P$70,2,FALSE)),VLOOKUP(LEFT(F43,4),'PO List by Level'!$M$2:$P$70,2,FALSE))","v":"Positive Social Relations for Youth"},{"$f":"IF(ISERROR(VLOOKUP(LEFT(G43,4),'PO List by Level'!$M$2:$P$70,2,FALSE)),IF(ISERROR(VLOOKUP(G43,'PO List by Level'!$M$2:$P$70,2,FALSE)),\"TBD\",VLOOKUP(G43,'PO List by Level'!$M$2:$P$70,2,FALSE)),VLOOKUP(LEFT(G43,4),'PO List by Level'!$M$2:$P$70,2,FALSE))","v":"Positive Social Relations for Youth"},{"$f":"IF(ISERROR(VLOOKUP(LEFT(H43,4),'PO List by Level'!$M$2:$P$70,2,FALSE)),IF(ISERROR(VLOOKUP(H43,'PO List by Level'!$M$2:$P$70,2,FALSE)),\"TBD\",VLOOKUP(H43,'PO List by Level'!$M$2:$P$70,2,FALSE)),VLOOKUP(LEFT(H43,4),'PO List by Level'!$M$2:$P$70,2,FALSE))","v":"Positive Social Relations for Youth"},{"$f":"IF(ISERROR(VLOOKUP(LEFT(I43,4),'PO List by Level'!$M$2:$P$70,2,FALSE)),IF(ISERROR(VLOOKUP(I43,'PO List by Level'!$M$2:$P$70,2,FALSE)),\"TBD\",VLOOKUP(I43,'PO List by Level'!$M$2:$P$70,2,FALSE)),VLOOKUP(LEFT(I43,4),'PO List by Level'!$M$2:$P$70,2,FALSE))","v":"Meteorology"},{"$f":"IF(ISERROR(VLOOKUP(LEFT(J43,4),'PO List by Level'!$M$2:$P$70,2,FALSE)),IF(ISERROR(VLOOKUP(J43,'PO List by Level'!$M$2:$P$70,2,FALSE)),\"TBD\",VLOOKUP(J43,'PO List by Level'!$M$2:$P$70,2,FALSE)),VLOOKUP(LEFT(J43,4),'PO List by Level'!$M$2:$P$70,2,FALSE))","v":"Principles of Flight"},{"$f":"IF(ISERROR(VLOOKUP(LEFT(K43,4),'PO List by Level'!$M$2:$P$70,2,FALSE)),IF(ISERROR(VLOOKUP(K43,'PO List by Level'!$M$2:$P$70,2,FALSE)),\"TBD\",VLOOKUP(K43,'PO List by Level'!$M$2:$P$70,2,FALSE)),VLOOKUP(LEFT(K43,4),'PO List by Level'!$M$2:$P$70,2,FALSE))","v":"Meteorology"},{"$f":"IF(ISERROR(VLOOKUP(LEFT(L43,4),'PO List by Level'!$M$2:$P$70,2,FALSE)),IF(ISERROR(VLOOKUP(L43,'PO List by Level'!$M$2:$P$70,2,FALSE)),\"TBD\",VLOOKUP(L43,'PO List by Level'!$M$2:$P$70,2,FALSE)),VLOOKUP(LEFT(L43,4),'PO List by Level'!$M$2:$P$70,2,FALSE))","v":"Meteorology"},{"$f":"IF(ISERROR(VLOOKUP(LEFT(M43,4),'PO List by Level'!$M$2:$P$70,2,FALSE)),IF(ISERROR(VLOOKUP(M43,'PO List by Level'!$M$2:$P$70,2,FALSE)),\"TBD\",VLOOKUP(M43,'PO List by Level'!$M$2:$P$70,2,FALSE)),VLOOKUP(LEFT(M43,4),'PO List by Level'!$M$2:$P$70,2,FALSE))","v":"Air Navigation"},{"$f":"IF(ISERROR(VLOOKUP(LEFT(N43,4),'PO List by Level'!$M$2:$P$70,2,FALSE)),IF(ISERROR(VLOOKUP(N43,'PO List by Level'!$M$2:$P$70,2,FALSE)),\"TBD\",VLOOKUP(N43,'PO List by Level'!$M$2:$P$70,2,FALSE)),VLOOKUP(LEFT(N43,4),'PO List by Level'!$M$2:$P$70,2,FALSE))","v":"Propulsion"},{"$f":"IF(ISERROR(VLOOKUP(LEFT(O43,4),'PO List by Level'!$M$2:$P$70,2,FALSE)),IF(ISERROR(VLOOKUP(O43,'PO List by Level'!$M$2:$P$70,2,FALSE)),\"TBD\",VLOOKUP(O43,'PO List by Level'!$M$2:$P$70,2,FALSE)),VLOOKUP(LEFT(O43,4),'PO List by Level'!$M$2:$P$70,2,FALSE))","v":"Meteorology"},{"$f":"IF(ISERROR(VLOOKUP(LEFT(P43,4),'PO List by Level'!$M$2:$P$70,2,FALSE)),IF(ISERROR(VLOOKUP(P43,'PO List by Level'!$M$2:$P$70,2,FALSE)),\"TBD\",VLOOKUP(P43,'PO List by Level'!$M$2:$P$70,2,FALSE)),VLOOKUP(LEFT(P43,4),'PO List by Level'!$M$2:$P$70,2,FALSE))","v":"Air Navigation"},{"$f":"IF(ISERROR(VLOOKUP(LEFT(Q43,4),'PO List by Level'!$M$2:$P$70,2,FALSE)),IF(ISERROR(VLOOKUP(Q43,'PO List by Level'!$M$2:$P$70,2,FALSE)),\"TBD\",VLOOKUP(Q43,'PO List by Level'!$M$2:$P$70,2,FALSE)),VLOOKUP(LEFT(Q43,4),'PO List by Level'!$M$2:$P$70,2,FALSE))","v":"Air Navigation"},{"$f":"IF(ISERROR(VLOOKUP(LEFT(R43,4),'PO List by Level'!$M$2:$P$70,2,FALSE)),IF(ISERROR(VLOOKUP(R43,'PO List by Level'!$M$2:$P$70,2,FALSE)),\"TBD\",VLOOKUP(R43,'PO List by Level'!$M$2:$P$70,2,FALSE)),VLOOKUP(LEFT(R43,4),'PO List by Level'!$M$2:$P$70,2,FALSE))","v":"Christmas Party"},{"$f":"IF(ISERROR(VLOOKUP(LEFT(S43,4),'PO List by Level'!$M$2:$P$70,2,FALSE)),IF(ISERROR(VLOOKUP(S43,'PO List by Level'!$M$2:$P$70,2,FALSE)),\"TBD\",VLOOKUP(S43,'PO List by Level'!$M$2:$P$70,2,FALSE)),VLOOKUP(LEFT(S43,4),'PO List by Level'!$M$2:$P$70,2,FALSE))","v":"Xmas Break"},{"$f":"IF(ISERROR(VLOOKUP(LEFT(T43,4),'PO List by Level'!$M$2:$P$70,2,FALSE)),IF(ISERROR(VLOOKUP(T43,'PO List by Level'!$M$2:$P$70,2,FALSE)),\"TBD\",VLOOKUP(T43,'PO List by Level'!$M$2:$P$70,2,FALSE)),VLOOKUP(LEFT(T43,4),'PO List by Level'!$M$2:$P$70,2,FALSE))","v":"Xmas Break"},{"$f":"IF(ISERROR(VLOOKUP(LEFT(U43,4),'PO List by Level'!$M$2:$P$70,2,FALSE)),IF(ISERROR(VLOOKUP(U43,'PO List by Level'!$M$2:$P$70,2,FALSE)),\"TBD\",VLOOKUP(U43,'PO List by Level'!$M$2:$P$70,2,FALSE)),VLOOKUP(LEFT(U43,4),'PO List by Level'!$M$2:$P$70,2,FALSE))","v":"Instructional Techniques."},{"$f":"IF(ISERROR(VLOOKUP(LEFT(V43,4),'PO List by Level'!$M$2:$P$70,2,FALSE)),IF(ISERROR(VLOOKUP(V43,'PO List by Level'!$M$2:$P$70,2,FALSE)),\"TBD\",VLOOKUP(V43,'PO List by Level'!$M$2:$P$70,2,FALSE)),VLOOKUP(LEFT(V43,4),'PO List by Level'!$M$2:$P$70,2,FALSE))","v":"Instructional Techniques."},{"$f":"IF(ISERROR(VLOOKUP(LEFT(W43,4),'PO List by Level'!$M$2:$P$70,2,FALSE)),IF(ISERROR(VLOOKUP(W43,'PO List by Level'!$M$2:$P$70,2,FALSE)),\"TBD\",VLOOKUP(W43,'PO List by Level'!$M$2:$P$70,2,FALSE)),VLOOKUP(LEFT(W43,4),'PO List by Level'!$M$2:$P$70,2,FALSE))","v":"Instructional Techniques."},{"$f":"IF(ISERROR(VLOOKUP(LEFT(X43,4),'PO List by Level'!$M$2:$P$70,2,FALSE)),IF(ISERROR(VLOOKUP(X43,'PO List by Level'!$M$2:$P$70,2,FALSE)),\"TBD\",VLOOKUP(X43,'PO List by Level'!$M$2:$P$70,2,FALSE)),VLOOKUP(LEFT(X43,4),'PO List by Level'!$M$2:$P$70,2,FALSE))","v":"Instructional Techniques."},{"$f":"IF(ISERROR(VLOOKUP(LEFT(Y43,4),'PO List by Level'!$M$2:$P$70,2,FALSE)),IF(ISERROR(VLOOKUP(Y43,'PO List by Level'!$M$2:$P$70,2,FALSE)),\"TBD\",VLOOKUP(Y43,'PO List by Level'!$M$2:$P$70,2,FALSE)),VLOOKUP(LEFT(Y43,4),'PO List by Level'!$M$2:$P$70,2,FALSE))","v":"Instructional Techniques."},{"$f":"IF(ISERROR(VLOOKUP(LEFT(Z43,4),'PO List by Level'!$M$2:$P$70,2,FALSE)),IF(ISERROR(VLOOKUP(Z43,'PO List by Level'!$M$2:$P$70,2,FALSE)),\"TBD\",VLOOKUP(Z43,'PO List by Level'!$M$2:$P$70,2,FALSE)),VLOOKUP(LEFT(Z43,4),'PO List by Level'!$M$2:$P$70,2,FALSE))","v":"Drill and Ceremonial"},{"$f":"IF(ISERROR(VLOOKUP(LEFT(AA43,4),'PO List by Level'!$M$2:$P$70,2,FALSE)),IF(ISERROR(VLOOKUP(AA43,'PO List by Level'!$M$2:$P$70,2,FALSE)),\"TBD\",VLOOKUP(AA43,'PO List by Level'!$M$2:$P$70,2,FALSE)),VLOOKUP(LEFT(AA43,4),'PO List by Level'!$M$2:$P$70,2,FALSE))","v":"Leadership"},{"$f":"IF(ISERROR(VLOOKUP(LEFT(AB43,4),'PO List by Level'!$M$2:$P$70,2,FALSE)),IF(ISERROR(VLOOKUP(AB43,'PO List by Level'!$M$2:$P$70,2,FALSE)),\"TBD\",VLOOKUP(AB43,'PO List by Level'!$M$2:$P$70,2,FALSE)),VLOOKUP(LEFT(AB43,4),'PO List by Level'!$M$2:$P$70,2,FALSE))","v":"Instructional Techniques."},{"$f":"IF(ISERROR(VLOOKUP(LEFT(AC43,4),'PO List by Level'!$M$2:$P$70,2,FALSE)),IF(ISERROR(VLOOKUP(AC43,'PO List by Level'!$M$2:$P$70,2,FALSE)),\"TBD\",VLOOKUP(AC43,'PO List by Level'!$M$2:$P$70,2,FALSE)),VLOOKUP(LEFT(AC43,4),'PO List by Level'!$M$2:$P$70,2,FALSE))","v":"Leadership"},{"$f":"IF(ISERROR(VLOOKUP(LEFT(AD43,4),'PO List by Level'!$M$2:$P$70,2,FALSE)),IF(ISERROR(VLOOKUP(AD43,'PO List by Level'!$M$2:$P$70,2,FALSE)),\"TBD\",VLOOKUP(AD43,'PO List by Level'!$M$2:$P$70,2,FALSE)),VLOOKUP(LEFT(AD43,4),'PO List by Level'!$M$2:$P$70,2,FALSE))","v":"Drill and Ceremonial"},{"$f":"IF(ISERROR(VLOOKUP(LEFT(AE43,4),'PO List by Level'!$M$2:$P$70,2,FALSE)),IF(ISERROR(VLOOKUP(AE43,'PO List by Level'!$M$2:$P$70,2,FALSE)),\"TBD\",VLOOKUP(AE43,'PO List by Level'!$M$2:$P$70,2,FALSE)),VLOOKUP(LEFT(AE43,4),'PO List by Level'!$M$2:$P$70,2,FALSE))","v":"Break"},{"$f":"IF(ISERROR(VLOOKUP(LEFT(AF43,4),'PO List by Level'!$M$2:$P$70,2,FALSE)),IF(ISERROR(VLOOKUP(AF43,'PO List by Level'!$M$2:$P$70,2,FALSE)),\"TBD\",VLOOKUP(AF43,'PO List by Level'!$M$2:$P$70,2,FALSE)),VLOOKUP(LEFT(AF43,4),'PO List by Level'!$M$2:$P$70,2,FALSE))","v":"Leadership"},{"$f":"IF(ISERROR(VLOOKUP(LEFT(AG43,4),'PO List by Level'!$M$2:$P$70,2,FALSE)),IF(ISERROR(VLOOKUP(AG43,'PO List by Level'!$M$2:$P$70,2,FALSE)),\"TBD\",VLOOKUP(AG43,'PO List by Level'!$M$2:$P$70,2,FALSE)),VLOOKUP(LEFT(AG43,4),'PO List by Level'!$M$2:$P$70,2,FALSE))","v":"General Cadet Knowledge"},{"$f":"IF(ISERROR(VLOOKUP(LEFT(AH43,4),'PO List by Level'!$M$2:$P$70,2,FALSE)),IF(ISERROR(VLOOKUP(AH43,'PO List by Level'!$M$2:$P$70,2,FALSE)),\"TBD\",VLOOKUP(AH43,'PO List by Level'!$M$2:$P$70,2,FALSE)),VLOOKUP(LEFT(AH43,4),'PO List by Level'!$M$2:$P$70,2,FALSE))","v":"Personal Fitness and Healthy Living"},{"$f":"IF(ISERROR(VLOOKUP(LEFT(AI43,4),'PO List by Level'!$M$2:$P$70,2,FALSE)),IF(ISERROR(VLOOKUP(AI43,'PO List by Level'!$M$2:$P$70,2,FALSE)),\"TBD\",VLOOKUP(AI43,'PO List by Level'!$M$2:$P$70,2,FALSE)),VLOOKUP(LEFT(AI43,4),'PO List by Level'!$M$2:$P$70,2,FALSE))","v":"Drill and Ceremonial"},{"$f":"IF(ISERROR(VLOOKUP(LEFT(AJ43,4),'PO List by Level'!$M$2:$P$70,2,FALSE)),IF(ISERROR(VLOOKUP(AJ43,'PO List by Level'!$M$2:$P$70,2,FALSE)),\"TBD\",VLOOKUP(AJ43,'PO List by Level'!$M$2:$P$70,2,FALSE)),VLOOKUP(LEFT(AJ43,4),'PO List by Level'!$M$2:$P$70,2,FALSE))","v":"Leadership"},{"$f":"IF(ISERROR(VLOOKUP(LEFT(AK43,4),'PO List by Level'!$M$2:$P$70,2,FALSE)),IF(ISERROR(VLOOKUP(AK43,'PO List by Level'!$M$2:$P$70,2,FALSE)),\"TBD\",VLOOKUP(AK43,'PO List by Level'!$M$2:$P$70,2,FALSE)),VLOOKUP(LEFT(AK43,4),'PO List by Level'!$M$2:$P$70,2,FALSE))","v":"Radio Communication"},{"$f":"IF(ISERROR(VLOOKUP(LEFT(AL43,4),'PO List by Level'!$M$2:$P$70,2,FALSE)),IF(ISERROR(VLOOKUP(AL43,'PO List by Level'!$M$2:$P$70,2,FALSE)),\"TBD\",VLOOKUP(AL43,'PO List by Level'!$M$2:$P$70,2,FALSE)),VLOOKUP(LEFT(AL43,4),'PO List by Level'!$M$2:$P$70,2,FALSE))","v":"CAF Familiarization"},{"$f":"IF(ISERROR(VLOOKUP(LEFT(AM43,4),'PO List by Level'!$M$2:$P$70,2,FALSE)),IF(ISERROR(VLOOKUP(AM43,'PO List by Level'!$M$2:$P$70,2,FALSE)),\"TBD\",VLOOKUP(AM43,'PO List by Level'!$M$2:$P$70,2,FALSE)),VLOOKUP(LEFT(AM43,4),'PO List by Level'!$M$2:$P$70,2,FALSE))","v":"Leadership"},{"$f":"IF(ISERROR(VLOOKUP(LEFT(AN43,4),'PO List by Level'!$M$2:$P$70,2,FALSE)),IF(ISERROR(VLOOKUP(AN43,'PO List by Level'!$M$2:$P$70,2,FALSE)),\"TBD\",VLOOKUP(AN43,'PO List by Level'!$M$2:$P$70,2,FALSE)),VLOOKUP(LEFT(AN43,4),'PO List by Level'!$M$2:$P$70,2,FALSE))","v":"Radio Communication"},{"$f":"IF(ISERROR(VLOOKUP(LEFT(AO43,4),'PO List by Level'!$M$2:$P$70,2,FALSE)),IF(ISERROR(VLOOKUP(AO43,'PO List by Level'!$M$2:$P$70,2,FALSE)),\"TBD\",VLOOKUP(AO43,'PO List by Level'!$M$2:$P$70,2,FALSE)),VLOOKUP(LEFT(AO43,4),'PO List by Level'!$M$2:$P$70,2,FALSE))","v":"General Cadet Knowledge"},{"$f":"IF(ISERROR(VLOOKUP(LEFT(AP43,4),'PO List by Level'!$M$2:$P$70,2,FALSE)),IF(ISERROR(VLOOKUP(AP43,'PO List by Level'!$M$2:$P$70,2,FALSE)),\"TBD\",VLOOKUP(AP43,'PO List by Level'!$M$2:$P$70,2,FALSE)),VLOOKUP(LEFT(AP43,4),'PO List by Level'!$M$2:$P$70,2,FALSE))","v":"Leadership"},{"$f":"IF(ISERROR(VLOOKUP(LEFT(AQ43,4),'PO List by Level'!$M$2:$P$70,2,FALSE)),IF(ISERROR(VLOOKUP(AQ43,'PO List by Level'!$M$2:$P$70,2,FALSE)),\"TBD\",VLOOKUP(AQ43,'PO List by Level'!$M$2:$P$70,2,FALSE)),VLOOKUP(LEFT(AQ43,4),'PO List by Level'!$M$2:$P$70,2,FALSE))","v":"ACR Practice"},{"$f":"IF(ISERROR(VLOOKUP(LEFT(AR43,4),'PO List by Level'!$M$2:$P$70,2,FALSE)),IF(ISERROR(VLOOKUP(AR43,'PO List by Level'!$M$2:$P$70,2,FALSE)),\"TBD\",VLOOKUP(AR43,'PO List by Level'!$M$2:$P$70,2,FALSE)),VLOOKUP(LEFT(AR43,4),'PO List by Level'!$M$2:$P$70,2,FALSE))","v":"TBD"},{"$f":"IF(ISERROR(VLOOKUP(LEFT(AS43,4),'PO List by Level'!$M$2:$P$70,2,FALSE)),IF(ISERROR(VLOOKUP(AS43,'PO List by Level'!$M$2:$P$70,2,FALSE)),\"TBD\",VLOOKUP(AS43,'PO List by Level'!$M$2:$P$70,2,FALSE)),VLOOKUP(LEFT(AS43,4),'PO List by Level'!$M$2:$P$70,2,FALSE))","v":"TBD"},{"$f":"IF(ISERROR(VLOOKUP(LEFT(AT43,4),'PO List by Level'!$M$2:$P$70,2,FALSE)),IF(ISERROR(VLOOKUP(AT43,'PO List by Level'!$M$2:$P$70,2,FALSE)),\"TBD\",VLOOKUP(AT43,'PO List by Level'!$M$2:$P$70,2,FALSE)),VLOOKUP(LEFT(AT43,4),'PO List by Level'!$M$2:$P$70,2,FALSE))","v":"TBD"},{"$f":"IF(ISERROR(VLOOKUP(LEFT(AU43,4),'PO List by Level'!$M$2:$P$70,2,FALSE)),IF(ISERROR(VLOOKUP(AU43,'PO List by Level'!$M$2:$P$70,2,FALSE)),\"TBD\",VLOOKUP(AU43,'PO List by Level'!$M$2:$P$70,2,FALSE)),VLOOKUP(LEFT(AU43,4),'PO List by Level'!$M$2:$P$70,2,FALSE))","v":"TBD"},{"$f":"IF(ISERROR(VLOOKUP(LEFT(AV43,4),'PO List by Level'!$M$2:$P$70,2,FALSE)),IF(ISERROR(VLOOKUP(AV43,'PO List by Level'!$M$2:$P$70,2,FALSE)),\"TBD\",VLOOKUP(AV43,'PO List by Level'!$M$2:$P$70,2,FALSE)),VLOOKUP(LEFT(AV43,4),'PO List by Level'!$M$2:$P$70,2,FALSE))","v":"TBD"}]
[null,null,"Instructor",null,null,"Virtual","Virtual","Virtual","S. Hangar","Virtual","Virtual","Virtual",null,"Virtual",null,"Virtual",null,"Virtual",null,null,"same","same","same","FSgt Spiridon","same",null,"FSgt Vaupotic","same","same",null,null,"same",null,null,"Same","same","FSgt Irfan","Virtual","same",null,null,"self-lead"]
[null,null,"Location",null,null,"Same","Same","Same","FSgt Filipowitz","Same","WO1 Meloche","Same","Same","FSgt Kurpejovic","FSgt Spiridon","Same","Same",{"$nulls":20},"Mess Dinner"]
[null,3,"PO/EO",{"$nulls":15},"Christmas","Christmas",{"$nulls":10},"March Break",null,null,"MX04.03",{"$nulls":3},"MX20.01D",{"$nulls":3},"C303.01","ACR Prep"]
[null,null,"Subject",{"$f":"IF(ISERROR(VLOOKUP(LEFT(D47,4),'PO List by Level'!$M$2:$P$70,2,FALSE)),IF(ISERROR(VLOOKUP(D47,'PO List by Level'!$M$2:$P$70,2,FALSE)),\"TBD\",VLOOKUP(D47,'PO List by Level'!$M$2:$P$70,2,FALSE)),VLOOKUP(LEFT(D47,4),'PO List by Level'!$M$2:$P$70,2,FALSE))","v":"TBD"},{"$f":"IF(ISERROR(VLOOKUP(LEFT(E47,4),'PO List by Level'!$M$2:$P$70,2,FALSE)),IF(ISERROR(VLOOKUP(E47,'PO List by Level'!$M$2:$P$70,2,FALSE)),\"TBD\",VLOOKUP(E47,'PO List by Level'!$M$2:$P$70,2,FALSE)),VLOOKUP(LEFT(E47,4),'PO List by Level'!$M$2:$P$70,2,FALSE))","v":"TBD"},{"$f":"IF(ISERROR(VLOOKUP(LEFT(F47,4),'PO List by Level'!$M$2:$P$70,2,FALSE)),IF(ISERROR(VLOOKUP(F47,'PO List by Level'!$M$2:$P$70,2,FALSE)),\"TBD\",VLOOKUP(F47,'PO List by Level'!$M$2:$P$70,2,FALSE)),VLOOKUP(LEFT(F47,4),'PO List by Level'!$M$2:$P$70,2,FALSE))","v":"TBD"},{"$f":"IF(ISERROR(VLOOKUP(LEFT(G47,4),'PO List by Level'!$M$2:$P$70,2,FALSE)),IF(ISERROR(VLOOKUP(G47,'PO List by Level'!$M$2:$P$70,2,FALSE)),\"TBD\",VLOOKUP(G47,'PO List by Level'!$M$2:$P$70,2,FALSE)),VLOOKUP(LEFT(G47,4),'PO List by Level'!$M$2:$P$70,2,FALSE))","v":"TBD"},{"$f":"IF(ISERROR(VLOOKUP(LEFT(H47,4),'PO List by Level'!$M$2:$P$70,2,FALSE)),IF(ISERROR(VLOOKUP(H47,'PO List by Level'!$M$2:$P$70,2,FALSE)),\"TBD\",VLOOKUP(H47,'PO List by Level'!$M$2:$P$70,2,FALSE)),VLOOKUP(LEFT(H47,4),'PO List by Level'!$M$2:$P$70,2,FALSE))","v":"TBD"},{"$f":"IF(ISERROR(VLOOKUP(LEFT(I47,4),'PO List by Level'!$M$2:$P$70,2,FALSE)),IF(ISERROR(VLOOKUP(I47,'PO List by Level'!$M$2:$P$70,2,FALSE)),\"TBD\",VLOOKUP(I47,'PO List by Level'!$M$2:$P$70,2,FALSE)),VLOOKUP(LEFT(I47,4),'PO List by Level'!$M$2:$P$70,2,FALSE))","v":"TBD"},{"$f":"IF(ISERROR(VLOOKUP(LEFT(J47,4),'PO List by Level'!$M$2:$P$70,2,FALSE)),IF(ISERROR(VLOOKUP(J47,'PO List by Level'!$M$2:$P$70,2,FALSE)),\"TBD\",VLOOKUP(J47,'PO List by Level'!$M$2:$P$70,2,FALSE)),VLOOKUP(LEFT(J47,4),'PO List by Level'!$M$2:$P$70,2,FALSE))","v":"TBD"},{"$f":"IF(ISERROR(VLOOKUP(LEFT(K47,4),'PO List by Level'!$M$2:$P$70,2,FALSE)),IF(ISERROR(VLOOKUP(K47,'PO List by Level'!$M$2:$P$70,2,FALSE)),\"TBD\",VLOOKUP(K47,'PO List by Level'!$M$2:$P$70,2,FALSE)),VLOOKUP(LEFT(K47,4),'PO List by Level'!$M$2:$P$70,2,FALSE))","v":"TBD"},{"$f":"IF(ISERROR(VLOOKUP(LEFT(L47,4),'PO List by Level'!$M$2:$P$70,2,FALSE)),IF(ISERROR(VLOOKUP(L47,'PO List by Level'!$M$2:$P$70,2,FALSE)),\"TBD\",VLOOKUP(L47,'PO List by Level'!$M$2:$P$70,2,FALSE)),VLOOKUP(LEFT(L47,4),'PO List by Level'!$M$2:$P$70,2,FALSE))","v":"TBD"},{"$f":"IF(ISERROR(VLOOKUP(LEFT(M47,4),'PO List by Level'!$M$2:$P$70,2,FALSE)),IF(ISERROR(VLOOKUP(M47,'PO List by Level'!$M$2:$P$70,2,FALSE)),\"TBD\",VLOOKUP(M47,'PO List by Level'!$M$2:$P$70,2,FALSE)),VLOOKUP(LEFT(M47,4),'PO List by Level'!$M$2:$P$70,2,FALSE))","v":"TBD"},{"$f":"IF(ISERROR(VLOOKUP(LEFT(N47,4),'PO List by Level'!$M$2:$P$70,2,FALSE)),IF(ISERROR(VLOOKUP(N47,'PO List by Level'!$M$2:$P$70,2,FALSE)),\"TBD\",VLOOKUP(N47,'PO List by Level'!$M$2:$P$70,2,FALSE)),VLOOKUP(LEFT(N47,4),'PO List by Level'!$M$2:$P$70,2,FALSE))","v":"TBD"},{"$f":"IF(ISERROR(VLOOKUP(LEFT(O47,4),'PO List by Level'!$M$2:$P$70,2,FALSE)),IF(ISERROR(VLOOKUP(O47,'PO List by Level'!$M$2:$P$70,2,FALSE)),\"TBD\",VLOOKUP(O47,'PO List by Level'!$M$2:$P$70,2,FALSE)),VLOOKUP(LEFT(O47,4),'PO List by Level'!$M$2:$P$70,2,FALSE))","v":"TBD"},{"$f":"IF(ISERROR(VLOOKUP(LEFT(P47,4),'PO List by Level'!$M$2:$P$70,2,FALSE)),IF(ISERROR(VLOOKUP(P47,'PO List by Level'!$M$2:$P$70,2,FALSE)),\"TBD\",VLOOKUP(P47,'PO List by Level'!$M$2:$P$70,2,FALSE)),VLOOKUP(LEFT(P47,4),'PO List by Level'!$M$2:$P$70,2,FALSE))","v":"TBD"},{"$f":"IF(ISERROR(VLOOKUP(LEFT(Q47,4),'PO List by Level'!$M$2:$P$70,2,FALSE)),IF(ISERROR(VLOOKUP(Q47,'PO List by Level'!$M$2:$P$70,2,FALSE)),\"TBD\",VLOOKUP(Q47,'PO List by Level'!$M$2:$P$70,2,FALSE)),VLOOKUP(LEFT(Q47,4),'PO List by Level'!$M$2:$P$70,2,FALSE))","v":"TBD"},{"$f":"IF(ISERROR(VLOOKUP(LEFT(R47,4),'PO List by Level'!$M$2:$P$70,2,FALSE)),IF(ISERROR(VLOOKUP(R47,'PO List by Level'!$M$2:$P$70,2,FALSE)),\"TBD\",VLOOKUP(R47,'PO List by Level'!$M$2:$P$70,2,FALSE)),VLOOKUP(LEFT(R47,4),'PO List by Level'!$M$2:$P$70,2,FALSE))","v":"TBD"},{"$f":"IF(ISERROR(VLOOKUP(LEFT(S47,4),'PO List by Level'!$M$2:$P$70,2,FALSE)),IF(ISERROR(VLOOKUP(S47,'PO List by Level'!$M$2:$P$70,2,FALSE)),\"TBD\",VLOOKUP(S47,'PO List by Level'!$M$2:$P$70,2,FALSE)),VLOOKUP(LEFT(S47,4),'PO List by Level'!$M$2:$P$70,2,FALSE))","v":"Xmas Break"},{"$f":"IF(ISERROR(VLOOKUP(LEFT(T47,4),'PO List by Level'!$M$2:$P$70,2,FALSE)),IF(ISERROR(VLOOKUP(T47,'PO List by Level'!$M$2:$P$70,2,FALSE)),\"TBD\",VLOOKUP(T47,'PO List by Level'!$M$2:$P$70,2,FALSE)),VLOOKUP(LEFT(T47,4),'PO List by Level'!$M$2:$P$70,2,FALSE))","v":"Xmas Break"},{"$f":"IF(ISERROR(VLOOKUP(LEFT(U47,4),'PO List by Level'!$M$2:$P$70,2,FALSE)),IF(ISERROR(VLOOKUP(U47,'PO List by Level'!$M$2:$P$70,2,FALSE)),\"TBD\",VLOOKUP(U47,'PO List by Level'!$M$2:$P$70,2,FALSE)),VLOOKUP(LEFT(U47,4),'PO List by Level'!$M$2:$P$70,2,FALSE))","v":"TBD"},{"$f":"IF(ISERROR(VLOOKUP(LEFT(V47,4),'PO List by Level'!$M$2:$P$70,2,FALSE)),IF(ISERROR(VLOOKUP(V47,'PO List by Level'!$M$2:$P$70,2,FALSE)),\"TBD\",VLOOKUP(V47,'PO List by Level'!$M$2:$P$70,2,FALSE)),VLOOKUP(LEFT(V47,4),'PO List by Level'!$M$2:$P$70,2,FALSE))","v":"TBD"},{"$f":"IF(ISERROR(VLOOKUP(LEFT(W47,4),'PO List by Level'!$M$2:$P$70,2,FALSE)),IF(ISERROR(VLOOKUP(W47,'PO List by Level'!$M$2:$P$70,2,FALSE)),\"TBD\",VLOOKUP(W47,'PO List by Level'!$M$2:$P$70,2,FALSE)),VLOOKUP(LEFT(W47,4),'PO List by Level'!$M$2:$P$70,2,FALSE))","v":"TBD"},{"$f":"IF(ISERROR(VLOOKUP(LEFT(X47,4),'PO List by Level'!$M$2:$P$70,2,FALSE)),IF(ISERROR(VLOOKUP(X47,'PO List by Level'!$M$2:$P$70,2,FALSE)),\"TBD\",VLOOKUP(X47,'PO List by Level'!$M$2:$P$70,2,FALSE)),VLOOKUP(LEFT(X47,4),'PO List by Level'!$M$2:$P$70,2,FALSE))","v":"TBD"},{"$f":"IF(ISERROR(VLOOKUP(LEFT(Y47,4),'PO List by Level'!$M$2:$P$70,2,FALSE)),IF(ISERROR(VLOOKUP(Y47,'PO List by Level'!$M$2:$P$70,2,FALSE)),\"TBD\",VLOOKUP(Y47,'PO List by Level'!$M$2:$P$70,2,FALSE)),VLOOKUP(LEFT(Y47,4),'PO List by Level'!$M$2:$P$70,2,FALSE))","v":"TBD"},{"$f":"IF(ISERROR(VLOOKUP(LEFT(Z47,4),'PO List by Level'!$M$2:$P$70,2,FALSE)),IF(ISERROR(VLOOKUP(Z47,'PO List by Level'!$M$2:$P$70,2,FALSE)),\"TBD\",VLOOKUP(Z47,'PO List by Level'!$M$2:$P$70,2,FALSE)),VLOOKUP(LEFT(Z47,4),'PO List by Level'!$M$2:$P$70,2,FALSE))","v":"TBD"},{"$f":"IF(ISERROR(VLOOKUP(LEFT(AA47,4),'PO List by Level'!$M$2:$P$70,2,FALSE)),IF(ISERROR(VLOOKUP(AA47,'PO List by Level'!$M$2:$P$70,2,FALSE)),\"TBD\",VLOOKUP(AA47,'PO List by Level'!$M$2:$P$70,2,FALSE)),VLOOKUP(LEFT(AA47,4),'PO List by Level'!$M$2:$P$70,2,FALSE))","v":"TBD"},{"$f":"IF(ISERROR(VLOOKUP(LEFT(AB47,4),'PO List by Level'!$M$2:$P$70,2,FALSE)),IF(ISERROR(VLOOKUP(AB47,'PO List by Level'!$M$2:$P$70,2,FALSE)),\"TBD\",VLOOKUP(AB47,'PO List by Level'!$M$2:$P$70,2,FALSE)),VLOOKUP(LEFT(AB47,4),'PO List by Level'!$M$2:$P$70,2,FALSE))","v":"TBD"},{"$f":"IF(ISERROR(VLOOKUP(LEFT(AC47,4),'PO List by Level'!$M$2:$P$70,2,FALSE)),IF(ISERROR(VLOOKUP(AC47,'PO List by Level'!$M$2:$P$70,2,FALSE)),\"TBD\",VLOOKUP(AC47,'PO List by Level'!$M$2:$P$70,2,FALSE)),VLOOKUP(LEFT(AC47,4),'PO List by Level'!$M$2:$P$70,2,FALSE))","v":"TBD"},{"$f":"IF(ISERROR(VLOOKUP(LEFT(AD47,4),'PO List by Level'!$M$2:$P$70,2,FALSE)),IF(ISERROR(VLOOKUP(AD47,'PO List by Level'!$M$2:$P$70,2,FALSE)),\"TBD\",VLOOKUP(AD47,'PO List by Level'!$M$2:$P$70,2,FALSE)),VLOOKUP(LEFT(AD47,4),'PO List by Level'!$M$2:$P$70,2,FALSE))","v":"TBD"},{"$f":"IF(ISERROR(VLOOKUP(LEFT(AE47,4),'PO List by Level'!$M$2:$P$70,2,FALSE)),IF(ISERROR(VLOOKUP(AE47,'PO List by Level'!$M$2:$P$70,2,FALSE)),\"TBD\",VLOOKUP(AE47,'PO List by Level'!$M$2:$P$70,2,FALSE)),VLOOKUP(LEFT(AE47,4),'PO List by Level'!$M$2:$P$70,2,FALSE))","v":"Break"},{"$f":"IF(ISERROR(VLOOKUP(LEFT(AF47,4),'PO List by Level'!$M$2:$P$70,2,FALSE)),IF(ISERROR(VLOOKUP(AF47,'PO List by Level'!$M$2:$P$70,2,FALSE)),\"TBD\",VLOOKUP(AF47,'PO List by Level'!$M$2:$P$70,2,FALSE)),VLOOKUP(LEFT(AF47,4),'PO List by Level'!$M$2:$P$70,2,FALSE))","v":"TBD"},{"$f":"IF(ISERROR(VLOOKUP(LEFT(AG47,4),'PO List by Level'!$M$2:$P$70,2,FALSE)),IF(ISERROR(VLOOKUP(AG47,'PO List by Level'!$M$2:$P$70,2,FALSE)),\"TBD\",VLOOKUP(AG47,'PO List by Level'!$M$2:$P$70,2,FALSE)),VLOOKUP(LEFT(AG47,4),'PO List by Level'!$M$2:$P$70,2,FALSE))","v":"TBD"},{"$f":"IF(ISERROR(VLOOKUP(LEFT(AH47,4),'PO List by Level'!$M$2:$P$70,2,FALSE)),IF(ISERROR(VLOOKUP(AH47,'PO List by Level'!$M$2:$P$70,2,FALSE)),\"TBD\",VLOOKUP(AH47,'PO List by Level'!$M$2:$P$70,2,FALSE)),VLOOKUP(LEFT(AH47,4),'PO List by Level'!$M$2:$P$70,2,FALSE))","v":"Personal Fitness and Healthy Living"},{"$f":"IF(ISERROR(VLOOKUP(LEFT(AI47,4),'PO List by Level'!$M$2:$P$70,2,FALSE)),IF(ISERROR(VLOOKUP(AI47,'PO List by Level'!$M$2:$P$70,2,FALSE)),\"TBD\",VLOOKUP(AI47,'PO List by Level'!$M$2:$P$70,2,FALSE)),VLOOKUP(LEFT(AI47,4),'PO List by Level'!$M$2:$P$70,2,FALSE))","v":"TBD"},{"$f":"IF(ISERROR(VLOOKUP(LEFT(AJ47,4),'PO List by Level'!$M$2:$P$70,2,FALSE)),IF(ISERROR(VLOOKUP(AJ47,'PO List by Level'!$M$2:$P$70,2,FALSE)),\"TBD\",VLOOKUP(AJ47,'PO List by Level'!$M$2:$P$70,2,FALSE)),VLOOKUP(LEFT(AJ47,4),'PO List by Level'!$M$2:$P$70,2,FALSE))","v":"TBD"},{"$f":"IF(ISERROR(VLOOKUP(LEFT(AK47,4),'PO List by Level'!$M$2:$P$70,2,FALSE)),IF(ISERROR(VLOOKUP(AK47,'PO List by Level'!$M$2:$P$70,2,FALSE)),\"TBD\",VLOOKUP(AK47,'PO List by Level'!$M$2:$P$70,2,FALSE)),VLOOKUP(LEFT(AK47,4),'PO List by Level'!$M$2:$P$70,2,FALSE))","v":"TBD"},{"$f":"IF(ISERROR(VLOOKUP(LEFT(AL47,4),'PO List by Level'!$M$2:$P$70,2,FALSE)),IF(ISERROR(VLOOKUP(AL47,'PO List by Level'!$M$2:$P$70,2,FALSE)),\"TBD\",VLOOKUP(AL47,'PO List by Level'!$M$2:$P$70,2,FALSE)),VLOOKUP(LEFT(AL47,4),'PO List by Level'!$M$2:$P$70,2,FALSE))","v":"CAF Familiarization"},{"$f":"IF(ISERROR(VLOOKUP(LEFT(AM47,4),'PO List by Level'!$M$2:$P$70,2,FALSE)),IF(ISERROR(VLOOKUP(AM47,'PO List by Level'!$M$2:$P$70,2,FALSE)),\"TBD\",VLOOKUP(AM47,'PO List by Level'!$M$2:$P$70,2,FALSE)),VLOOKUP(LEFT(AM47,4),'PO List by Level'!$M$2:$P$70,2,FALSE))","v":"TBD"},{"$f":"IF(ISERROR(VLOOKUP(LEFT(AN47,4),'PO List by Level'!$M$2:$P$70,2,FALSE)),IF(ISERROR(VLOOKUP(AN47,'PO List by Level'!$M$2:$P$70,2,FALSE)),\"TBD\",VLOOKUP(AN47,'PO List by Level'!$M$2:$P$70,2,FALSE)),VLOOKUP(LEFT(AN47,4),'PO List by Level'!$M$2:$P$70,2,FALSE))","v":"TBD"},{"$f":"IF(ISERROR(VLOOKUP(LEFT(AO47,4),'PO List by Level'!$M$2:$P$70,2,FALSE)),IF(ISERROR(VLOOKUP(AO47,'PO List by Level'!$M$2:$P$70,2,FALSE)),\"TBD\",VLOOKUP(AO47,'PO List by Level'!$M$2:$P$70,2,FALSE)),VLOOKUP(LEFT(AO47,4),'PO List by Level'!$M$2:$P$70,2,FALSE))","v":"TBD"},{"$f":"IF(ISERROR(VLOOKUP(LEFT(AP47,4),'PO List by Level'!$M$2:$P$70,2,FALSE)),IF(ISERROR(VLOOKUP(AP47,'PO List by Level'!$M$2:$P$70,2,FALSE)),\"TBD\",VLOOKUP(AP47,'PO List by Level'!$M$2:$P$70,2,FALSE)),VLOOKUP(LEFT(AP47,4),'PO List by Level'!$M$2:$P$70,2,FALSE))","v":"Leadership"},{"$f":"IF(ISERROR(VLOOKUP(LEFT(AQ47,4),'PO List by Level'!$M$2:$P$70,2,FALSE)),IF(ISERROR(VLOOKUP(AQ47,'PO List by Level'!$M$2:$P$70,2,FALSE)),\"TBD\",VLOOKUP(AQ47,'PO List by Level'!$M$2:$P$70,2,FALSE)),VLOOKUP(LEFT(AQ47,4),'PO List by Level'!$M$2:$P$70,2,FALSE))","v":"ACR Practice"},{"$f":"IF(ISERROR(VLOOKUP(LEFT(AR47,4),'PO List by Level'!$M$2:$P$70,2,FALSE)),IF(ISERROR(VLOOKUP(AR47,'PO List by Level'!$M$2:$P$70,2,FALSE)),\"TBD\",VLOOKUP(AR47,'PO List by Level'!$M$2:$P$70,2,FALSE)),VLOOKUP(LEFT(AR47,4),'PO List by Level'!$M$2:$P$70,2,FALSE))","v":"TBD"},{"$f":"IF(ISERROR(VLOOKUP(LEFT(AS47,4),'PO List by Level'!$M$2:$P$70,2,FALSE)),IF(ISERROR(VLOOKUP(AS47,'PO List by Level'!$M$2:$P$70,2,FALSE)),\"TBD\",VLOOKUP(AS47,'PO List by Level'!$M$2:$P$70,2,FALSE)),VLOOKUP(LEFT(AS47,4),'PO List by Level'!$M$2:$P$70,2,FALSE))","v":"TBD"},{"$f":"IF(ISERROR(VLOOKUP(LEFT(AT47,4),'PO List by Level'!$M$2:$P$70,2,FALSE)),IF(ISERROR(VLOOKUP(AT47,'PO List by Level'!$M$2:$P$70,2,FALSE)),\"TBD\",VLOOKUP(AT47,'PO List by Level'!$M$2:$P$70,2,FALSE)),VLOOKUP(LEFT(AT47,4),'PO List by Level'!$M$2:$P$70,2,FALSE))","v":"TBD"},{"$f":"IF(ISERROR(VLOOKUP(LEFT(AU47,4),'PO List by Level'!$M$2:$P$70,2,FALSE)),IF(ISERROR(VLOOKUP(AU47,'PO List by Level'!$M$2:$P$70,2,FALSE)),\"TBD\",VLOOKUP(AU47,'PO List by Level'!$M$2:$P$70,2,FALSE)),VLOOKUP(LEFT(AU47,4),'PO List by Level'!$M$2:$P$70,2,FALSE))","v":"TBD"},{"$f":"IF(ISERROR(VLOOKUP(LEFT(AV47,4),'PO List by Level'!$M$2:$P$70,2,FALSE)),IF(ISERROR(VLOOKUP(AV47,'PO List by Level'!$M$2:$P$70,2,FALSE)),\"TBD\",VLOOKUP(AV47,'PO List by Level'!$M$2:$P$70,2,FALSE)),VLOOKUP(LEFT(AV47,4),'PO List by Level'!$M$2:$P$70,2,FALSE))","v":"TBD"}]
[null,null,"Instructor",{"$nulls":34},"Virtual",{"$nulls":3},"self-lead"]
[null,null,"Location",{"$nulls":34},"Mess Dinner"]
[{"$f":"'Unit Info'!G6","v":"Level 5"},1,"PO/EO","Admin Night",{"$nulls":14},"Christmas","Christmas",{"$nulls":10},"March Break",null,null,"MX04.03",{"$nulls":3},"MX20.01D",{"$nulls":4},"ACR Prep"]
[null,null,"Subject",{"$f":"IF(ISERROR(VLOOKUP(LEFT(D51,4),'PO List by Level'!$Q$2:$T$70,2,FALSE)),IF(ISERROR(VLOOKUP(D51,'PO List by Level'!$Q$2:$T$70,2,FALSE)),\"TBD\",VLOOKUP(D51,'PO List by Level'!$Q$2:$T$70,2,FALSE)),VLOOKUP(LEFT(D51,4),'PO List by Level'!$Q$2:$T$70,2,FALSE))","v":"TBD"},{"$f":"IF(ISERROR(VLOOKUP(LEFT(E51,4),'PO List by Level'!$Q$2:$T$70,2,FALSE)),IF(ISERROR(VLOOKUP(E51,'PO List by Level'!$Q$2:$T$70,2,FALSE)),\"TBD\",VLOOKUP(E51,'PO List by Level'!$Q$2:$T$70,2,FALSE)),VLOOKUP(LEFT(E51,4),'PO List by Level'!$Q$2:$T$70,2,FALSE))","v":"TBD"},{"$f":"IF(ISERROR(VLOOKUP(LEFT(F51,4),'PO List by Level'!$Q$2:$T$70,2,FALSE)),IF(ISERROR(VLOOKUP(F51,'PO List by Level'!$Q$2:$T$70,2,FALSE)),\"TBD\",VLOOKUP(F51,'PO List by Level'!$Q$2:$T$70,2,FALSE)),VLOOKUP(LEFT(F51,4),'PO List by Level'!$Q$2:$T$70,2,FALSE))","v":"TBD"},{"$f":"IF(ISERROR(VLOOKUP(LEFT(G51,4),'PO List by Level'!$Q$2:$T$70,2,FALSE)),IF(ISERROR(VLOOKUP(G51,'PO List by Level'!$Q$2:$T$70,2,FALSE)),\"TBD\",VLOOKUP(G51,'PO List by Level'!$Q$2:$T$70,2,FALSE)),VLOOKUP(LEFT(G51,4),'PO List by Level'!$Q$2:$T$70,2,FALSE))","v":"TBD"},{"$f":"IF(ISERROR(VLOOKUP(LEFT(H51,4),'PO List by Level'!$Q$2:$T$70,2,FALSE)),IF(ISERROR(VLOOKUP(H51,'PO List by Level'!$Q$2:$T$70,2,FALSE)),\"TBD\",VLOOKUP(H51,'PO List by Level'!$Q$2:$T$70,2,FALSE)),VLOOKUP(LEFT(H51,4),'PO List by Level'!$Q$2:$T$70,2,FALSE))","v":"TBD"},{"$f":"IF(ISERROR(VLOOKUP(LEFT(I51,4),'PO List by Level'!$Q$2:$T$70,2,FALSE)),IF(ISERROR(VLOOKUP(I51,'PO List by Level'!$Q$2:$T$70,2,FALSE)),\"TBD\",VLOOKUP(I51,'PO List by Level'!$Q$2:$T$70,2,FALSE)),VLOOKUP(LEFT(I51,4),'PO List by Level'!$Q$2:$T$70,2,FALSE))","v":"TBD"},{"$f":"IF(ISERROR(VLOOKUP(LEFT(J51,4),'PO List by Level'!$Q$2:$T$70,2,FALSE)),IF(ISERROR(VLOOKUP(J51,'PO List by Level'!$Q$2:$T$70,2,FALSE)),\"TBD\",VLOOKUP(J51,'PO List by Level'!$Q$2:$T$70,2,FALSE)),VLOOKUP(LEFT(J51,4),'PO List by Level'!$Q$2:$T$70,2,FALSE))","v":"TBD"},{"$f":"IF(ISERROR(VLOOKUP(LEFT(K51,4),'PO List by Level'!$Q$2:$T$70,2,FALSE)),IF(ISERROR(VLOOKUP(K51,'PO List by Level'!$Q$2:$T$70,2,FALSE)),\"TBD\",VLOOKUP(K51,'PO List by Level'!$Q$2:$T$70,2,FALSE)),VLOOKUP(LEFT(K51,4),'PO List by Level'!$Q$2:$T$70,2,FALSE))","v":"TBD"},{"$f":"IF(ISERROR(VLOOKUP(LEFT(L51,4),'PO List by Level'!$Q$2:$T$70,2,FALSE)),IF(ISERROR(VLOOKUP(L51,'PO List by Level'!$Q$2:$T$70,2,FALSE)),\"TBD\",VLOOKUP(L51,'PO List by Level'!$Q$2:$T$70,2,FALSE)),VLOOKUP(LEFT(L51,4),'PO List by Level'!$Q$2:$T$70,2,FALSE))","v":"TBD"},{"$f":"IF(ISERROR(VLOOKUP(LEFT(M51,4),'PO List by Level'!$Q$2:$T$70,2,FALSE)),IF(ISERROR(VLOOKUP(M51,'PO List by Level'!$Q$2:$T$70,2,FALSE)),\"TBD\",VLOOKUP(M51,'PO List by Level'!$Q$2:$T$70,2,FALSE)),VLOOKUP(LEFT(M51,4),'PO List by Level'!$Q$2:$T$70,2,FALSE))","v":"TBD"},{"$f":"IF(ISERROR(VLOOKUP(LEFT(N51,4),'PO List by Level'!$Q$2:$T$70,2,FALSE)),IF(ISERROR(VLOOKUP(N51,'PO List by Level'!$Q$2:$T$70,2,FALSE)),\"TBD\",VLOOKUP(N51,'PO List by Level'!$Q$2:$T$70,2,FALSE)),VLOOKUP(LEFT(N51,4),'PO List by Level'!$Q$2:$T$70,2,FALSE))","v":"TBD"},{"$f":"IF(ISERROR(VLOOKUP(LEFT(O51,4),'PO List by Level'!$Q$2:$T$70,2,FALSE)),IF(ISERROR(VLOOKUP(O51,'PO List by Level'!$Q$2:$T$70,2,FALSE)),\"TBD\",VLOOKUP(O51,'PO List by Level'!$Q$2:$T$70,2,FALSE)),VLOOKUP(LEFT(O51,4),'PO List by Level'!$Q$2:$T$70,2,FALSE))","v":"TBD"},{"$f":"IF(ISERROR(VLOOKUP(LEFT(P51,4),'PO List by Level'!$Q$2:$T$70,2,FALSE)),IF(ISERROR(VLOOKUP(P51,'PO List by Level'!$Q$2:$T$70,2,FALSE)),\"TBD\",VLOOKUP(P51,'PO List by Level'!$Q$2:$T$70,2,FALSE)),VLOOKUP(LEFT(P51,4),'PO List by Level'!$Q$2:$T$70,2,FALSE))","v":"TBD"},{"$f":"IF(ISERROR(VLOOKUP(LEFT(Q51,4),'PO List by Level'!$Q$2:$T$70,2,FALSE)),IF(ISERROR(VLOOKUP(Q51,'PO List by Level'!$Q$2:$T$70,2,FALSE)),\"TBD\",VLOOKUP(Q51,'PO List by Level'!$Q$2:$T$70,2,FALSE)),VLOOKUP(LEFT(Q51,4),'PO List by Level'!$Q$2:$T$70,2,FALSE))","v":"TBD"},{"$f":"IF(ISERROR(VLOOKUP(LEFT(R51,4),'PO List by Level'!$Q$2:$T$70,2,FALSE)),IF(ISERROR(VLOOKUP(R51,'PO List by Level'!$Q$2:$T$70,2,FALSE)),\"TBD\",VLOOKUP(R51,'PO List by Level'!$Q$2:$T$70,2,FALSE)),VLOOKUP(LEFT(R51,4),'PO List by Level'!$Q$2:$T$70,2,FALSE))","v":"TBD"},{"$f":"IF(ISERROR(VLOOKUP(LEFT(S51,4),'PO List by Level'!$Q$2:$T$70,2,FALSE)),IF(ISERROR(VLOOKUP(S51,'PO List by Level'!$Q$2:$T$70,2,FALSE)),\"TBD\",VLOOKUP(S51,'PO List by Level'!$Q$2:$T$70,2,FALSE)),VLOOKUP(LEFT(S51,4),'PO List by Level'!$Q$2:$T$70,2,FALSE))","v":"Xmas Break"},{"$f":"IF(ISERROR(VLOOKUP(LEFT(T51,4),'PO List by Level'!$Q$2:$T$70,2,FALSE)),IF(ISERROR(VLOOKUP(T51,'PO List by Level'!$Q$2:$T$70,2,FALSE)),\"TBD\",VLOOKUP(T51,'PO List by Level'!$Q$2:$T$70,2,FALSE)),VLOOKUP(LEFT(T51,4),'PO List by Level'!$Q$2:$T$70,2,FALSE))","v":"Xmas Break"},{"$f":"IF(ISERROR(VLOOKUP(LEFT(U51,4),'PO List by Level'!$Q$2:$T$70,2,FALSE)),IF(ISERROR(VLOOKUP(U51,'PO List by Level'!$Q$2:$T$70,2,FALSE)),\"TBD\",VLOOKUP(U51,'PO List by Level'!$Q$2:$T$70,2,FALSE)),VLOOKUP(LEFT(U51,4),'PO List by Level'!$Q$2:$T$70,2,FALSE))","v":"TBD"},{"$f":"IF(ISERROR(VLOOKUP(LEFT(V51,4),'PO List by Level'!$Q$2:$T$70,2,FALSE)),IF(ISERROR(VLOOKUP(V51,'PO List by Level'!$Q$2:$T$70,2,FALSE)),\"TBD\",VLOOKUP(V51,'PO List by Level'!$Q$2:$T$70,2,FALSE)),VLOOKUP(LEFT(V51,4),'PO List by Level'!$Q$2:$T$70,2,FALSE))","v":"TBD"},{"$f":"IF(ISERROR(VLOOKUP(LEFT(W51,4),'PO List by Level'!$Q$2:$T$70,2,FALSE)),IF(ISERROR(VLOOKUP(W51,'PO List by Level'!$Q$2:$T$70,2,FALSE)),\"TBD\",VLOOKUP(W51,'PO List by Level'!$Q$2:$T$70,2,FALSE)),VLOOKUP(LEFT(W51,4),'PO List by Level'!$Q$2:$T$70,2,FALSE))","v":"TBD"},{"$f":"IF(ISERROR(VLOOKUP(LEFT(X51,4),'PO List by Level'!$Q$2:$T$70,2,FALSE)),IF(ISERROR(VLOOKUP(X51,'PO List by Level'!$Q$2:$T$70,2,FALSE)),\"TBD\",VLOOKUP(X51,'PO List by Level'!$Q$2:$T$70,2,FALSE)),VLOOKUP(LEFT(X51,4),'PO List by Level'!$Q$2:$T$70,2,FALSE))","v":"TBD"},{"$f":"IF(ISERROR(VLOOKUP(LEFT(Y51,4),'PO List by Level'!$Q$2:$T$70,2,FALSE)),IF(ISERROR(VLOOKUP(Y51,'PO List by Level'!$Q$2:$T$70,2,FALSE)),\"TBD\",VLOOKUP(Y51,'PO List by Level'!$Q$2:$T$70,2,FALSE)),VLOOKUP(LEFT(Y51,4),'PO List by Level'!$Q$2:$T$70,2,FALSE))","v":"TBD"},{"$f":"IF(ISERROR(VLOOKUP(LEFT(Z51,4),'PO List by Level'!$Q$2:$T$70,2,FALSE)),IF(ISERROR(VLOOKUP(Z51,'PO List by Level'!$Q$2:$T$70,2,FALSE)),\"TBD\",VLOOKUP(Z51,'PO List by Level'!$Q$2:$T$70,2,FALSE)),VLOOKUP(LEFT(Z51,4),'PO List by Level'!$Q$2:$T$70,2,FALSE))","v":"TBD"},{"$f":"IF(ISERROR(VLOOKUP(LEFT(AA51,4),'PO List by Level'!$Q$2:$T$70,2,FALSE)),IF(ISERROR(VLOOKUP(AA51,'PO List by Level'!$Q$2:$T$70,2,FALSE)),\"TBD\",VLOOKUP(AA51,'PO List by Level'!$Q$2:$T$70,2,FALSE)),VLOOKUP(LEFT(AA51,4),'PO List by Level'!$Q$2:$T$70,2,FALSE))","v":"TBD"},{"$f":"IF(ISERROR(VLOOKUP(LEFT(AB51,4),'PO List by Level'!$Q$2:$T$70,2,FALSE)),IF(ISERROR(VLOOKUP(AB51,'PO List by Level'!$Q$2:$T$70,2,FALSE)),\"TBD\",VLOOKUP(AB51,'PO List by Level'!$Q$2:$T$70,2,FALSE)),VLOOKUP(LEFT(AB51,4),'PO List by Level'!$Q$2:$T$70,2,FALSE))","v":"TBD"},{"$f":"IF(ISERROR(VLOOKUP(LEFT(AC51,4),'PO List by Level'!$Q$2:$T$70,2,FALSE)),IF(ISERROR(VLOOKUP(AC51,'PO List by Level'!$Q$2:$T$70,2,FALSE)),\"TBD\",VLOOKUP(AC51,'PO List by Level'!$Q$2:$T$70,2,FALSE)),VLOOKUP(LEFT(AC51,4),'PO List by Level'!$Q$2:$T$70,2,FALSE))","v":"TBD"},{"$f":"IF(ISERROR(VLOOKUP(LEFT(AD51,4),'PO List by Level'!$Q$2:$T$70,2,FALSE)),IF(ISERROR(VLOOKUP(AD51,'PO List by Level'!$Q$2:$T$70,2,FALSE)),\"TBD\",VLOOKUP(AD51,'PO List by Level'!$Q$2:$T$70,2,FALSE)),VLOOKUP(LEFT(AD51,4),'PO List by Level'!$Q$2:$T$70,2,FALSE))","v":"TBD"},{"$f":"IF(ISERROR(VLOOKUP(LEFT(AE51,4),'PO List by Level'!$Q$2:$T$70,2,FALSE)),IF(ISERROR(VLOOKUP(AE51,'PO List by Level'!$Q$2:$T$70,2,FALSE)),\"TBD\",VLOOKUP(AE51,'PO List by Level'!$Q$2:$T$70,2,FALSE)),VLOOKUP(LEFT(AE51,4),'PO List by Level'!$Q$2:$T$70,2,FALSE))","v":"Break"},{"$f":"IF(ISERROR(VLOOKUP(LEFT(AF51,4),'PO List by Level'!$Q$2:$T$70,2,FALSE)),IF(ISERROR(VLOOKUP(AF51,'PO List by Level'!$Q$2:$T$70,2,FALSE)),\"TBD\",VLOOKUP(AF51,'PO List by Level'!$Q$2:$T$70,2,FALSE)),VLOOKUP(LEFT(AF51,4),'PO List by Level'!$Q$2:$T$70,2,FALSE))","v":"TBD"},{"$f":"IF(ISERROR(VLOOKUP(LEFT(AG51,4),'PO List by Level'!$Q$2:$T$70,2,FALSE)),IF(ISERROR(VLOOKUP(AG51,'PO List by Level'!$Q$2:$T$70,2,FALSE)),\"TBD\",VLOOKUP(AG51,'PO List by Level'!$Q$2:$T$70,2,FALSE)),VLOOKUP(LEFT(AG51,4),'PO List by Level'!$Q$2:$T$70,2,FALSE))","v":"TBD"},{"$f":"IF(ISERROR(VLOOKUP(LEFT(AH51,4),'PO List by Level'!$Q$2:$T$70,2,FALSE)),IF(ISERROR(VLOOKUP(AH51,'PO List by Level'!$Q$2:$T$70,2,FALSE)),\"TBD\",VLOOKUP(AH51,'PO List by Level'!$Q$2:$T$70,2,FALSE)),VLOOKUP(LEFT(AH51,4),'PO List by Level'!$Q$2:$T$70,2,FALSE))","v":"Personal Fitness and Healthy Living"},{"$f":"IF(ISERROR(VLOOKUP(LEFT(AI51,4),'PO List by Level'!$Q$2:$T$70,2,FALSE)),IF(ISERROR(VLOOKUP(AI51,'PO List by Level'!$Q$2:$T$70,2,FALSE)),\"TBD\",VLOOKUP(AI51,'PO List by Level'!$Q$2:$T$70,2,FALSE)),VLOOKUP(LEFT(AI51,4),'PO List by Level'!$Q$2:$T$70,2,FALSE))","v":"TBD"},{"$f":"IF(ISERROR(VLOOKUP(LEFT(AJ51,4),'PO List by Level'!$Q$2:$T$70,2,FALSE)),IF(ISERROR(VLOOKUP(AJ51,'PO List by Level'!$Q$2:$T$70,2,FALSE)),\"TBD\",VLOOKUP(AJ51,'PO List by Level'!$Q$2:$T$70,2,FALSE)),VLOOKUP(LEFT(AJ51,4),'PO List by Level'!$Q$2:$T$70,2,FALSE))","v":"TBD"},{"$f":"IF(ISERROR(VLOOKUP(LEFT(AK51,4),'PO List by Level'!$Q$2:$T$70,2,FALSE)),IF(ISERROR(VLOOKUP(AK51,'PO List by Level'!$Q$2:$T$70,2,FALSE)),\"TBD\",VLOOKUP(AK51,'PO List by Level'!$Q$2:$T$70,2,FALSE)),VLOOKUP(LEFT(AK51,4),'PO List by Level'!$Q$2:$T$70,2,FALSE))","v":"TBD"},{"$f":"IF(ISERROR(VLOOKUP(LEFT(AL51,4),'PO List by Level'!$Q$2:$T$70,2,FALSE)),IF(ISERROR(VLOOKUP(AL51,'PO List by Level'!$Q$2:$T$70,2,FALSE)),\"TBD\",VLOOKUP(AL51,'PO List by Level'!$Q$2:$T$70,2,FALSE)),VLOOKUP(LEFT(AL51,4),'PO List by Level'!$Q$2:$T$70,2,FALSE))","v":"CAF Familiarization"},{"$f":"IF(ISERROR(VLOOKUP(LEFT(AM51,4),'PO List by Level'!$Q$2:$T$70,2,FALSE)),IF(ISERROR(VLOOKUP(AM51,'PO List by Level'!$Q$2:$T$70,2,FALSE)),\"TBD\",VLOOKUP(AM51,'PO List by Level'!$Q$2:$T$70,2,FALSE)),VLOOKUP(LEFT(AM51,4),'PO List by Level'!$Q$2:$T$70,2,FALSE))","v":"TBD"},{"$f":"IF(ISERROR(VLOOKUP(LEFT(AN51,4),'PO List by Level'!$Q$2:$T$70,2,FALSE)),IF(ISERROR(VLOOKUP(AN51,'PO List by Level'!$Q$2:$T$70,2,FALSE)),\"TBD\",VLOOKUP(AN51,'PO List by Level'!$Q$2:$T$70,2,FALSE)),VLOOKUP(LEFT(AN51,4),'PO List by Level'!$Q$2:$T$70,2,FALSE))","v":"TBD"},{"$f":"IF(ISERROR(VLOOKUP(LEFT(AO51,4),'PO List by Level'!$Q$2:$T$70,2,FALSE)),IF(ISERROR(VLOOKUP(AO51,'PO List by Level'!$Q$2:$T$70,2,FALSE)),\"TBD\",VLOOKUP(AO51,'PO List by Level'!$Q$2:$T$70,2,FALSE)),VLOOKUP(LEFT(AO51,4),'PO List by Level'!$Q$2:$T$70,2,FALSE))","v":"TBD"},{"$f":"IF(ISERROR(VLOOKUP(LEFT(AP51,4),'PO List by Level'!$Q$2:$T$70,2,FALSE)),IF(ISERROR(VLOOKUP(AP51,'PO List by Level'!$Q$2:$T$70,2,FALSE)),\"TBD\",VLOOKUP(AP51,'PO List by Level'!$Q$2:$T$70,2,FALSE)),VLOOKUP(LEFT(AP51,4),'PO List by Level'!$Q$2:$T$70,2,FALSE))","v":"TBD"},{"$f":"IF(ISERROR(VLOOKUP(LEFT(AQ51,4),'PO List by Level'!$Q$2:$T$70,2,FALSE)),IF(ISERROR(VLOOKUP(AQ51,'PO List by Level'!$Q$2:$T$70,2,FALSE)),\"TBD\",VLOOKUP(AQ51,'PO List by Level'!$Q$2:$T$70,2,FALSE)),VLOOKUP(LEFT(AQ51,4),'PO List by Level'!$Q$2:$T$70,2,FALSE))","v":"ACR Practice"},{"$f":"IF(ISERROR(VLOOKUP(LEFT(AR51,4),'PO List by Level'!$Q$2:$T$70,2,FALSE)),IF(ISERROR(VLOOKUP(AR51,'PO List by Level'!$Q$2:$T$70,2,FALSE)),\"TBD\",VLOOKUP(AR51,'PO List by Level'!$Q$2:$T$70,2,FALSE)),VLOOKUP(LEFT(AR51,4),'PO List by Level'!$Q$2:$T$70,2,FALSE))","v":"TBD"},{"$f":"IF(ISERROR(VLOOKUP(LEFT(AS51,4),'PO List by Level'!$Q$2:$T$70,2,FALSE)),IF(ISERROR(VLOOKUP(AS51,'PO List by Level'!$Q$2:$T$70,2,FALSE)),\"TBD\",VLOOKUP(AS51,'PO List by Level'!$Q$2:$T$70,2,FALSE)),VLOOKUP(LEFT(AS51,4),'PO List by Level'!$Q$2:$T$70,2,FALSE))","v":"TBD"},{"$f":"IF(ISERROR(VLOOKUP(LEFT(AT51,4),'PO List by Level'!$Q$2:$T$70,2,FALSE)),IF(ISERROR(VLOOKUP(AT51,'PO List by Level'!$Q$2:$T$70,2,FALSE)),\"TBD\",VLOOKUP(AT51,'PO List by Level'!$Q$2:$T$70,2,FALSE)),VLOOKUP(LEFT(AT51,4),'PO List by Level'!$Q$2:$T$70,2,FALSE))","v":"TBD"},{"$f":"IF(ISERROR(VLOOKUP(LEFT(AU51,4),'PO List by Level'!$Q$2:$T$70,2,FALSE)),IF(ISERROR(VLOOKUP(AU51,'PO List by Level'!$Q$2:$T$70,2,FALSE)),\"TBD\",VLOOKUP(AU51,'PO List by Level'!$Q$2:$T$70,2,FALSE)),VLOOKUP(LEFT(AU51,4),'PO List by Level'!$Q$2:$T$70,2,FALSE))","v":"TBD"},{"$f":"IF(ISERROR(VLOOKUP(LEFT(AV51,4),'PO List by Level'!$Q$2:$T$70,2,FALSE)),IF(ISERROR(VLOOKUP(AV51,'PO List by Level'!$Q$2:$T$70,2,FALSE)),\"TBD\",VLOOKUP(AV51,'PO List by Level'!$Q$2:$T$70,2,FALSE)),VLOOKUP(LEFT(AV51,4),'PO List by Level'!$Q$2:$T$70,2,FALSE))","v":"TBD"}]
[null,null,"Instructor",{"$nulls":34},"Virtual"]
[null,null,"Location",{"$nulls":34},"Mess Dinner"]
[null,2,"PO/EO",{"$nulls":15},"Christmas","Christmas",{"$nulls":10},"March Break",null,null,"MX04.03",{"$nulls":3},"MX20.01D",{"$nulls":4},"ACR Prep"]
[null,null,"Subject",{"$f":"IF(ISERROR(VLOOKUP(LEFT(D55,4),'PO List by Level'!$Q$2:$T$70,2,FALSE)),IF(ISERROR(VLOOKUP(D55,'PO List by Level'!$Q$2:$T$70,2,FALSE)),\"TBD\",VLOOKUP(D55,'PO List by Level'!$Q$2:$T$70,2,FALSE)),VLOOKUP(LEFT(D55,4),'PO List by Level'!$Q$2:$T$70,2,FALSE))","v":"TBD"},{"$f":"IF(ISERROR(VLOOKUP(LEFT(E55,4),'PO List by Level'!$Q$2:$T$70,2,FALSE)),IF(ISERROR(VLOOKUP(E55,'PO List by Level'!$Q$2:$T$70,2,FALSE)),\"TBD\",VLOOKUP(E55,'PO List by Level'!$Q$2:$T$70,2,FALSE)),VLOOKUP(LEFT(E55,4),'PO List by Level'!$Q$2:$T$70,2,FALSE))","v":"TBD"},{"$f":"IF(ISERROR(VLOOKUP(LEFT(F55,4),'PO List by Level'!$Q$2:$T$70,2,FALSE)),IF(ISERROR(VLOOKUP(F55,'PO List by Level'!$Q$2:$T$70,2,FALSE)),\"TBD\",VLOOKUP(F55,'PO List by Level'!$Q$2:$T$70,2,FALSE)),VLOOKUP(LEFT(F55,4),'PO List by Level'!$Q$2:$T$70,2,FALSE))","v":"TBD"},{"$f":"IF(ISERROR(VLOOKUP(LEFT(G55,4),'PO List by Level'!$Q$2:$T$70,2,FALSE)),IF(ISERROR(VLOOKUP(G55,'PO List by Level'!$Q$2:$T$70,2,FALSE)),\"TBD\",VLOOKUP(G55,'PO List by Level'!$Q$2:$T$70,2,FALSE)),VLOOKUP(LEFT(G55,4),'PO List by Level'!$Q$2:$T$70,2,FALSE))","v":"TBD"},{"$f":"IF(ISERROR(VLOOKUP(LEFT(H55,4),'PO List by Level'!$Q$2:$T$70,2,FALSE)),IF(ISERROR(VLOOKUP(H55,'PO List by Level'!$Q$2:$T$70,2,FALSE)),\"TBD\",VLOOKUP(H55,'PO List by Level'!$Q$2:$T$70,2,FALSE)),VLOOKUP(LEFT(H55,4),'PO List by Level'!$Q$2:$T$70,2,FALSE))","v":"TBD"},{"$f":"IF(ISERROR(VLOOKUP(LEFT(I55,4),'PO List by Level'!$Q$2:$T$70,2,FALSE)),IF(ISERROR(VLOOKUP(I55,'PO List by Level'!$Q$2:$T$70,2,FALSE)),\"TBD\",VLOOKUP(I55,'PO List by Level'!$Q$2:$T$70,2,FALSE)),VLOOKUP(LEFT(I55,4),'PO List by Level'!$Q$2:$T$70,2,FALSE))","v":"TBD"},{"$f":"IF(ISERROR(VLOOKUP(LEFT(J55,4),'PO List by Level'!$Q$2:$T$70,2,FALSE)),IF(ISERROR(VLOOKUP(J55,'PO List by Level'!$Q$2:$T$70,2,FALSE)),\"TBD\",VLOOKUP(J55,'PO List by Level'!$Q$2:$T$70,2,FALSE)),VLOOKUP(LEFT(J55,4),'PO List by Level'!$Q$2:$T$70,2,FALSE))","v":"TBD"},{"$f":"IF(ISERROR(VLOOKUP(LEFT(K55,4),'PO List by Level'!$Q$2:$T$70,2,FALSE)),IF(ISERROR(VLOOKUP(K55,'PO List by Level'!$Q$2:$T$70,2,FALSE)),\"TBD\",VLOOKUP(K55,'PO List by Level'!$Q$2:$T$70,2,FALSE)),VLOOKUP(LEFT(K55,4),'PO List by Level'!$Q$2:$T$70,2,FALSE))","v":"TBD"},{"$f":"IF(ISERROR(VLOOKUP(LEFT(L55,4),'PO List by Level'!$Q$2:$T$70,2,FALSE)),IF(ISERROR(VLOOKUP(L55,'PO List by Level'!$Q$2:$T$70,2,FALSE)),\"TBD\",VLOOKUP(L55,'PO List by Level'!$Q$2:$T$70,2,FALSE)),VLOOKUP(LEFT(L55,4),'PO List by Level'!$Q$2:$T$70,2,FALSE))","v":"TBD"},{"$f":"IF(ISERROR(VLOOKUP(LEFT(M55,4),'PO List by Level'!$Q$2:$T$70,2,FALSE)),IF(ISERROR(VLOOKUP(M55,'PO List by Level'!$Q$2:$T$70,2,FALSE)),\"TBD\",VLOOKUP(M55,'PO List by Level'!$Q$2:$T$70,2,FALSE)),VLOOKUP(LEFT(M55,4),'PO List by Level'!$Q$2:$T$70,2,FALSE))","v":"TBD"},{"$f":"IF(ISERROR(VLOOKUP(LEFT(N55,4),'PO List by Level'!$Q$2:$T$70,2,FALSE)),IF(ISERROR(VLOOKUP(N55,'PO List by Level'!$Q$2:$T$70,2,FALSE)),\"TBD\",VLOOKUP(N55,'PO List by Level'!$Q$2:$T$70,2,FALSE)),VLOOKUP(LEFT(N55,4),'PO List by Level'!$Q$2:$T$70,2,FALSE))","v":"TBD"},{"$f":"IF(ISERROR(VLOOKUP(LEFT(O55,4),'PO List by Level'!$Q$2:$T$70,2,FALSE)),IF(ISERROR(VLOOKUP(O55,'PO List by Level'!$Q$2:$T$70,2,FALSE)),\"TBD\",VLOOKUP(O55,'PO List by Level'!$Q$2:$T$70,2,FALSE)),VLOOKUP(LEFT(O55,4),'PO List by Level'!$Q$2:$T$70,2,FALSE))","v":"TBD"},{"$f":"IF(ISERROR(VLOOKUP(LEFT(P55,4),'PO List by Level'!$Q$2:$T$70,2,FALSE)),IF(ISERROR(VLOOKUP(P55,'PO List by Level'!$Q$2:$T$70,2,FALSE)),\"TBD\",VLOOKUP(P55,'PO List by Level'!$Q$2:$T$70,2,FALSE)),VLOOKUP(LEFT(P55,4),'PO List by Level'!$Q$2:$T$70,2,FALSE))","v":"TBD"},{"$f":"IF(ISERROR(VLOOKUP(LEFT(Q55,4),'PO List by Level'!$Q$2:$T$70,2,FALSE)),IF(ISERROR(VLOOKUP(Q55,'PO List by Level'!$Q$2:$T$70,2,FALSE)),\"TBD\",VLOOKUP(Q55,'PO List by Level'!$Q$2:$T$70,2,FALSE)),VLOOKUP(LEFT(Q55,4),'PO List by Level'!$Q$2:$T$70,2,FALSE))","v":"TBD"},{"$f":"IF(ISERROR(VLOOKUP(LEFT(R55,4),'PO List by Level'!$Q$2:$T$70,2,FALSE)),IF(ISERROR(VLOOKUP(R55,'PO List by Level'!$Q$2:$T$70,2,FALSE)),\"TBD\",VLOOKUP(R55,'PO List by Level'!$Q$2:$T$70,2,FALSE)),VLOOKUP(LEFT(R55,4),'PO List by Level'!$Q$2:$T$70,2,FALSE))","v":"TBD"},{"$f":"IF(ISERROR(VLOOKUP(LEFT(S55,4),'PO List by Level'!$Q$2:$T$70,2,FALSE)),IF(ISERROR(VLOOKUP(S55,'PO List by Level'!$Q$2:$T$70,2,FALSE)),\"TBD\",VLOOKUP(S55,'PO List by Level'!$Q$2:$T$70,2,FALSE)),VLOOKUP(LEFT(S55,4),'PO List by Level'!$Q$2:$T$70,2,FALSE))","v":"Xmas Break"},{"$f":"IF(ISERROR(VLOOKUP(LEFT(T55,4),'PO List by Level'!$Q$2:$T$70,2,FALSE)),IF(ISERROR(VLOOKUP(T55,'PO List by Level'!$Q$2:$T$70,2,FALSE)),\"TBD\",VLOOKUP(T55,'PO List by Level'!$Q$2:$T$70,2,FALSE)),VLOOKUP(LEFT(T55,4),'PO List by Level'!$Q$2:$T$70,2,FALSE))","v":"Xmas Break"},{"$f":"IF(ISERROR(VLOOKUP(LEFT(U55,4),'PO List by Level'!$Q$2:$T$70,2,FALSE)),IF(ISERROR(VLOOKUP(U55,'PO List by Level'!$Q$2:$T$70,2,FALSE)),\"TBD\",VLOOKUP(U55,'PO List by Level'!$Q$2:$T$70,2,FALSE)),VLOOKUP(LEFT(U55,4),'PO List by Level'!$Q$2:$T$70,2,FALSE))","v":"TBD"},{"$f":"IF(ISERROR(VLOOKUP(LEFT(V55,4),'PO List by Level'!$Q$2:$T$70,2,FALSE)),IF(ISERROR(VLOOKUP(V55,'PO List by Level'!$Q$2:$T$70,2,FALSE)),\"TBD\",VLOOKUP(V55,'PO List by Level'!$Q$2:$T$70,2,FALSE)),VLOOKUP(LEFT(V55,4),'PO List by Level'!$Q$2:$T$70,2,FALSE))","v":"TBD"},{"$f":"IF(ISERROR(VLOOKUP(LEFT(W55,4),'PO List by Level'!$Q$2:$T$70,2,FALSE)),IF(ISERROR(VLOOKUP(W55,'PO List by Level'!$Q$2:$T$70,2,FALSE)),\"TBD\",VLOOKUP(W55,'PO List by Level'!$Q$2:$T$70,2,FALSE)),VLOOKUP(LEFT(W55,4),'PO List by Level'!$Q$2:$T$70,2,FALSE))","v":"TBD"},{"$f":"IF(ISERROR(VLOOKUP(LEFT(X55,4),'PO List by Level'!$Q$2:$T$70,2,FALSE)),IF(ISERROR(VLOOKUP(X55,'PO List by Level'!$Q$2:$T$70,2,FALSE)),\"TBD\",VLOOKUP(X55,'PO List by Level'!$Q$2:$T$70,2,FALSE)),VLOOKUP(LEFT(X55,4),'PO List by Level'!$Q$2:$T$70,2,FALSE))","v":"TBD"},{"$f":"IF(ISERROR(VLOOKUP(LEFT(Y55,4),'PO List by Level'!$Q$2:$T$70,2,FALSE)),IF(ISERROR(VLOOKUP(Y55,'PO List by Level'!$Q$2:$T$70,2,FALSE)),\"TBD\",VLOOKUP(Y55,'PO List by Level'!$Q$2:$T$70,2,FALSE)),VLOOKUP(LEFT(Y55,4),'PO List by Level'!$Q$2:$T$70,2,FALSE))","v":"TBD"},{"$f":"IF(ISERROR(VLOOKUP(LEFT(Z55,4),'PO List by Level'!$Q$2:$T$70,2,FALSE)),IF(ISERROR(VLOOKUP(Z55,'PO List by Level'!$Q$2:$T$70,2,FALSE)),\"TBD\",VLOOKUP(Z55,'PO List by Level'!$Q$2:$T$70,2,FALSE)),VLOOKUP(LEFT(Z55,4),'PO List by Level'!$Q$2:$T$70,2,FALSE))","v":"TBD"},{"$f":"IF(ISERROR(VLOOKUP(LEFT(AA55,4),'PO List by Level'!$Q$2:$T$70,2,FALSE)),IF(ISERROR(VLOOKUP(AA55,'PO List by Level'!$Q$2:$T$70,2,FALSE)),\"TBD\",VLOOKUP(AA55,'PO List by Level'!$Q$2:$T$70,2,FALSE)),VLOOKUP(LEFT(AA55,4),'PO List by Level'!$Q$2:$T$70,2,FALSE))","v":"TBD"},{"$f":"IF(ISERROR(VLOOKUP(LEFT(AB55,4),'PO List by Level'!$Q$2:$T$70,2,FALSE)),IF(ISERROR(VLOOKUP(AB55,'PO List by Level'!$Q$2:$T$70,2,FALSE)),\"TBD\",VLOOKUP(AB55,'PO List by Level'!$Q$2:$T$70,2,FALSE)),VLOOKUP(LEFT(AB55,4),'PO List by Level'!$Q$2:$T$70,2,FALSE))","v":"TBD"},{"$f":"IF(ISERROR(VLOOKUP(LEFT(AC55,4),'PO List by Level'!$Q$2:$T$70,2,FALSE)),IF(ISERROR(VLOOKUP(AC55,'PO List by Level'!$Q$2:$T$70,2,FALSE)),\"TBD\",VLOOKUP(AC55,'PO List by Level'!$Q$2:$T$70,2,FALSE)),VLOOKUP(LEFT(AC55,4),'PO List by Level'!$Q$2:$T$70,2,FALSE))","v":"TBD"},{"$f":"IF(ISERROR(VLOOKUP(LEFT(AD55,4),'PO List by Level'!$Q$2:$T$70,2,FALSE)),IF(ISERROR(VLOOKUP(AD55,'PO List by Level'!$Q$2:$T$70,2,FALSE)),\"TBD\",VLOOKUP(AD55,'PO List by Level'!$Q$2:$T$70,2,FALSE)),VLOOKUP(LEFT(AD55,4),'PO List by Level'!$Q$2:$T$70,2,FALSE))","v":"TBD"},{"$f":"IF(ISERROR(VLOOKUP(LEFT(AE55,4),'PO List by Level'!$Q$2:$T$70,2,FALSE)),IF(ISERROR(VLOOKUP(AE55,'PO List by Level'!$Q$2:$T$70,2,FALSE)),\"TBD\",VLOOKUP(AE55,'PO List by Level'!$Q$2:$T$70,2,FALSE)),VLOOKUP(LEFT(AE55,4),'PO List by Level'!$Q$2:$T$70,2,FALSE))","v":"Break"},{"$f":"IF(ISERROR(VLOOKUP(LEFT(AF55,4),'PO List by Level'!$Q$2:$T$70,2,FALSE)),IF(ISERROR(VLOOKUP(AF55,'PO List by Level'!$Q$2:$T$70,2,FALSE)),\"TBD\",VLOOKUP(AF55,'PO List by Level'!$Q$2:$T$70,2,FALSE)),VLOOKUP(LEFT(AF55,4),'PO List by Level'!$Q$2:$T$70,2,FALSE))","v":"TBD"},{"$f":"IF(ISERROR(VLOOKUP(LEFT(AG55,4),'PO List by Level'!$Q$2:$T$70,2,FALSE)),IF(ISERROR(VLOOKUP(AG55,'PO List by Level'!$Q$2:$T$70,2,FALSE)),\"TBD\",VLOOKUP(AG55,'PO List by Level'!$Q$2:$T$70,2,FALSE)),VLOOKUP(LEFT(AG55,4),'PO List by Level'!$Q$2:$T$70,2,FALSE))","v":"TBD"},{"$f":"IF(ISERROR(VLOOKUP(LEFT(AH55,4),'PO List by Level'!$Q$2:$T$70,2,FALSE)),IF(ISERROR(VLOOKUP(AH55,'PO List by Level'!$Q$2:$T$70,2,FALSE)),\"TBD\",VLOOKUP(AH55,'PO List by Level'!$Q$2:$T$70,2,FALSE)),VLOOKUP(LEFT(AH55,4),'PO List by Level'!$Q$2:$T$70,2,FALSE))","v":"Personal Fitness and Healthy Living"},{"$f":"IF(ISERROR(VLOOKUP(LEFT(AI55,4),'PO List by Level'!$Q$2:$T$70,2,FALSE)),IF(ISERROR(VLOOKUP(AI55,'PO List by Level'!$Q$2:$T$70,2,FALSE)),\"TBD\",VLOOKUP(AI55,'PO List by Level'!$Q$2:$T$70,2,FALSE)),VLOOKUP(LEFT(AI55,4),'PO List by Level'!$Q$2:$T$70,2,FALSE))","v":"TBD"},{"$f":"IF(ISERROR(VLOOKUP(LEFT(AJ55,4),'PO List by Level'!$Q$2:$T$70,2,FALSE)),IF(ISERROR(VLOOKUP(AJ55,'PO List by Level'!$Q$2:$T$70,2,FALSE)),\"TBD\",VLOOKUP(AJ55,'PO List by Level'!$Q$2:$T$70,2,FALSE)),VLOOKUP(LEFT(AJ55,4),'PO List by Level'!$Q$2:$T$70,2,FALSE))","v":"TBD"},{"$f":"IF(ISERROR(VLOOKUP(LEFT(AK55,4),'PO List by Level'!$Q$2:$T$70,2,FALSE)),IF(ISERROR(VLOOKUP(AK55,'PO List by Level'!$Q$2:$T$70,2,FALSE)),\"TBD\",VLOOKUP(AK55,'PO List by Level'!$Q$2:$T$70,2,FALSE)),VLOOKUP(LEFT(AK55,4),'PO List by Level'!$Q$2:$T$70,2,FALSE))","v":"TBD"},{"$f":"IF(ISERROR(VLOOKUP(LEFT(AL55,4),'PO List by Level'!$Q$2:$T$70,2,FALSE)),IF(ISERROR(VLOOKUP(AL55,'PO List by Level'!$Q$2:$T$70,2,FALSE)),\"TBD\",VLOOKUP(AL55,'PO List by Level'!$Q$2:$T$70,2,FALSE)),VLOOKUP(LEFT(AL55,4),'PO List by Level'!$Q$2:$T$70,2,FALSE))","v":"CAF Familiarization"},{"$f":"IF(ISERROR(VLOOKUP(LEFT(AM55,4),'PO List by Level'!$Q$2:$T$70,2,FALSE)),IF(ISERROR(VLOOKUP(AM55,'PO List by Level'!$Q$2:$T$70,2,FALSE)),\"TBD\",VLOOKUP(AM55,'PO List by Level'!$Q$2:$T$70,2,FALSE)),VLOOKUP(LEFT(AM55,4),'PO List by Level'!$Q$2:$T$70,2,FALSE))","v":"TBD"},{"$f":"IF(ISERROR(VLOOKUP(LEFT(AN55,4),'PO List by Level'!$Q$2:$T$70,2,FALSE)),IF(ISERROR(VLOOKUP(AN55,'PO List by Level'!$Q$2:$T$70,2,FALSE)),\"TBD\",VLOOKUP(AN55,'PO List by Level'!$Q$2:$T$70,2,FALSE)),VLOOKUP(LEFT(AN55,4),'PO List by Level'!$Q$2:$T$70,2,FALSE))","v":"TBD"},{"$f":"IF(ISERROR(VLOOKUP(LEFT(AO55,4),'PO List by Level'!$Q$2:$T$70,2,FALSE)),IF(ISERROR(VLOOKUP(AO55,'PO List by Level'!$Q$2:$T$70,2,FALSE)),\"TBD\",VLOOKUP(AO55,'PO List by Level'!$Q$2:$T$70,2,FALSE)),VLOOKUP(LEFT(AO55,4),'PO List by Level'!$Q$2:$T$70,2,FALSE))","v":"TBD"},{"$f":"IF(ISERROR(VLOOKUP(LEFT(AP55,4),'PO List by Level'!$Q$2:$T$70,2,FALSE)),IF(ISERROR(VLOOKUP(AP55,'PO List by Level'!$Q$2:$T$70,2,FALSE)),\"TBD\",VLOOKUP(AP55,'PO List by Level'!$Q$2:$T$70,2,FALSE)),VLOOKUP(LEFT(AP55,4),'PO List by Level'!$Q$2:$T$70,2,FALSE))","v":"TBD"},{"$f":"IF(ISERROR(VLOOKUP(LEFT(AQ55,4),'PO List by Level'!$Q$2:$T$70,2,FALSE)),IF(ISERROR(VLOOKUP(AQ55,'PO List by Level'!$Q$2:$T$70,2,FALSE)),\"TBD\",VLOOKUP(AQ55,'PO List by Level'!$Q$2:$T$70,2,FALSE)),VLOOKUP(LEFT(AQ55,4),'PO List by Level'!$Q$2:$T$70,2,FALSE))","v":"ACR Practice"},{"$f":"IF(ISERROR(VLOOKUP(LEFT(AR55,4),'PO List by Level'!$Q$2:$T$70,2,FALSE)),IF(ISERROR(VLOOKUP(AR55,'PO List by Level'!$Q$2:$T$70,2,FALSE)),\"TBD\",VLOOKUP(AR55,'PO List by Level'!$Q$2:$T$70,2,FALSE)),VLOOKUP(LEFT(AR55,4),'PO List by Level'!$Q$2:$T$70,2,FALSE))","v":"TBD"},{"$f":"IF(ISERROR(VLOOKUP(LEFT(AS55,4),'PO List by Level'!$Q$2:$T$70,2,FALSE)),IF(ISERROR(VLOOKUP(AS55,'PO List by Level'!$Q$2:$T$70,2,FALSE)),\"TBD\",VLOOKUP(AS55,'PO List by Level'!$Q$2:$T$70,2,FALSE)),VLOOKUP(LEFT(AS55,4),'PO List by Level'!$Q$2:$T$70,2,FALSE))","v":"TBD"},{"$f":"IF(ISERROR(VLOOKUP(LEFT(AT55,4),'PO List by Level'!$Q$2:$T$70,2,FALSE)),IF(ISERROR(VLOOKUP(AT55,'PO List by Level'!$Q$2:$T$70,2,FALSE)),\"TBD\",VLOOKUP(AT55,'PO List by Level'!$Q$2:$T$70,2,FALSE)),VLOOKUP(LEFT(AT55,4),'PO List by Level'!$Q$2:$T$70,2,FALSE))","v":"TBD"},{"$f":"IF(ISERROR(VLOOKUP(LEFT(AU55,4),'PO List by Level'!$Q$2:$T$70,2,FALSE)),IF(ISERROR(VLOOKUP(AU55,'PO List by Level'!$Q$2:$T$70,2,FALSE)),\"TBD\",VLOOKUP(AU55,'PO List by Level'!$Q$2:$T$70,2,FALSE)),VLOOKUP(LEFT(AU55,4),'PO List by Level'!$Q$2:$T$70,2,FALSE))","v":"TBD"},{"$f":"IF(ISERROR(VLOOKUP(LEFT(AV55,4),'PO List by Level'!$Q$2:$T$70,2,FALSE)),IF(ISERROR(VLOOKUP(AV55,'PO List by Level'!$Q$2:$T$70,2,FALSE)),\"TBD\",VLOOKUP(AV55,'PO List by Level'!$Q$2:$T$70,2,FALSE)),VLOOKUP(LEFT(AV55,4),'PO List by Level'!$Q$2:$T$70,2,FALSE))","v":"TBD"}]
[null,null,"Instructor",{"$nulls":34},"Virtual"]
[null,null,"Location",{"$nulls":34},"Mess Dinner"]
[null,3,"PO/EO",{"$nulls":15},"Christmas","Christmas",{"$nulls":10},"March Break",null,null,"MX04.03",{"$nulls":3},"MX20.01D",{"$nulls":4},"ACR Prep"]
[null,null,"Subject",{"$f":"IF(ISERROR(VLOOKUP(LEFT(D59,4),'PO List by Level'!$Q$2:$T$70,2,FALSE)),IF(ISERROR(VLOOKUP(D59,'PO List by Level'!$Q$2:$T$70,2,FALSE)),\"TBD\",VLOOKUP(D59,'PO List by Level'!$Q$2:$T$70,2,FALSE)),VLOOKUP(LEFT(D59,4),'PO List by Level'!$Q$2:$T$70,2,FALSE))","v":"TBD"},{"$f":"IF(ISERROR(VLOOKUP(LEFT(E59,4),'PO List by Level'!$Q$2:$T$70,2,FALSE)),IF(ISERROR(VLOOKUP(E59,'PO List by Level'!$Q$2:$T$70,2,FALSE)),\"TBD\",VLOOKUP(E59,'PO List by Level'!$Q$2:$T$70,2,FALSE)),VLOOKUP(LEFT(E59,4),'PO List by Level'!$Q$2:$T$70,2,FALSE))","v":"TBD"},{"$f":"IF(ISERROR(VLOOKUP(LEFT(F59,4),'PO List by Level'!$Q$2:$T$70,2,FALSE)),IF(ISERROR(VLOOKUP(F59,'PO List by Level'!$Q$2:$T$70,2,FALSE)),\"TBD\",VLOOKUP(F59,'PO List by Level'!$Q$2:$T$70,2,FALSE)),VLOOKUP(LEFT(F59,4),'PO List by Level'!$Q$2:$T$70,2,FALSE))","v":"TBD"},{"$f":"IF(ISERROR(VLOOKUP(LEFT(G59,4),'PO List by Level'!$Q$2:$T$70,2,FALSE)),IF(ISERROR(VLOOKUP(G59,'PO List by Level'!$Q$2:$T$70,2,FALSE)),\"TBD\",VLOOKUP(G59,'PO List by Level'!$Q$2:$T$70,2,FALSE)),VLOOKUP(LEFT(G59,4),'PO List by Level'!$Q$2:$T$70,2,FALSE))","v":"TBD"},{"$f":"IF(ISERROR(VLOOKUP(LEFT(H59,4),'PO List by Level'!$Q$2:$T$70,2,FALSE)),IF(ISERROR(VLOOKUP(H59,'PO List by Level'!$Q$2:$T$70,2,FALSE)),\"TBD\",VLOOKUP(H59,'PO List by Level'!$Q$2:$T$70,2,FALSE)),VLOOKUP(LEFT(H59,4),'PO List by Level'!$Q$2:$T$70,2,FALSE))","v":"TBD"},{"$f":"IF(ISERROR(VLOOKUP(LEFT(I59,4),'PO List by Level'!$Q$2:$T$70,2,FALSE)),IF(ISERROR(VLOOKUP(I59,'PO List by Level'!$Q$2:$T$70,2,FALSE)),\"TBD\",VLOOKUP(I59,'PO List by Level'!$Q$2:$T$70,2,FALSE)),VLOOKUP(LEFT(I59,4),'PO List by Level'!$Q$2:$T$70,2,FALSE))","v":"TBD"},{"$f":"IF(ISERROR(VLOOKUP(LEFT(J59,4),'PO List by Level'!$Q$2:$T$70,2,FALSE)),IF(ISERROR(VLOOKUP(J59,'PO List by Level'!$Q$2:$T$70,2,FALSE)),\"TBD\",VLOOKUP(J59,'PO List by Level'!$Q$2:$T$70,2,FALSE)),VLOOKUP(LEFT(J59,4),'PO List by Level'!$Q$2:$T$70,2,FALSE))","v":"TBD"},{"$f":"IF(ISERROR(VLOOKUP(LEFT(K59,4),'PO List by Level'!$Q$2:$T$70,2,FALSE)),IF(ISERROR(VLOOKUP(K59,'PO List by Level'!$Q$2:$T$70,2,FALSE)),\"TBD\",VLOOKUP(K59,'PO List by Level'!$Q$2:$T$70,2,FALSE)),VLOOKUP(LEFT(K59,4),'PO List by Level'!$Q$2:$T$70,2,FALSE))","v":"TBD"},{"$f":"IF(ISERROR(VLOOKUP(LEFT(L59,4),'PO List by Level'!$Q$2:$T$70,2,FALSE)),IF(ISERROR(VLOOKUP(L59,'PO List by Level'!$Q$2:$T$70,2,FALSE)),\"TBD\",VLOOKUP(L59,'PO List by Level'!$Q$2:$T$70,2,FALSE)),VLOOKUP(LEFT(L59,4),'PO List by Level'!$Q$2:$T$70,2,FALSE))","v":"TBD"},{"$f":"IF(ISERROR(VLOOKUP(LEFT(M59,4),'PO List by Level'!$Q$2:$T$70,2,FALSE)),IF(ISERROR(VLOOKUP(M59,'PO List by Level'!$Q$2:$T$70,2,FALSE)),\"TBD\",VLOOKUP(M59,'PO List by Level'!$Q$2:$T$70,2,FALSE)),VLOOKUP(LEFT(M59,4),'PO List by Level'!$Q$2:$T$70,2,FALSE))","v":"TBD"},{"$f":"IF(ISERROR(VLOOKUP(LEFT(N59,4),'PO List by Level'!$Q$2:$T$70,2,FALSE)),IF(ISERROR(VLOOKUP(N59,'PO List by Level'!$Q$2:$T$70,2,FALSE)),\"TBD\",VLOOKUP(N59,'PO List by Level'!$Q$2:$T$70,2,FALSE)),VLOOKUP(LEFT(N59,4),'PO List by Level'!$Q$2:$T$70,2,FALSE))","v":"TBD"},{"$f":"IF(ISERROR(VLOOKUP(LEFT(O59,4),'PO List by Level'!$Q$2:$T$70,2,FALSE)),IF(ISERROR(VLOOKUP(O59,'PO List by Level'!$Q$2:$T$70,2,FALSE)),\"TBD\",VLOOKUP(O59,'PO List by Level'!$Q$2:$T$70,2,FALSE)),VLOOKUP(LEFT(O59,4),'PO List by Level'!$Q$2:$T$70,2,FALSE))","v":"TBD"},{"$f":"IF(ISERROR(VLOOKUP(LEFT(P59,4),'PO List by Level'!$Q$2:$T$70,2,FALSE)),IF(ISERROR(VLOOKUP(P59,'PO List by Level'!$Q$2:$T$70,2,FALSE)),\"TBD\",VLOOKUP(P59,'PO List by Level'!$Q$2:$T$70,2,FALSE)),VLOOKUP(LEFT(P59,4),'PO List by Level'!$Q$2:$T$70,2,FALSE))","v":"TBD"},{"$f":"IF(ISERROR(VLOOKUP(LEFT(Q59,4),'PO List by Level'!$Q$2:$T$70,2,FALSE)),IF(ISERROR(VLOOKUP(Q59,'PO List by Level'!$Q$2:$T$70,2,FALSE)),\"TBD\",VLOOKUP(Q59,'PO List by Level'!$Q$2:$T$70,2,FALSE)),VLOOKUP(LEFT(Q59,4),'PO List by Level'!$Q$2:$T$70,2,FALSE))","v":"TBD"},{"$f":"IF(ISERROR(VLOOKUP(LEFT(R59,4),'PO List by Level'!$Q$2:$T$70,2,FALSE)),IF(ISERROR(VLOOKUP(R59,'PO List by Level'!$Q$2:$T$70,2,FALSE)),\"TBD\",VLOOKUP(R59,'PO List by Level'!$Q$2:$T$70,2,FALSE)),VLOOKUP(LEFT(R59,4),'PO List by Level'!$Q$2:$T$70,2,FALSE))","v":"TBD"},{"$f":"IF(ISERROR(VLOOKUP(LEFT(S59,4),'PO List by Level'!$Q$2:$T$70,2,FALSE)),IF(ISERROR(VLOOKUP(S59,'PO List by Level'!$Q$2:$T$70,2,FALSE)),\"TBD\",VLOOKUP(S59,'PO List by Level'!$Q$2:$T$70,2,FALSE)),VLOOKUP(LEFT(S59,4),'PO List by Level'!$Q$2:$T$70,2,FALSE))","v":"Xmas Break"},{"$f":"IF(ISERROR(VLOOKUP(LEFT(T59,4),'PO List by Level'!$Q$2:$T$70,2,FALSE)),IF(ISERROR(VLOOKUP(T59,'PO List by Level'!$Q$2:$T$70,2,FALSE)),\"TBD\",VLOOKUP(T59,'PO List by Level'!$Q$2:$T$70,2,FALSE)),VLOOKUP(LEFT(T59,4),'PO List by Level'!$Q$2:$T$70,2,FALSE))","v":"Xmas Break"},{"$f":"IF(ISERROR(VLOOKUP(LEFT(U59,4),'PO List by Level'!$Q$2:$T$70,2,FALSE)),IF(ISERROR(VLOOKUP(U59,'PO List by Level'!$Q$2:$T$70,2,FALSE)),\"TBD\",VLOOKUP(U59,'PO List by Level'!$Q$2:$T$70,2,FALSE)),VLOOKUP(LEFT(U59,4),'PO List by Level'!$Q$2:$T$70,2,FALSE))","v":"TBD"},{"$f":"IF(ISERROR(VLOOKUP(LEFT(V59,4),'PO List by Level'!$Q$2:$T$70,2,FALSE)),IF(ISERROR(VLOOKUP(V59,'PO List by Level'!$Q$2:$T$70,2,FALSE)),\"TBD\",VLOOKUP(V59,'PO List by Level'!$Q$2:$T$70,2,FALSE)),VLOOKUP(LEFT(V59,4),'PO List by Level'!$Q$2:$T$70,2,FALSE))","v":"TBD"},{"$f":"IF(ISERROR(VLOOKUP(LEFT(W59,4),'PO List by Level'!$Q$2:$T$70,2,FALSE)),IF(ISERROR(VLOOKUP(W59,'PO List by Level'!$Q$2:$T$70,2,FALSE)),\"TBD\",VLOOKUP(W59,'PO List by Level'!$Q$2:$T$70,2,FALSE)),VLOOKUP(LEFT(W59,4),'PO List by Level'!$Q$2:$T$70,2,FALSE))","v":"TBD"},{"$f":"IF(ISERROR(VLOOKUP(LEFT(X59,4),'PO List by Level'!$Q$2:$T$70,2,FALSE)),IF(ISERROR(VLOOKUP(X59,'PO List by Level'!$Q$2:$T$70,2,FALSE)),\"TBD\",VLOOKUP(X59,'PO List by Level'!$Q$2:$T$70,2,FALSE)),VLOOKUP(LEFT(X59,4),'PO List by Level'!$Q$2:$T$70,2,FALSE))","v":"TBD"},{"$f":"IF(ISERROR(VLOOKUP(LEFT(Y59,4),'PO List by Level'!$Q$2:$T$70,2,FALSE)),IF(ISERROR(VLOOKUP(Y59,'PO List by Level'!$Q$2:$T$70,2,FALSE)),\"TBD\",VLOOKUP(Y59,'PO List by Level'!$Q$2:$T$70,2,FALSE)),VLOOKUP(LEFT(Y59,4),'PO List by Level'!$Q$2:$T$70,2,FALSE))","v":"TBD"},{"$f":"IF(ISERROR(VLOOKUP(LEFT(Z59,4),'PO List by Level'!$Q$2:$T$70,2,FALSE)),IF(ISERROR(VLOOKUP(Z59,'PO List by Level'!$Q$2:$T$70,2,FALSE)),\"TBD\",VLOOKUP(Z59,'PO List by Level'!$Q$2:$T$70,2,FALSE)),VLOOKUP(LEFT(Z59,4),'PO List by Level'!$Q$2:$T$70,2,FALSE))","v":"TBD"},{"$f":"IF(ISERROR(VLOOKUP(LEFT(AA59,4),'PO List by Level'!$Q$2:$T$70,2,FALSE)),IF(ISERROR(VLOOKUP(AA59,'PO List by Level'!$Q$2:$T$70,2,FALSE)),\"TBD\",VLOOKUP(AA59,'PO List by Level'!$Q$2:$T$70,2,FALSE)),VLOOKUP(LEFT(AA59,4),'PO List by Level'!$Q$2:$T$70,2,FALSE))","v":"TBD"},{"$f":"IF(ISERROR(VLOOKUP(LEFT(AB59,4),'PO List by Level'!$Q$2:$T$70,2,FALSE)),IF(ISERROR(VLOOKUP(AB59,'PO List by Level'!$Q$2:$T$70,2,FALSE)),\"TBD\",VLOOKUP(AB59,'PO List by Level'!$Q$2:$T$70,2,FALSE)),VLOOKUP(LEFT(AB59,4),'PO List by Level'!$Q$2:$T$70,2,FALSE))","v":"TBD"},{"$f":"IF(ISERROR(VLOOKUP(LEFT(AC59,4),'PO List by Level'!$Q$2:$T$70,2,FALSE)),IF(ISERROR(VLOOKUP(AC59,'PO List by Level'!$Q$2:$T$70,2,FALSE)),\"TBD\",VLOOKUP(AC59,'PO List by Level'!$Q$2:$T$70,2,FALSE)),VLOOKUP(LEFT(AC59,4),'PO List by Level'!$Q$2:$T$70,2,FALSE))","v":"TBD"},{"$f":"IF(ISERROR(VLOOKUP(LEFT(AD59,4),'PO List by Level'!$Q$2:$T$70,2,FALSE)),IF(ISERROR(VLOOKUP(AD59,'PO List by Level'!$Q$2:$T$70,2,FALSE)),\"TBD\",VLOOKUP(AD59,'PO List by Level'!$Q$2:$T$70,2,FALSE)),VLOOKUP(LEFT(AD59,4),'PO List by Level'!$Q$2:$T$70,2,FALSE))","v":"TBD"},{"$f":"IF(ISERROR(VLOOKUP(LEFT(AE59,4),'PO List by Level'!$Q$2:$T$70,2,FALSE)),IF(ISERROR(VLOOKUP(AE59,'PO List by Level'!$Q$2:$T$70,2,FALSE)),\"TBD\",VLOOKUP(AE59,'PO List by Level'!$Q$2:$T$70,2,FALSE)),VLOOKUP(LEFT(AE59,4),'PO List by Level'!$Q$2:$T$70,2,FALSE))","v":"Break"},{"$f":"IF(ISERROR(VLOOKUP(LEFT(AF59,4),'PO List by Level'!$Q$2:$T$70,2,FALSE)),IF(ISERROR(VLOOKUP(AF59,'PO List by Level'!$Q$2:$T$70,2,FALSE)),\"TBD\",VLOOKUP(AF59,'PO List by Level'!$Q$2:$T$70,2,FALSE)),VLOOKUP(LEFT(AF59,4),'PO List by Level'!$Q$2:$T$70,2,FALSE))","v":"TBD"},{"$f":"IF(ISERROR(VLOOKUP(LEFT(AG59,4),'PO List by Level'!$Q$2:$T$70,2,FALSE)),IF(ISERROR(VLOOKUP(AG59,'PO List by Level'!$Q$2:$T$70,2,FALSE)),\"TBD\",VLOOKUP(AG59,'PO List by Level'!$Q$2:$T$70,2,FALSE)),VLOOKUP(LEFT(AG59,4),'PO List by Level'!$Q$2:$T$70,2,FALSE))","v":"TBD"},{"$f":"IF(ISERROR(VLOOKUP(LEFT(AH59,4),'PO List by Level'!$Q$2:$T$70,2,FALSE)),IF(ISERROR(VLOOKUP(AH59,'PO List by Level'!$Q$2:$T$70,2,FALSE)),\"TBD\",VLOOKUP(AH59,'PO List by Level'!$Q$2:$T$70,2,FALSE)),VLOOKUP(LEFT(AH59,4),'PO List by Level'!$Q$2:$T$70,2,FALSE))","v":"Personal Fitness and Healthy Living"},{"$f":"IF(ISERROR(VLOOKUP(LEFT(AI59,4),'PO List by Level'!$Q$2:$T$70,2,FALSE)),IF(ISERROR(VLOOKUP(AI59,'PO List by Level'!$Q$2:$T$70,2,FALSE)),\"TBD\",VLOOKUP(AI59,'PO List by Level'!$Q$2:$T$70,2,FALSE)),VLOOKUP(LEFT(AI59,4),'PO List by Level'!$Q$2:$T$70,2,FALSE))","v":"TBD"},{"$f":"IF(ISERROR(VLOOKUP(LEFT(AJ59,4),'PO List by Level'!$Q$2:$T$70,2,FALSE)),IF(ISERROR(VLOOKUP(AJ59,'PO List by Level'!$Q$2:$T$70,2,FALSE)),\"TBD\",VLOOKUP(AJ59,'PO List by Level'!$Q$2:$T$70,2,FALSE)),VLOOKUP(LEFT(AJ59,4),'PO List by Level'!$Q$2:$T$70,2,FALSE))","v":"TBD"},{"$f":"IF(ISERROR(VLOOKUP(LEFT(AK59,4),'PO List by Level'!$Q$2:$T$70,2,FALSE)),IF(ISERROR(VLOOKUP(AK59,'PO List by Level'!$Q$2:$T$70,2,FALSE)),\"TBD\",VLOOKUP(AK59,'PO List by Level'!$Q$2:$T$70,2,FALSE)),VLOOKUP(LEFT(AK59,4),'PO List by Level'!$Q$2:$T$70,2,FALSE))","v":"TBD"},{"$f":"IF(ISERROR(VLOOKUP(LEFT(AL59,4),'PO List by Level'!$Q$2:$T$70,2,FALSE)),IF(ISERROR(VLOOKUP(AL59,'PO List by Level'!$Q$2:$T$70,2,FALSE)),\"TBD\",VLOOKUP(AL59,'PO List by Level'!$Q$2:$T$70,2,FALSE)),VLOOKUP(LEFT(AL59,4),'PO List by Level'!$Q$2:$T$70,2,FALSE))","v":"CAF Familiarization"},{"$f":"IF(ISERROR(VLOOKUP(LEFT(AM59,4),'PO List by Level'!$Q$2:$T$70,2,FALSE)),IF(ISERROR(VLOOKUP(AM59,'PO List by Level'!$Q$2:$T$70,2,FALSE)),\"TBD\",VLOOKUP(AM59,'PO List by Level'!$Q$2:$T$70,2,FALSE)),VLOOKUP(LEFT(AM59,4),'PO List by Level'!$Q$2:$T$70,2,FALSE))","v":"TBD"},{"$f":"IF(ISERROR(VLOOKUP(LEFT(AN59,4),'PO List by Level'!$Q$2:$T$70,2,FALSE)),IF(ISERROR(VLOOKUP(AN59,'PO List by Level'!$Q$2:$T$70,2,FALSE)),\"TBD\",VLOOKUP(AN59,'PO List by Level'!$Q$2:$T$70,2,FALSE)),VLOOKUP(LEFT(AN59,4),'PO List by Level'!$Q$2:$T$70,2,FALSE))","v":"TBD"},{"$f":"IF(ISERROR(VLOOKUP(LEFT(AO59,4),'PO List by Level'!$Q$2:$T$70,2,FALSE)),IF(ISERROR(VLOOKUP(AO59,'PO List by Level'!$Q$2:$T$70,2,FALSE)),\"TBD\",VLOOKUP(AO59,'PO List by Level'!$Q$2:$T$70,2,FALSE)),VLOOKUP(LEFT(AO59,4),'PO List by Level'!$Q$2:$T$70,2,FALSE))","v":"TBD"},{"$f":"IF(ISERROR(VLOOKUP(LEFT(AP59,4),'PO List by Level'!$Q$2:$T$70,2,FALSE)),IF(ISERROR(VLOOKUP(AP59,'PO List by Level'!$Q$2:$T$70,2,FALSE)),\"TBD\",VLOOKUP(AP59,'PO List by Level'!$Q$2:$T$70,2,FALSE)),VLOOKUP(LEFT(AP59,4),'PO List by Level'!$Q$2:$T$70,2,FALSE))","v":"TBD"},{"$f":"IF(ISERROR(VLOOKUP(LEFT(AQ59,4),'PO List by Level'!$Q$2:$T$70,2,FALSE)),IF(ISERROR(VLOOKUP(AQ59,'PO List by Level'!$Q$2:$T$70,2,FALSE)),\"TBD\",VLOOKUP(AQ59,'PO List by Level'!$Q$2:$T$70,2,FALSE)),VLOOKUP(LEFT(AQ59,4),'PO List by Level'!$Q$2:$T$70,2,FALSE))","v":"ACR Practice"},{"$f":"IF(ISERROR(VLOOKUP(LEFT(AR59,4),'PO List by Level'!$Q$2:$T$70,2,FALSE)),IF(ISERROR(VLOOKUP(AR59,'PO List by Level'!$Q$2:$T$70,2,FALSE)),\"TBD\",VLOOKUP(AR59,'PO List by Level'!$Q$2:$T$70,2,FALSE)),VLOOKUP(LEFT(AR59,4),'PO List by Level'!$Q$2:$T$70,2,FALSE))","v":"TBD"},{"$f":"IF(ISERROR(VLOOKUP(LEFT(AS59,4),'PO List by Level'!$Q$2:$T$70,2,FALSE)),IF(ISERROR(VLOOKUP(AS59,'PO List by Level'!$Q$2:$T$70,2,FALSE)),\"TBD\",VLOOKUP(AS59,'PO List by Level'!$Q$2:$T$70,2,FALSE)),VLOOKUP(LEFT(AS59,4),'PO List by Level'!$Q$2:$T$70,2,FALSE))","v":"TBD"},{"$f":"IF(ISERROR(VLOOKUP(LEFT(AT59,4),'PO List by Level'!$Q$2:$T$70,2,FALSE)),IF(ISERROR(VLOOKUP(AT59,'PO List by Level'!$Q$2:$T$70,2,FALSE)),\"TBD\",VLOOKUP(AT59,'PO List by Level'!$Q$2:$T$70,2,FALSE)),VLOOKUP(LEFT(AT59,4),'PO List by Level'!$Q$2:$T$70,2,FALSE))","v":"TBD"},{"$f":"IF(ISERROR(VLOOKUP(LEFT(AU59,4),'PO List by Level'!$Q$2:$T$70,2,FALSE)),IF(ISERROR(VLOOKUP(AU59,'PO List by Level'!$Q$2:$T$70,2,FALSE)),\"TBD\",VLOOKUP(AU59,'PO List by Level'!$Q$2:$T$70,2,FALSE)),VLOOKUP(LEFT(AU59,4),'PO List by Level'!$Q$2:$T$70,2,FALSE))","v":"TBD"},{"$f":"IF(ISERROR(VLOOKUP(LEFT(AV59,4),'PO List by Level'!$Q$2:$T$70,2,FALSE)),IF(ISERROR(VLOOKUP(AV59,'PO List by Level'!$Q$2:$T$70,2,FALSE)),\"TBD\",VLOOKUP(AV59,'PO List by Level'!$Q$2:$T$70,2,FALSE)),VLOOKUP(LEFT(AV59,4),'PO List by Level'!$Q$2:$T$70,2,FALSE))","v":"TBD"}]
[null,null,"Instructor",{"$nulls":34},"Virtual"]
[null,null,"Location",{"$nulls":34},"Mess Dinner"]
["Cadet Dress"]
["Officer Dress"]
[{"$f":"'Unit Info'!G9","v":"Duty Officer"}]
[{"$f":"'Unit Info'!G10","v":"Duty Sr NCO"}]
[{"$f":"'Unit Info'!G11","v":"Duty Jr NCO"}]
[{"$f":"'Unit Info'!G12","v":"Duty Flight"}]
["Type of Session",null,null,"NRT","REG","REG",{"$nulls":12},"NT","NT",{"$nulls":10},"NT",null,null,"CFA",{"$nulls":3},"NRT",{"$nulls":4},"NRT"]
[{"$nulls":3},{"$f":"COUNTA(D3:D62)-44","v":-24},{"$f":"COUNTA(E3:E62)-44","v":-29},{"$f":"COUNTA(G3:G62)-44","v":-5},{"$f":"COUNTA(H3:H62)-44","v":-5},{"$f":"COUNTA(I3:I62)-44","v":-6},{"$f":"COUNTA(J3:J62)-44","v":-5},{"$f":"COUNTA(K3:K62)-44","v":-5},{"$f":"COUNTA(M3:M62)-44","v":-9},{"$f":"COUNTA(L3:L62)-44","v":-10},{"$f":"COUNTA(N3:N62)-44","v":-9},{"$f":"COUNTA(O3:O62)-44","v":-9},{"$f":"COUNTA(P3:P62)-44","v":-5},{"$f":"COUNTA(R3:R62)-44","v":-17},{"$f":"COUNTA(S3:S62)-44","v":-14},{"$f":"COUNTA(W7:W62)-44","v":-16},{"$f":"COUNTA(T3:T62)-44","v":-14},{"$f":"COUNTA(U3:U62)-44","v":-13},{"$f":"COUNTA(V3:V62)-44","v":-13},{"$f":"COUNTA(X3:X62)-44","v":-14},{"$f":"COUNTA(Y3:Y62)-44","v":-13},{"$f":"COUNTA(Z3:Z62)-44","v":-14},{"$f":"COUNTA(AA3:AA62)-44","v":-13},{"$f":"COUNTA(AB3:AB62)-44","v":-16},{"$f":"COUNTA(AC7:AC62)-44","v":-16},{"$f":"COUNTA(AD3:AD62)-44","v":-15},{"$f":"COUNTA(AF3:AF62)-44","v":-16},{"$f":"COUNTA(AE3:AE62)-44","v":-14},{"$f":"COUNTA(AG3:AG62)-44","v":-16},{"$f":"COUNTA(AH3:AH62)-44","v":-14},{"$f":"COUNTA(AI3:AI62)-44","v":-16},{"$f":"COUNTA(AJ51:AJ62)-44","v":-41},{"$f":"COUNTA(AL3:AL62)-44","v":16},{"$f":"COUNTA(AM51:AM62)-44","v":-41},{"$f":"COUNTA(AN3:AN62)-44","v":-19},{"$f":"COUNTA(AK3:AK62)-44","v":-18},{"$f":"COUNTA(AO3:AO62)-44","v":-19},-11,-12,-29,-29,-29,-29,{"$f":"COUNTA(#REF!)-44","v":-43},{"$f":"COUNTA(AV3:AV62)-44","v":-29},{"$f":"COUNTA(#REF!)-44","v":-43},{"$f":"SUM(D70:AV70)-45","v":-806}]
[{"$nulls":3},{"$f":"IF(D70>1,\"Y\",\"N\")","v":"N"},{"$f":"IF(E70>1,\"Y\",\"N\")","v":"N"},"N","N","N","N","N","N","N","N","N","N","N","N","N","N","N","N","N","N","N","N","N","N","N","N","N","N","N","N","N","Y","N","N","N","N","N","N","N","N","N","N","N","N","N",{"$f":"COUNTIF(D71:AV71,\"Y\")","v":1}]
[]
[{"$nulls":3},"CADET DRESS",{"$nulls":3},"DISPLAY",null,null,"OFFICER DRESS",{"$nulls":3},"DISPLAY",null,null,"TYPE OF TRAINING NIGHT"]
[{"$nulls":3},"C-1","CEREMONIAL DRESS",null,null,"C1A - Ceremonial",null,null,"No. 1","Tunic and necktie, with medals.",null,null,"1 - Tunic, Tie, Medals",null,null,"REG","Regular Training Night"]
[{"$nulls":3},"C-2","ROUTINE TRAINING DRESS (Shirt and tie)",null,null,"C2 - Mess Dress",null,null,"No. 3","Tunic and necktie, with medal ribbons.",null,null,"3 - Tunic, Tie, Ribbons",null,null,"NRT","LHQ Non Regular Training (Party - C, ACR Prep…)"]
[{"$nulls":3},"C-2B","ROUTINE TRAINING DRESS (Shirt Without Tie, no Tunic)",null,null,"C3 - Tunic, Tie, ribbons",null,null,"No.3B ","Short-sleeved shirt; ribbons, ",null,null,"3B - Summer Dress",null,null,"NT","No or Cancelled Training Night"]
[{"$nulls":3},"C-4","ROUTINE TRAINING DRESS (T-shirt)",null,null,"C3B - Shirt, Ribbons",null,null,"No.3C ","Shirt and sweater, with or without tie",null,null,"3C - Sweater, Tie",null,null,"CFA","Cadet Fitness Assessent"]
[{"$nulls":3},"C-5","FIELD TRAINING DRESS",null,null,"C3E - Tunic, blue Tshirt",null,null,"No. 5","NCD/Cadpat",null,null,"5 - Work Dress"]
[{"$nulls":3},"C-6","MESS DRESS (white Shirt, Bow tie)",null,null,"C5 - Training Dress",null,null,"Civvies",{"$nulls":3},"Civvies"]
[{"$nulls":3},"Civvies",{"$nulls":3},"C5E - Training Dress - sports"]
[{"$nulls":7},"Civvies"]
{"$rows_empty":9}
[{"$nulls":3},"Go to web version"]

{"sheet":"Instructors","index":3,"n_rows":27,"n_cols":8,"rows_kept":27}
["data string","Rank","Last Name","First Name","Yes","No","LEVEL","COUNT"]
["Sgt Accetta","Sgt","Accetta","Allison","drill, survival, and leadership",null,1,{"$f":"COUNTIF(WeekNights!$3:$50,Instructors!A2)","v":5}]
["FSgt Al-Maghazachi","FSgt","Al-Maghazachi","Mohammed Ali","Aviation subjects, Aerospace, Instruction, Leadership","Drill, Sports & Fitness, Survival",1,{"$f":"COUNTIF(WeekNights!$3:$50,Instructors!A3)","v":9}]
["WO2 Bradford","WO2","Bradford","Colin","Drill, Instruction, Leadership, Sports & Fitness, Survival","Aviation subjects, Aerospace",3,{"$f":"COUNTIF(WeekNights!$3:$50,Instructors!A12)","v":6}]
["FSgt Bradford","FSgt","Bradford","William",{"$nulls":3},{"$f":"COUNTIF(WeekNights!$3:$50,Instructors!A20)","v":9}]
["FSgt Diaz","FSgt","Diaz","Alejandra","Aviation subjects, Drill, Leadership, Sports & Fitness",null,2,{"$f":"COUNTIF(WeekNights!$3:$50,Instructors!A7)","v":8}]
["FSgt Filipowitz","FSgt","Filipowitz","Andrew","Aviation subjects, Aerospace, Instruction, Leadership, Sports & Fitness, Survival","Drill",2,{"$f":"COUNTIF(WeekNights!$3:$50,Instructors!A8)","v":1}]
["FSgt Froese","FSgt","Froese","Owen","Aviation subjects, Aerospace","Drill, Leadership, Sports & Fitness",2,{"$f":"COUNTIF(WeekNights!$3:$50,Instructors!A9)","v":2}]
["Sgt Gorham","Sgt","Gorham","Cole","Survival","Sports & Fitness",3,{"$f":"COUNTIF(WeekNights!$3:$50,Instructors!A13)","v":2}]
["FSgt Irfan","FSgt","Irfan","Arham","Aviation subjects, Aerospace, Instruction, Leadership, Sports & Fitness, Survival","Drill",1,{"$f":"COUNTIF(WeekNights!$3:$50,Instructors!A4)","v":2}]
["FSgt Jasey","FSgt","Jasey","Douglas","Aviation subjects, Aerospace, Instruction, Leadership, Sports & Fitness, Survival","Drill",2,{"$f":"COUNTIF(WeekNights!$3:$50,Instructors!A10)","v":11}]
["Sgt Korusenge","Sgt","Korusenge","Lysa - Flavia","Drill, Instruction, Leadership, Sports & Fitness, Survival","Aviation subjects, Aerospace",1,{"$f":"COUNTIF(WeekNights!$3:$50,Instructors!A5)","v":9}]
["FSgt Kurpejovic","FSgt","Kurpejovic","Harun","Drill, Survival","Aviation subjects, Aerospace, Instruction, Leadership",4,{"$f":"COUNTIF(WeekNights!$3:$50,Instructors!A16)","v":6}]
["Sgt Loewen","Sgt","Loewen","Matthew","Sports & Fitness, Survival","Aviation subjects, Aerospace, Drill",3,{"$f":"COUNTIF(WeekNights!$3:$50,Instructors!A14)","v":1}]
["Sgt Mwongerinka","Sgt","Mwongerinka","Lynn Micka","Sports & Fitness, Team building activities, L1 GCK","Aviation subjects, Aerospace, Drill, Survival",1,{"$f":"COUNTIF(WeekNights!$3:$50,Instructors!A6)","v":15}]
["WO2 Muscat","WO2","Muscat","Sabrina","Aviation subjects, Aerospace, Instruction, Leadership, Sports & Fitness","Survival",4,{"$f":"COUNTIF(WeekNights!$3:$50,Instructors!A17)","v":7}]
["Sgt Pang","Sgt","Pang","Lisette","Aviation subjects, Instruction, Leadership",null,3,{"$f":"COUNTIF(WeekNights!$3:$50,Instructors!A15)","v":3}]
["FSgt spiridon","FSgt","spiridon","Elizabeth","Aviation subjects, Instruction, Leadership, Survival","Drill",4,{"$f":"COUNTIF(WeekNights!$3:$50,Instructors!A18)","v":7}]
["Sgt Unnithan","Sgt","Unnithan","Taksh","Aviation subjects, Aerospace, Sports & Fitness","Drill, Instruction, Survival",2,{"$f":"COUNTIF(WeekNights!$3:$50,Instructors!A11)","v":5}]
["FSgt Vaupotic","FSgt","Vaupotic","Jonathan","Aviation subjects, Aerospace, Instruction, Leadership, Sports & Fitness, Survival",null,4,{"$f":"COUNTIF(WeekNights!$3:$50,Instructors!A19)","v":7}]
[]
[]
[{"$nulls":6},"Count per Level"]
[{"$nulls":6},1,{"$f":"COUNTIF($G$2:$G$19,G24)","v":5}]
[{"$nulls":6},2,{"$f":"COUNTIF($G$2:$G$19,G25)","v":5}]
[{"$nulls":6},3,{"$f":"COUNTIF($G$2:$G$19,G26)","v":4}]
[{"$nulls":6},4,{"$f":"COUNTIF($G$2:$G$19,G27)","v":3}]

{"sheet":"Weekend Training","index":4,"n_rows":64,"n_cols":20,"rows_kept":64,"merged":[[0,3,0,12],[0,15,0,24],[1,8,1,9],[2,8,2,9],[3,0,14,0],[15,0,26,0],[27,0,38,0],[40,0,51,0],[52,0,63,0]]}
[{"$nulls":3},"ENTITLEMENT DAYS",{"$nulls":11},"OTHER"]
[{"$nulls":3},"MST 1 Instr Workshop","MST 2 Lead Workshop","CST 3 Sr NCO Workshop","CST 4 Sr NCO Field Day","Mand - Famil. Flight","Mand - FTX Wkd ",null,"Mand - Int-Sqn Comp.","Comp - Int-Sqn Comp","Comp - Elemental Day","Remembrance Day","ACR","Battle of Britain","Flags of Remembrance","Battle of the Atlantic","Mess Dinner","Windsor Reg \nOpen House"]
[null,null,"Date","2020-10-03","2020-10-24","2020-09-19",null,null,"28-30 May 2021",null,"2021-03-23","2021-04-02","2021-05-15","2020-11-08","2021-06-11"]
[{"$f":"'Unit Info'!G2","v":"Level 1"},1,"PO/EO",{"$nulls":5},"M190.05","C190.02",null,"MX05.01",null,"MX20.01F","M108.12","MX02.01","MX02.01","MX02.01",null,"MX20.01B"]
[null,2,"PO/EO",{"$nulls":5},"M190.03","C190.02",null,"MX05.01",null,"MX20.01F","M108.12","MX02.01","MX02.01","MX02.01",null,"MX20.01B"]
[null,3,"PO/EO",{"$nulls":5},"M190.03","C190.04",null,"MX05.01",null,"MX20.01F","M108.12","MX02.01","MX02.01","MX02.01",null,"MX20.01B"]
[null,4,"PO/EO",{"$nulls":5},"M190.02","C190.04",null,"MX05.01"]
[null,5,"PO/EO",{"$nulls":6},"C190.05",null,"MX05.01"]
[null,6,"PO/EO",{"$nulls":5},"M190.06","C190.06",null,"MX05.01"]
[null,7,"PO/EO",{"$nulls":5},"M190.06"]
[null,8,"PO/EO",{"$nulls":5},"M190.06"]
[null,9,"PO/EO",{"$nulls":5},"M190.07"]
[null,10,"PO/EO",{"$nulls":5},"M190.07"]
[null,11,"PO/EO",{"$nulls":5},"M190.07"]
[null,12,"PO/EO"]
[{"$f":"'Unit Info'!G3","v":"Level 2"},1,"PO/EO",{"$nulls":5},"M290.01","M290.01",null,"MX05.01",null,"MX20.01F","ACR","MX02.01","MX02.01","MX02.01",null,"MX20.01B"]
[null,2,"PO/EO",{"$nulls":5},"M290.02","M290.02",null,"MX05.01",null,"MX20.01F","ACR","MX02.01","MX02.01","MX02.01",null,"MX20.01B"]
[null,3,"PO/EO",{"$nulls":5},"M290.03","M290.02",null,"MX05.01",null,"MX20.01F","ACR","MX02.01","MX02.01","MX02.01",null,"MX20.01B"]
[null,4,"PO/EO",{"$nulls":5},"M290.04","M290.03",null,"MX05.01",null,null,"C208.01"]
[null,5,"PO/EO",{"$nulls":5},"M290.04","M290.05",null,"MX05.01",null,null,"C208.01"]
[null,6,"PO/EO",{"$nulls":5},"M290.05","M290.06",null,"MX05.01"]
[null,7,"PO/EO"]
[null,8,"PO/EO"]
[null,9,"PO/EO"]
[null,10,"PO/EO"]
[null,11,"PO/EO"]
[null,12,"PO/EO"]
[{"$f":"'Unit Info'!G4","v":"Level 3"},1,"PO/EO",{"$nulls":5},"M390.01",null,null,"MX05.01",null,"MX20.01F","ACR","MX02.01","MX02.01","MX02.01",null,"MX20.01B"]
[null,2,"PO/EO",{"$nulls":5},"M390.02",null,null,"MX05.01",null,"MX20.01F","ACR","MX02.01","MX02.01","MX02.01",null,"MX20.01B"]
[null,3,"PO/EO",{"$nulls":5},"M390.02",null,null,"MX05.01",null,"MX20.01F","ACR","MX02.01","MX02.01","MX02.01",null,"MX20.01B"]
[null,4,"PO/EO",{"$nulls":5},"M390.03",null,null,"MX05.01",null,null,"C208.01"]
[null,5,"PO/EO",{"$nulls":5},"M390.03",null,null,"MX05.01",null,null,"C208.01"]
[null,6,"PO/EO",{"$nulls":5},"M390.04",null,null,"MX05.01"]
[null,7,"PO/EO",{"$nulls":5},"M390.04"]
[null,8,"PO/EO",{"$nulls":5},"M390.04"]
[null,9,"PO/EO",{"$nulls":5},"M390.05"]
[null,10,"PO/EO",{"$nulls":5},"M390.05"]
[null,11,"PO/EO"]
[null,12,"PO/EO"]
[null,13,"PO/EO"]
[{"$f":"'Unit Info'!G5","v":"Level 4"},1,"PO/EO",{"$nulls":6},"M490.05",{"$nulls":3},"MX20.01F","ACR","MX02.01","MX02.01","MX02.01",null,"MX20.01B"]
[null,2,"PO/EO",{"$nulls":5},"M490.02","M490.05",null,"MX05.01",null,"MX20.01F","ACR","MX02.01","MX02.01","MX02.01",null,"MX20.01B"]
[null,3,"PO/EO",{"$nulls":5},"M490.02",null,null,"MX05.01",null,"MX20.01F","ACR","MX02.01","MX02.01","MX02.01",null,"MX20.01B"]
[null,4,"PO/EO",{"$nulls":5},"M490.02",null,null,"MX05.01",null,null,"C208.01"]
[null,5,"PO/EO",{"$nulls":5},"M490.03",null,null,"MX05.01",null,null,"C208.01"]
[null,6,"PO/EO",{"$nulls":5},"M490.03",null,null,"MX05.01"]
[null,7,"PO/EO",{"$nulls":5},"M490.04",null,null,"MX05.01"]
[null,8,"PO/EO",{"$nulls":5},"M490.04"]
[null,9,"PO/EO",{"$nulls":5},"M490.04"]
[null,10,"PO/EO",{"$nulls":5},"M490.04"]
[null,11,"PO/EO",{"$nulls":5},"M490.05"]
[null,12,"PO/EO",{"$nulls":5},"M490.05"]
[{"$f":"'Unit Info'!G6","v":"Level 5"},1,"PO/EO",{"$nulls":8},"MX05.01",null,"MX20.01F","ACR","MX02.01","MX02.01","MX02.01",null,"MX20.01B"]
[null,2,"PO/EO",{"$nulls":8},"MX05.01",null,"MX20.01F","ACR","MX02.01","MX02.01","MX02.01",null,"MX20.01B"]
[null,3,"PO/EO",{"$nulls":8},"MX05.01",null,"MX20.01F","ACR","MX02.01","MX02.01","MX02.01",null,"MX20.01B"]
[null,4,"PO/EO",{"$nulls":8},"MX05.01"]
[null,5,"PO/EO",{"$nulls":8},"MX05.01"]
[null,6,"PO/EO",{"$nulls":8},"MX05.01"]
[null,7,"PO/EO"]
[null,8,"PO/EO"]
[null,9,"PO/EO"]
[null,10,"PO/EO"]
[null,11,"PO/EO"]
[null,12,"PO/EO"]

{"sheet":"Weekly Trg","index":5,"n_rows":1018,"n_cols":17,"rows_kept":1018,"hidden":true,"merged":[[2,9,2,11],[7,9,7,14]]}
["Date","Day","Start Time","Finish Time","Activity","Location","OPI","Day",{"$nulls":8},"1-Sun"]
["2017-11-11",null,1100,1200,"remembrance day","argf","adfg",{"$f":"IF(A2=\"\",\"\",A2)","v":"2017-11-11"},{"$nulls":8},"2-Mon"]
[{"$nulls":7},{"$f":"IF(A3=\"\",\"\",A3)","v":""},null,"Enter dates in dd-mmm-yy format",{"$nulls":6},"3-Tue"]
[{"$nulls":7},"",{"$nulls":8},"4-Wed"]
[{"$nulls":7},"",{"$nulls":8},"5-Thu"]
[null,{"$f":"IF(A6=\"\",\"\",A6)","v":""},{"$nulls":5},"",{"$nulls":8},"6-Fri"]
[null,"",{"$nulls":5},"",{"$nulls":8},"7-Sat"]
[null,"",{"$nulls":5},"",null,"REOCCURING WEEKLY ACTIVITYES (will automaticly be added to Schedule)"]
[null,"",{"$nulls":5},"",null,"Day","Start Time","Finish Time","Activity","Location","OPI"]
[null,"",{"$nulls":5},""]
[null,"",{"$nulls":5},""]
[null,"",{"$nulls":5},""]
[null,"",{"$nulls":5},""]
[null,"",{"$nulls":5},""]
[null,"",{"$nulls":5},""]
[null,"",{"$nulls":5},""]
[null,"",{"$nulls":5},""]
[null,"",{"$nulls":5},""]
[null,"",{"$nulls":5},""]
[null,"",{"$nulls":5},""]
[null,"",{"$nulls":5},""]
[null,"",{"$nulls":5},""]
[null,"",{"$nulls":5},""]
[null,"",{"$nulls":5},""]
[null,"",{"$nulls":5},""]
[null,"",{"$nulls":5},""]
[null,"",{"$nulls":5},""]
[null,"",{"$nulls":5},""]
[null,"",{"$nulls":5},""]
[null,"",{"$nulls":5},""]
[null,"",{"$nulls":5},""]
[null,"",{"$nulls":5},""]
[null,"",{"$nulls":5},""]
[null,"",{"$nulls":5},""]
[null,"",{"$nulls":5},""]
[null,"",{"$nulls":5},""]
[null,"",{"$nulls":5},""]
[null,"",{"$nulls":5},""]
[null,"",{"$nulls":5},""]
[null,"",{"$nulls":5},""]
[null,"",{"$nulls":5},""]
[null,"",{"$nulls":5},""]
[null,"",{"$nulls":5},""]
[null,"",{"$nulls":5},""]
[null,"",{"$nulls":5},""]
[null,"",{"$nulls":5},""]
[null,""]
[null,""]
[null,"",{"$nulls":5},""]
[null,"",{"$nulls":5},""]
[null,"",{"$nulls":5},""]
[null,"",{"$nulls":5},""]
[null,"",{"$nulls":5},""]
[null,"",{"$nulls":5},""]
[null,"",{"$nulls":5},""]
[null,"",{"$nulls":5},""]
[null,"",{"$nulls":5},""]
[null,"",{"$nulls":5},""]
[null,"",{"$nulls":5},""]
[null,"",{"$nulls":5},""]
[null,"",{"$nulls":5},""]
[null,"",{"$nulls":5},""]
[null,"",{"$nulls":5},""]
[null,"",{"$nulls":5},""]
[null,"",{"$nulls":5},""]
[null,"",{"$nulls":5},""]
[null,"",{"$nulls":5},{"$f":"IF(A67=\"\",\"\",A67)","v":""}]
[null,"",{"$nulls":5},""]
[null,"",{"$nulls":5},""]
[null,{"$f":"IF(A70=\"\",\"\",A70)","v":""},{"$nulls":5},""]
[null,"",{"$nulls":5},""]
[null,"",{"$nulls":5},""]
[null,"",{"$nulls":5},""]
[null,"",{"$nulls":5},""]
[null,"",{"$nulls":5},""]
[null,"",{"$nulls":5},""]
[null,"",{"$nulls":5},""]
[null,"",{"$nulls":5},""]
[null,"",{"$nulls":5},""]
[null,"",{"$nulls":5},""]
[null,"",{"$nulls":5},""]
[null,"",{"$nulls":5},""]
[null,"",{"$nulls":5},""]
[null,"",{"$nulls":5},""]
[null,"",{"$nulls":5},""]
[null,"",{"$nulls":5},""]
[null,"",{"$nulls":5},""]
[null,"",{"$nulls":5},""]
[null,"",{"$nulls":5},""]
[null,"",{"$nulls":5},""]
[null,"",{"$nulls":5},""]
[null,"",{"$nulls":5},""]
[null,"",{"$nulls":5},""]
[null,"",{"$nulls":5},""]
[null,"",{"$nulls":5},""]
[null,"",{"$nulls":5},""]
[null,"",{"$nulls":5},""]
[null,"",{"$nulls":5},""]
[null,"",{"$nulls":5},""]
[null,"",{"$nulls":5},""]
[null,"",{"$nulls":5},""]
[null,"",{"$nulls":5},""]
[null,"",{"$nulls":5},""]
[null,"",{"$nulls":5},""]
[null,"",{"$nulls":5},""]
[null,"",{"$nulls":5},""]
[null,"",{"$nulls":5},""]
[null,"",{"$nulls":5},""]
[null,"",{"$nulls":5},""]
[null,"",{"$nulls":5},""]
[null,"",{"$nulls":5},""]
[null,"",{"$nulls":5},""]
[null,"",{"$nulls":5},""]
[null,"",{"$nulls":5},""]
[null,"",{"$nulls":5},""]
[null,"",{"$nulls":5},""]
[null,"",{"$nulls":5},""]
[null,"",{"$nulls":5},""]
[null,"",{"$nulls":5},""]
[null,"",{"$nulls":5},""]
[null,"",{"$nulls":5},""]
[null,"",{"$nulls":5},""]
[null,"",{"$nulls":5},""]
[null,"",{"$nulls":5},""]
[null,"",{"$nulls":5},""]
[null,"",{"$nulls":5},""]
[null,"",{"$nulls":5},""]
[null,"",{"$nulls":5},""]
[null,"",{"$nulls":5},""]
[null,"",{"$nulls":5},""]
[null,"",{"$nulls":5},{"$f":"IF(A131=\"\",\"\",A131)","v":""}]
[null,"",{"$nulls":5},""]
[null,"",{"$nulls":5},""]
[null,{"$f":"IF(A134=\"\",\"\",A134)","v":""},{"$nulls":5},""]
[null,"",{"$nulls":5},""]
[null,"",{"$nulls":5},""]
[null,"",{"$nulls":5},""]
[null,"",{"$nulls":5},""]
[null,"",{"$nulls":5},""]
[null,"",{"$nulls":5},""]
[null,"",{"$nulls":5},""]
[null,"",{"$nulls":5},""]
[null,"",{"$nulls":5},""]
[null,"",{"$nulls":5},""]
[null,"",{"$nulls":5},""]
[null,"",{"$nulls":5},""]
[null,"",{"$nulls":5},""]
[null,"",{"$nulls":5},""]
[null,"",{"$nulls":5},""]
[null,"",{"$nulls":5},""]
[null,"",{"$nulls":5},""]
[null,"",{"$nulls":5},""]
[null,"",{"$nulls":5},""]
[null,"",{"$nulls":5},""]
[null,"",{"$nulls":5},""]
[null,"",{"$nulls":5},""]
[null,"",{"$nulls":5},""]
[null,"",{"$nulls":5},""]
[null,"",{"$nulls":5},""]
[null,"",{"$nulls":5},""]
[null,"",{"$nulls":5},""]
[null,"",{"$nulls":5},""]
[null,"",{"$nulls":5},""]
[null,"",{"$nulls":5},""]
[null,"",{"$nulls":5},""]
[null,"",{"$nulls":5},""]
[null,"",{"$nulls":5},""]
[null,"",{"$nulls":5},""]
[null,"",{"$nulls":5},""]
[null,"",{"$nulls":5},""]
[null,"",{"$nulls":5},""]
[null,"",{"$nulls":5},""]
[null,"",{"$nulls":5},""]
[null,"",{"$nulls":5},""]
[null,"",{"$nulls":5},""]
[null,"",{"$nulls":5},""]
[null,"",{"$nulls":5},""]
[null,"",{"$nulls":5},""]
[null,"",{"$nulls":5},""]
[null,"",{"$nulls":5},""]
[null,"",{"$nulls":5},""]
[null,"",{"$nulls":5},""]
[null,"",{"$nulls":5},""]
[null,"",{"$nulls":5},""]
[null,"",{"$nulls":5},""]
[null,"",{"$nulls":5},""]
[null,"",{"$nulls":5},""]
[null,"",{"$nulls":5},""]
[null,"",{"$nulls":5},""]
[null,"",{"$nulls":5},""]
[null,"",{"$nulls":5},""]
[null,"",{"$nulls":5},""]
[null,"",{"$nulls":5},""]
[null,"",{"$nulls":5},""]
[null,"",{"$nulls":5},{"$f":"IF(A195=\"\",\"\",A195)","v":""}]
[null,"",{"$nulls":5},""]
[null,"",{"$nulls":5},""]
[null,{"$f":"IF(A198=\"\",\"\",A198)","v":""},{"$nulls":5},""]
[null,"",{"$nulls":5},""]
[null,"",{"$nulls":5},""]
[null,"",{"$nulls":5},""]
[null,"",{"$nulls":5},""]
[null,"",{"$nulls":5},""]
[null,"",{"$nulls":5},""]
[null,"",{"$nulls":5},""]
[null,"",{"$nulls":5},""]
[null,"",{"$nulls":5},""]
[null,"",{"$nulls":5},""]
[null,"",{"$nulls":5},""]
[null,"",{"$nulls":5},""]
[null,"",{"$nulls":5},""]
[null,"",{"$nulls":5},""]
[null,"",{"$nulls":5},""]
[null,"",{"$nulls":5},""]
[null,"",{"$nulls":5},""]
[null,"",{"$nulls":5},""]
[null,"",{"$nulls":5},""]
[null,"",{"$nulls":5},""]
[null,"",{"$nulls":5},""]
[null,"",{"$nulls":5},""]
[null,"",{"$nulls":5},""]
[null,"",{"$nulls":5},""]
[null,"",{"$nulls":5},""]
[null,"",{"$nulls":5},""]
[null,"",{"$nulls":5},""]
[null,"",{"$nulls":5},""]
[null,"",{"$nulls":5},""]
[null,"",{"$nulls":5},""]
[null,"",{"$nulls":5},""]
[null,"",{"$nulls":5},""]
[null,"",{"$nulls":5},""]
[null,"",{"$nulls":5},""]
[null,"",{"$nulls":5},""]
[null,"",{"$nulls":5},""]
[null,"",{"$nulls":5},""]
[null,"",{"$nulls":5},""]
[null,"",{"$nulls":5},""]
[null,"",{"$nulls":5},""]
[null,"",{"$nulls":5},""]
[null,"",{"$nulls":5},""]
[null,"",{"$nulls":5},""]
[null,"",{"$nulls":5},""]
[null,"",{"$nulls":5},""]
[null,"",{"$nulls":5},""]
[null,"",{"$nulls":5},""]
[null,"",{"$nulls":5},""]
[null,"",{"$nulls":5},""]
[null,"",{"$nulls":5},""]
[null,"",{"$nulls":5},""]
[null,"",{"$nulls":5},""]
[null,"",{"$nulls":5},""]
[null,"",{"$nulls":5},""]
[null,"",{"$nulls":5},""]
[null,"",{"$nulls":5},""]
[null,"",{"$nulls":5},""]
[null,"",{"$nulls":5},""]
[null,"",{"$nulls":5},""]
[null,"",{"$nulls":5},""]
[null,"",{"$nulls":5},{"$f":"IF(A259=\"\",\"\",A259)","v":""}]
[null,"",{"$nulls":5},""]
[null,"",{"$nulls":5},""]
[null,{"$f":"IF(A262=\"\",\"\",A262)","v":""},{"$nulls":5},""]
[null,"",{"$nulls":5},""]
[null,"",{"$nulls":5},""]
[null,"",{"$nulls":5},""]
[null,"",{"$nulls":5},""]
[null,"",{"$nulls":5},""]
[null,"",{"$nulls":5},""]
[null,"",{"$nulls":5},""]
[null,"",{"$nulls":5},""]
[null,"",{"$nulls":5},""]
[null,"",{"$nulls":5},""]
[null,"",{"$nulls":5},""]
[null,"",{"$nulls":5},""]
[null,"",{"$nulls":5},""]
[null,"",{"$nulls":5},""]
[null,"",{"$nulls":5},""]
[null,"",{"$nulls":5},""]
[null,"",{"$nulls":5},""]
[null,"",{"$nulls":5},""]
[null,"",{"$nulls":5},""]
[null,"",{"$nulls":5},""]
[null,"",{"$nulls":5},""]
[null,"",{"$nulls":5},""]
[null,"",{"$nulls":5},""]
[null,"",{"$nulls":5},""]
[null,"",{"$nulls":5},""]
[null,"",{"$nulls":5},""]
[null,"",{"$nulls":5},""]
[null,"",{"$nulls":5},""]
[null,"",{"$nulls":5},""]
[null,"",{"$nulls":5},""]
[null,"",{"$nulls":5},""]
[null,"",{"$nulls":5},""]
[null,"",{"$nulls":5},""]
[null,"",{"$nulls":5},""]
[null,"",{"$nulls":5},""]
[null,"",{"$nulls":5},""]
[null,"",{"$nulls":5},""]
[null,"",{"$nulls":5},""]
[null,"",{"$nulls":5},""]
[null,"",{"$nulls":5},""]
[null,"",{"$nulls":5},""]
[null,"",{"$nulls":5},""]
[null,"",{"$nulls":5},""]
[null,"",{"$nulls":5},""]
[null,"",{"$nulls":5},""]
[null,"",{"$nulls":5},""]
[null,"",{"$nulls":5},""]
[null,"",{"$nulls":5},""]
[null,"",{"$nulls":5},""]
[null,"",{"$nulls":5},""]
[null,"",{"$nulls":5},""]
[null,"",{"$nulls":5},""]
[null,"",{"$nulls":5},""]
[null,"",{"$nulls":5},""]
[null,"",{"$nulls":5},""]
[null,"",{"$nulls":5},""]
[null,"",{"$nulls":5},""]
[null,"",{"$nulls":5},""]
[null,"",{"$nulls":5},""]
[null,"",{"$nulls":5},""]
[null,"",{"$nulls":5},{"$f":"IF(A323=\"\",\"\",A323)","v":""}]
[null,"",{"$nulls":5},""]
[null,"",{"$nulls":5},""]
[null,{"$f":"IF(A326=\"\",\"\",A326)","v":""},{"$nulls":5},""]
[null,"",{"$nulls":5},""]
[null,"",{"$nulls":5},""]
[null,"",{"$nulls":5},""]
[null,"",{"$nulls":5},""]
[null,"",{"$nulls":5},""]
[null,"",{"$nulls":5},""]
[null,"",{"$nulls":5},""]
[null,"",{"$nulls":5},""]
[null,"",{"$nulls":5},""]
[null,"",{"$nulls":5},""]
[null,"",{"$nulls":5},""]
[null,"",{"$nulls":5},""]
[null,"",{"$nulls":5},""]
[null,"",{"$nulls":5},""]
[null,"",{"$nulls":5},""]
[null,"",{"$nulls":5},""]
[null,"",{"$nulls":5},""]
[null,"",{"$nulls":5},""]
[null,"",{"$nulls":5},""]
[null,"",{"$nulls":5},""]
[null,"",{"$nulls":5},""]
[null,"",{"$nulls":5},""]
[null,"",{"$nulls":5},""]
[null,"",{"$nulls":5},""]
[null,"",{"$nulls":5},""]
[null,"",{"$nulls":5},""]
[null,"",{"$nulls":5},""]
[null,"",{"$nulls":5},""]
[null,"",{"$nulls":5},""]
[null,"",{"$nulls":5},""]
[null,"",{"$nulls":5},""]
[null,"",{"$nulls":5},""]
[null,"",{"$nulls":5},""]
[null,"",{"$nulls":5},""]
[null,"",{"$nulls":5},""]
[null,"",{"$nulls":5},""]
[null,"",{"$nulls":5},""]
[null,"",{"$nulls":5},""]
[null,"",{"$nulls":5},""]
[null,"",{"$nulls":5},""]
[null,"",{"$nulls":5},""]
[null,"",{"$nulls":5},""]
[null,"",{"$nulls":5},""]
[null,"",{"$nulls":5},""]
[null,"",{"$nulls":5},""]
[null,"",{"$nulls":5},""]
[null,"",{"$nulls":5},""]
[null,"",{"$nulls":5},""]
[null,"",{"$nulls":5},""]
[null,"",{"$nulls":5},""]
[null,"",{"$nulls":5},""]
[null,"",{"$nulls":5},""]
[null,"",{"$nulls":5},""]
[null,"",{"$nulls":5},""]
[null,"",{"$nulls":5},""]
[null,"",{"$nulls":5},""]
[null,"",{"$nulls":5},""]
[null,"",{"$nulls":5},""]
[null,"",{"$nulls":5},""]
[null,"",{"$nulls":5},""]
[null,"",{"$nulls":5},{"$f":"IF(A387=\"\",\"\",A387)","v":""}]
[null,"",{"$nulls":5},""]
[null,"",{"$nulls":5},""]
[null,{"$f":"IF(A390=\"\",\"\",A390)","v":""},{"$nulls":5},""]
[null,"",{"$nulls":5},""]
[null,"",{"$nulls":5},""]
[null,"",{"$nulls":5},""]
[null,"",{"$nulls":5},""]
[null,"",{"$nulls":5},""]
[null,"",{"$nulls":5},""]
[null,"",{"$nulls":5},""]
[null,"",{"$nulls":5},""]
[null,"",{"$nulls":5},""]
[null,"",{"$nulls":5},""]
[null,"",{"$nulls":5},""]
[null,"",{"$nulls":5},""]
[null,"",{"$nulls":5},""]
[null,"",{"$nulls":5},""]
[null,"",{"$nulls":5},""]
[null,"",{"$nulls":5},""]
[null,"",{"$nulls":5},""]
[null,"",{"$nulls":5},""]
[null,"",{"$nulls":5},""]
[null,"",{"$nulls":5},""]
[null,"",{"$nulls":5},""]
[null,"",{"$nulls":5},""]
[null,"",{"$nulls":5},""]
[null,"",{"$nulls":5},""]
[null,"",{"$nulls":5},""]
[null,"",{"$nulls":5},""]
[null,"",{"$nulls":5},""]
[null,"",{"$nulls":5},""]
[null,"",{"$nulls":5},""]
[null,"",{"$nulls":5},""]
[null,"",{"$nulls":5},""]
[null,"",{"$nulls":5},""]
[null,"",{"$nulls":5},""]
[null,"",{"$nulls":5},""]
[null,"",{"$nulls":5},""]
[null,"",{"$nulls":5},""]
[null,"",{"$nulls":5},""]
[null,"",{"$nulls":5},""]
[null,"",{"$nulls":5},""]
[null,"",{"$nulls":5},""]
[null,"",{"$nulls":5},""]
[null,"",{"$nulls":5},""]
[null,"",{"$nulls":5},""]
[null,"",{"$nulls":5},""]
[null,"",{"$nulls":5},""]
[null,"",{"$nulls":5},""]
[null,"",{"$nulls":5},""]
[null,"",{"$nulls":5},""]
[null,"",{"$nulls":5},""]
[null,"",{"$nulls":5},""]
[null,"",{"$nulls":5},""]
[null,"",{"$nulls":5},""]
[null,"",{"$nulls":5},""]
[null,"",{"$nulls":5},""]
[null,"",{"$nulls":5},""]
[null,"",{"$nulls":5},""]
[null,"",{"$nulls":5},""]
[null,"",{"$nulls":5},""]
[null,"",{"$nulls":5},""]
[null,"",{"$nulls":5},""]
[null,"",{"$nulls":5},{"$f":"IF(A451=\"\",\"\",A451)","v":""}]
[null,"",{"$nulls":5},""]
[null,"",{"$nulls":5},""]
[null,{"$f":"IF(A454=\"\",\"\",A454)","v":""},{"$nulls":5},""]
[null,"",{"$nulls":5},""]
[null,"",{"$nulls":5},""]
[null,"",{"$nulls":5},""]
[null,"",{"$nulls":5},""]
[null,"",{"$nulls":5},""]
[null,"",{"$nulls":5},""]
[null,"",{"$nulls":5},""]
[null,"",{"$nulls":5},""]
[null,"",{"$nulls":5},""]
[null,"",{"$nulls":5},""]
[null,"",{"$nulls":5},""]
[null,"",{"$nulls":5},""]
[null,"",{"$nulls":5},""]
[null,"",{"$nulls":5},""]
[null,"",{"$nulls":5},""]
[null,"",{"$nulls":5},""]
[null,"",{"$nulls":5},""]
[null,"",{"$nulls":5},""]
[null,"",{"$nulls":5},""]
[null,"",{"$nulls":5},""]
[null,"",{"$nulls":5},""]
[null,"",{"$nulls":5},""]
[null,"",{"$nulls":5},""]
[null,"",{"$nulls":5},""]
[null,"",{"$nulls":5},""]
[null,"",{"$nulls":5},""]
[null,"",{"$nulls":5},""]
[null,"",{"$nulls":5},""]
[null,"",{"$nulls":5},""]
[null,"",{"$nulls":5},""]
[null,"",{"$nulls":5},""]
[null,"",{"$nulls":5},""]
[null,"",{"$nulls":5},""]
[null,"",{"$nulls":5},""]
[null,"",{"$nulls":5},""]
[null,"",{"$nulls":5},""]
[null,"",{"$nulls":5},""]
[null,"",{"$nulls":5},""]
[null,"",{"$nulls":5},""]
[null,"",{"$nulls":5},""]
[null,"",{"$nulls":5},""]
[null,"",{"$nulls":5},""]
[null,"",{"$nulls":5},""]
[null,"",{"$nulls":5},""]
[null,"",{"$nulls":5},""]
[null,"",{"$nulls":5},""]
[null,"",{"$nulls":5},""]
[null,"",{"$nulls":5},""]
[null,"",{"$nulls":5},""]
[null,"",{"$nulls":5},""]
[null,"",{"$nulls":5},""]
[null,"",{"$nulls":5},""]
[null,"",{"$nulls":5},""]
[null,"",{"$nulls":5},""]
[null,"",{"$nulls":5},""]
[null,"",{"$nulls":5},""]
[null,"",{"$nulls":5},""]
[null,"",{"$nulls":5},""]
[null,"",{"$nulls":5},""]
[null,"",{"$nulls":5},""]
[null,"",{"$nulls":5},{"$f":"IF(A515=\"\",\"\",A515)","v":""}]
[null,"",{"$nulls":5},""]
[null,"",{"$nulls":5},""]
[null,{"$f":"IF(A518=\"\",\"\",A518)","v":""},{"$nulls":5},""]
[null,"",{"$nulls":5},""]
[null,"",{"$nulls":5},""]
[null,"",{"$nulls":5},""]
[null,"",{"$nulls":5},""]
[null,"",{"$nulls":5},""]
[null,"",{"$nulls":5},""]
[null,"",{"$nulls":5},""]
[null,"",{"$nulls":5},""]
[null,"",{"$nulls":5},""]
[null,"",{"$nulls":5},""]
[null,"",{"$nulls":5},""]
[null,"",{"$nulls":5},""]
[null,"",{"$nulls":5},""]
[null,"",{"$nulls":5},""]
[null,"",{"$nulls":5},""]
[null,"",{"$nulls":5},""]
[null,"",{"$nulls":5},""]
[null,"",{"$nulls":5},""]
[null,"",{"$nulls":5},""]
[null,"",{"$nulls":5},""]
[null,"",{"$nulls":5},""]
[null,"",{"$nulls":5},""]
[null,"",{"$nulls":5},""]
[null,"",{"$nulls":5},""]
[null,"",{"$nulls":5},""]
[null,"",{"$nulls":5},""]
[null,"",{"$nulls":5},""]
[null,"",{"$nulls":5},""]
[null,"",{"$nulls":5},""]
[null,"",{"$nulls":5},""]
[null,"",{"$nulls":5},""]
[null,"",{"$nulls":5},""]
[null,"",{"$nulls":5},""]
[null,"",{"$nulls":5},""]
[null,"",{"$nulls":5},""]
[null,"",{"$nulls":5},""]
[null,"",{"$nulls":5},""]
[null,"",{"$nulls":5},""]
[null,"",{"$nulls":5},""]
[null,"",{"$nulls":5},""]
[null,"",{"$nulls":5},""]
[null,"",{"$nulls":5},""]
[null,"",{"$nulls":5},""]
[null,"",{"$nulls":5},""]
[null,"",{"$nulls":5},""]
[null,"",{"$nulls":5},""]
[null,"",{"$nulls":5},""]
[null,"",{"$nulls":5},""]
[null,"",{"$nulls":5},""]
[null,"",{"$nulls":5},""]
[null,"",{"$nulls":5},""]
[null,"",{"$nulls":5},""]
[null,"",{"$nulls":5},""]
[null,"",{"$nulls":5},""]
[null,"",{"$nulls":5},""]
[null,"",{"$nulls":5},""]
[null,"",{"$nulls":5},""]
[null,"",{"$nulls":5},""]
[null,"",{"$nulls":5},""]
[null,"",{"$nulls":5},""]
[null,"",{"$nulls":5},{"$f":"IF(A579=\"\",\"\",A579)","v":""}]
[null,"",{"$nulls":5},""]
[null,"",{"$nulls":5},""]
[null,{"$f":"IF(A582=\"\",\"\",A582)","v":""},{"$nulls":5},""]
[null,"",{"$nulls":5},""]
[null,"",{"$nulls":5},""]
[null,"",{"$nulls":5},""]
[null,"",{"$nulls":5},""]
[null,"",{"$nulls":5},""]
[null,"",{"$nulls":5},""]
[null,"",{"$nulls":5},""]
[null,"",{"$nulls":5},""]
[null,"",{"$nulls":5},""]
[null,"",{"$nulls":5},""]
[null,"",{"$nulls":5},""]
[null,"",{"$nulls":5},""]
[null,"",{"$nulls":5},""]
[null,"",{"$nulls":5},""]
[null,"",{"$nulls":5},""]
[null,"",{"$nulls":5},""]
[null,"",{"$nulls":5},""]
[null,"",{"$nulls":5},""]
[null,"",{"$nulls":5},""]
[null,"",{"$nulls":5},""]
[null,"",{"$nulls":5},""]
[null,"",{"$nulls":5},""]
[null,"",{"$nulls":5},""]
[null,"",{"$nulls":5},""]
[null,"",{"$nulls":5},""]
[null,"",{"$nulls":5},""]
[null,"",{"$nulls":5},""]
[null,"",{"$nulls":5},""]
[null,"",{"$nulls":5},""]
[null,"",{"$nulls":5},""]
[null,"",{"$nulls":5},""]
[null,"",{"$nulls":5},""]
[null,"",{"$nulls":5},""]
[null,"",{"$nulls":5},""]
[null,"",{"$nulls":5},""]
[null,"",{"$nulls":5},""]
[null,"",{"$nulls":5},""]
[null,"",{"$nulls":5},""]
[null,"",{"$nulls":5},""]
[null,"",{"$nulls":5},""]
[null,"",{"$nulls":5},""]
[null,"",{"$nulls":5},""]
[null,"",{"$nulls":5},""]
[null,"",{"$nulls":5},""]
[null,"",{"$nulls":5},""]
[null,"",{"$nulls":5},""]
[null,"",{"$nulls":5},""]
[null,"",{"$nulls":5},""]
[null,"",{"$nulls":5},""]
[null,"",{"$nulls":5},""]
[null,"",{"$nulls":5},""]
[null,"",{"$nulls":5},""]
[null,"",{"$nulls":5},""]
[null,"",{"$nulls":5},""]
[null,"",{"$nulls":5},""]
[null,"",{"$nulls":5},""]
[null,"",{"$nulls":5},""]
[null,"",{"$nulls":5},""]
[null,"",{"$nulls":5},""]
[null,"",{"$nulls":5},""]
[null,"",{"$nulls":5},{"$f":"IF(A643=\"\",\"\",A643)","v":""}]
[null,"",{"$nulls":5},""]
[null,"",{"$nulls":5},""]
[null,{"$f":"IF(A646=\"\",\"\",A646)","v":""},{"$nulls":5},""]
[null,"",{"$nulls":5},""]
[null,"",{"$nulls":5},""]
[null,"",{"$nulls":5},""]
[null,"",{"$nulls":5},""]
[null,"",{"$nulls":5},""]
[null,"",{"$nulls":5},""]
[null,"",{"$nulls":5},""]
[null,"",{"$nulls":5},""]
[null,"",{"$nulls":5},""]
[null,"",{"$nulls":5},""]
[null,"",{"$nulls":5},""]
[null,"",{"$nulls":5},""]
[null,"",{"$nulls":5},""]
[null,"",{"$nulls":5},""]
[null,"",{"$nulls":5},""]
[null,"",{"$nulls":5},""]
[null,"",{"$nulls":5},""]
[null,"",{"$nulls":5},""]
[null,"",{"$nulls":5},""]
[null,"",{"$nulls":5},""]
[null,"",{"$nulls":5},""]
[null,"",{"$nulls":5},""]
[null,"",{"$nulls":5},""]
[null,"",{"$nulls":5},""]
[null,"",{"$nulls":5},""]
[null,"",{"$nulls":5},""]
[null,"",{"$nulls":5},""]
[null,"",{"$nulls":5},""]
[null,"",{"$nulls":5},""]
[null,"",{"$nulls":5},""]
[null,"",{"$nulls":5},""]
[null,"",{"$nulls":5},""]
[null,"",{"$nulls":5},""]
[null,"",{"$nulls":5},""]
[null,"",{"$nulls":5},""]
[null,"",{"$nulls":5},""]
[null,"",{"$nulls":5},""]
[null,"",{"$nulls":5},""]
[null,"",{"$nulls":5},""]
[null,"",{"$nulls":5},""]
[null,"",{"$nulls":5},""]
[null,"",{"$nulls":5},""]
[null,"",{"$nulls":5},""]
[null,"",{"$nulls":5},""]
[null,"",{"$nulls":5},""]
[null,"",{"$nulls":5},""]
[null,"",{"$nulls":5},""]
[null,"",{"$nulls":5},""]
[null,"",{"$nulls":5},""]
[null,"",{"$nulls":5},""]
[null,"",{"$nulls":5},""]
[null,"",{"$nulls":5},""]
[null,"",{"$nulls":5},""]
[null,"",{"$nulls":5},""]
[null,"",{"$nulls":5},""]
[null,"",{"$nulls":5},""]
[null,"",{"$nulls":5},""]
[null,"",{"$nulls":5},""]
[null,"",{"$nulls":5},""]
[null,"",{"$nulls":5},""]
[null,"",{"$nulls":5},{"$f":"IF(A707=\"\",\"\",A707)","v":""}]
[null,"",{"$nulls":5},""]
[null,"",{"$nulls":5},""]
[null,{"$f":"IF(A710=\"\",\"\",A710)","v":""},{"$nulls":5},""]
[null,"",{"$nulls":5},""]
[null,"",{"$nulls":5},""]
[null,"",{"$nulls":5},""]
[null,"",{"$nulls":5},""]
[null,"",{"$nulls":5},""]
[null,"",{"$nulls":5},""]
[null,"",{"$nulls":5},""]
[null,"",{"$nulls":5},""]
[null,"",{"$nulls":5},""]
[null,"",{"$nulls":5},""]
[null,"",{"$nulls":5},""]
[null,"",{"$nulls":5},""]
[null,"",{"$nulls":5},""]
[null,"",{"$nulls":5},""]
[null,"",{"$nulls":5},""]
[null,"",{"$nulls":5},""]
[null,"",{"$nulls":5},""]
[null,"",{"$nulls":5},""]
[null,"",{"$nulls":5},""]
[null,"",{"$nulls":5},""]
[null,"",{"$nulls":5},""]
[null,"",{"$nulls":5},""]
[null,"",{"$nulls":5},""]
[null,"",{"$nulls":5},""]
[null,"",{"$nulls":5},""]
[null,"",{"$nulls":5},""]
[null,"",{"$nulls":5},""]
[null,"",{"$nulls":5},""]
[null,"",{"$nulls":5},""]
[null,"",{"$nulls":5},""]
[null,"",{"$nulls":5},""]
[null,"",{"$nulls":5},""]
[null,"",{"$nulls":5},""]
[null,"",{"$nulls":5},""]
[null,"",{"$nulls":5},""]
[null,"",{"$nulls":5},""]
[null,"",{"$nulls":5},""]
[null,"",{"$nulls":5},""]
[null,"",{"$nulls":5},""]
[null,"",{"$nulls":5},""]
[null,"",{"$nulls":5},""]
[null,"",{"$nulls":5},""]
[null,"",{"$nulls":5},""]
[null,"",{"$nulls":5},""]
[null,"",{"$nulls":5},""]
[null,"",{"$nulls":5},""]
[null,"",{"$nulls":5},""]
[null,"",{"$nulls":5},""]
[null,"",{"$nulls":5},""]
[null,"",{"$nulls":5},""]
[null,"",{"$nulls":5},""]
[null,"",{"$nulls":5},""]
[null,"",{"$nulls":5},""]
[null,"",{"$nulls":5},""]
[null,"",{"$nulls":5},""]
[null,"",{"$nulls":5},""]
[null,"",{"$nulls":5},""]
[null,"",{"$nulls":5},""]
[null,"",{"$nulls":5},""]
[null,"",{"$nulls":5},""]
[null,"",{"$nulls":5},{"$f":"IF(A771=\"\",\"\",A771)","v":""}]
[null,"",{"$nulls":5},""]
[null,"",{"$nulls":5},""]
[null,{"$f":"IF(A774=\"\",\"\",A774)","v":""},{"$nulls":5},""]
[null,"",{"$nulls":5},""]
[null,"",{"$nulls":5},""]
[null,"",{"$nulls":5},""]
[null,"",{"$nulls":5},""]
[null,"",{"$nulls":5},""]
[null,"",{"$nulls":5},""]
[null,"",{"$nulls":5},""]
[null,"",{"$nulls":5},""]
[null,"",{"$nulls":5},""]
[null,"",{"$nulls":5},""]
[null,"",{"$nulls":5},""]
[null,"",{"$nulls":5},""]
[null,"",{"$nulls":5},""]
[null,"",{"$nulls":5},""]
[null,"",{"$nulls":5},""]
[null,"",{"$nulls":5},""]
[null,"",{"$nulls":5},""]
[null,"",{"$nulls":5},""]
[null,"",{"$nulls":5},""]
[null,"",{"$nulls":5},""]
[null,"",{"$nulls":5},""]
[null,"",{"$nulls":5},""]
[null,"",{"$nulls":5},""]
[null,"",{"$nulls":5},""]
[null,"",{"$nulls":5},""]
[null,"",{"$nulls":5},""]
[null,"",{"$nulls":5},""]
[null,"",{"$nulls":5},""]
[null,"",{"$nulls":5},""]
[null,"",{"$nulls":5},""]
[null,"",{"$nulls":5},""]
[null,"",{"$nulls":5},""]
[null,"",{"$nulls":5},""]
[null,"",{"$nulls":5},""]
[null,"",{"$nulls":5},""]
[null,"",{"$nulls":5},""]
[null,"",{"$nulls":5},""]
[null,"",{"$nulls":5},""]
[null,"",{"$nulls":5},""]
[null,"",{"$nulls":5},""]
[null,"",{"$nulls":5},""]
[null,"",{"$nulls":5},""]
[null,"",{"$nulls":5},""]
[null,"",{"$nulls":5},""]
[null,"",{"$nulls":5},""]
[null,"",{"$nulls":5},""]
[null,"",{"$nulls":5},""]
[null,"",{"$nulls":5},""]
[null,"",{"$nulls":5},""]
[null,"",{"$nulls":5},""]
[null,"",{"$nulls":5},""]
[null,"",{"$nulls":5},""]
[null,"",{"$nulls":5},""]
[null,"",{"$nulls":5},""]
[null,"",{"$nulls":5},""]
[null,"",{"$nulls":5},""]
[null,"",{"$nulls":5},""]
[null,"",{"$nulls":5},""]
[null,"",{"$nulls":5},""]
[null,"",{"$nulls":5},""]
[null,"",{"$nulls":5},{"$f":"IF(A835=\"\",\"\",A835)","v":""}]
[null,"",{"$nulls":5},""]
[null,"",{"$nulls":5},""]
[null,{"$f":"IF(A838=\"\",\"\",A838)","v":""},{"$nulls":5},""]
[null,"",{"$nulls":5},""]
[null,"",{"$nulls":5},""]
[null,"",{"$nulls":5},""]
[null,"",{"$nulls":5},""]
[null,"",{"$nulls":5},""]
[null,"",{"$nulls":5},""]
[null,"",{"$nulls":5},""]
[null,"",{"$nulls":5},""]
[null,"",{"$nulls":5},""]
[null,"",{"$nulls":5},""]
[null,"",{"$nulls":5},""]
[null,"",{"$nulls":5},""]
[null,"",{"$nulls":5},""]
[null,"",{"$nulls":5},""]
[null,"",{"$nulls":5},""]
[null,"",{"$nulls":5},""]
[null,"",{"$nulls":5},""]
[null,"",{"$nulls":5},""]
[null,"",{"$nulls":5},""]
[null,"",{"$nulls":5},""]
[null,"",{"$nulls":5},""]
[null,"",{"$nulls":5},""]
[null,"",{"$nulls":5},""]
[null,"",{"$nulls":5},""]
[null,"",{"$nulls":5},""]
[null,"",{"$nulls":5},""]
[null,"",{"$nulls":5},""]
[null,"",{"$nulls":5},""]
[null,"",{"$nulls":5},""]
[null,"",{"$nulls":5},""]
[null,"",{"$nulls":5},""]
[null,"",{"$nulls":5},""]
[null,"",{"$nulls":5},""]
[null,"",{"$nulls":5},""]
[null,"",{"$nulls":5},""]
[null,"",{"$nulls":5},""]
[null,"",{"$nulls":5},""]
[null,"",{"$nulls":5},""]
[null,"",{"$nulls":5},""]
[null,"",{"$nulls":5},""]
[null,"",{"$nulls":5},""]
[null,"",{"$nulls":5},""]
[null,"",{"$nulls":5},""]
[null,"",{"$nulls":5},""]
[null,"",{"$nulls":5},""]
[null,"",{"$nulls":5},""]
[null,"",{"$nulls":5},""]
[null,"",{"$nulls":5},""]
[null,"",{"$nulls":5},""]
[null,"",{"$nulls":5},""]
[null,"",{"$nulls":5},""]
[null,"",{"$nulls":5},""]
[null,"",{"$nulls":5},""]
[null,"",{"$nulls":5},""]
[null,"",{"$nulls":5},""]
[null,"",{"$nulls":5},""]
[null,"",{"$nulls":5},""]
[null,"",{"$nulls":5},""]
[null,"",{"$nulls":5},""]
[null,"",{"$nulls":5},""]
[null,"",{"$nulls":5},{"$f":"IF(A899=\"\",\"\",A899)","v":""}]
[null,"",{"$nulls":5},""]
[null,{"$f":"IF(A901=\"\",\"\",A901)","v":""},{"$nulls":5},""]
[null,"",{"$nulls":5},""]
[null,"",{"$nulls":5},""]
[null,"",{"$nulls":5},""]
[null,"",{"$nulls":5},""]
[null,"",{"$nulls":5},""]
[null,"",{"$nulls":5},""]
[null,"",{"$nulls":5},""]
[null,"",{"$nulls":5},""]
[null,"",{"$nulls":5},""]
[null,"",{"$nulls":5},""]
[null,"",{"$nulls":5},""]
[null,"",{"$nulls":5},""]
[null,"",{"$nulls":5},""]
[null,"",{"$nulls":5},""]
[null,"",{"$nulls":5},""]
[null,"",{"$nulls":5},""]
[null,"",{"$nulls":5},""]
[null,"",{"$nulls":5},""]
[null,"",{"$nulls":5},""]
[null,"",{"$nulls":5},""]
[null,"",{"$nulls":5},""]
[null,"",{"$nulls":5},""]
[null,"",{"$nulls":5},""]
[null,"",{"$nulls":5},""]
[null,"",{"$nulls":5},""]
[null,"",{"$nulls":5},""]
[null,"",{"$nulls":5},""]
[null,"",{"$nulls":5},""]
[null,"",{"$nulls":5},""]
[null,"",{"$nulls":5},""]
[null,"",{"$nulls":5},""]
[null,"",{"$nulls":5},""]
[null,"",{"$nulls":5},""]
[null,"",{"$nulls":5},""]
[null,"",{"$nulls":5},""]
[null,"",{"$nulls":5},""]
[null,"",{"$nulls":5},""]
[null,"",{"$nulls":5},""]
[null,"",{"$nulls":5},""]
[null,"",{"$nulls":5},""]
[null,"",{"$nulls":5},""]
[null,"",{"$nulls":5},""]
[null,"",{"$nulls":5},""]
[null,"",{"$nulls":5},""]
[null,"",{"$nulls":5},""]
[null,"",{"$nulls":5},""]
[null,"",{"$nulls":5},""]
[null,"",{"$nulls":5},""]
[null,"",{"$nulls":5},""]
[null,"",{"$nulls":5},""]
[null,"",{"$nulls":5},""]
[null,"",{"$nulls":5},""]
[null,"",{"$nulls":5},""]
[null,"",{"$nulls":5},""]
[null,"",{"$nulls":5},""]
[null,"",{"$nulls":5},""]
[null,"",{"$nulls":5},""]
[null,"",{"$nulls":5},""]
[null,"",{"$nulls":5},""]
[null,"",{"$nulls":5},""]
[null,"",{"$nulls":5},""]
[null,{"$f":"IF(A963=\"\",\"\",A963)","v":""},{"$nulls":5},{"$f":"IF(A963=\"\",\"\",A963)","v":""}]
[null,"",{"$nulls":5},""]
[null,"",{"$nulls":5},""]
[null,"",{"$nulls":5},""]
[null,"",{"$nulls":5},""]
[null,"",{"$nulls":5},""]
[null,"",{"$nulls":5},""]
[null,"",{"$nulls":5},""]
[null,"",{"$nulls":5},""]
[null,"",{"$nulls":5},""]
[null,"",{"$nulls":5},""]
[null,"",{"$nulls":5},""]
[null,"",{"$nulls":5},""]
[null,"",{"$nulls":5},""]
[null,"",{"$nulls":5},""]
[null,"",{"$nulls":5},""]
[null,"",{"$nulls":5},""]
[null,"",{"$nulls":5},""]
[null,"",{"$nulls":5},""]
[null,"",{"$nulls":5},""]
[null,"",{"$nulls":5},""]
[null,"",{"$nulls":5},""]
[null,"",{"$nulls":5},""]
[null,"",{"$nulls":5},""]
[null,"",{"$nulls":5},""]
[null,"",{"$nulls":5},""]
[null,"",{"$nulls":5},""]
[null,"",{"$nulls":5},""]
[null,"",{"$nulls":5},""]
[null,"",{"$nulls":5},""]
[null,"",{"$nulls":5},""]
[null,"",{"$nulls":5},""]
[null,"",{"$nulls":5},""]
[null,"",{"$nulls":5},""]
[null,"",{"$nulls":5},""]
[null,"",{"$nulls":5},""]
[null,"",{"$nulls":5},""]
[null,"",{"$nulls":5},""]
[null,"",{"$nulls":5},""]
[null,"",{"$nulls":5},""]
[null,"",{"$nulls":5},""]
[null,"",{"$nulls":5},""]
[null,"",{"$nulls":5},""]
[null,"",{"$nulls":5},""]
[null,"",{"$nulls":5},""]
[null,"",{"$nulls":5},""]
[null,"",{"$nulls":5},""]
[null,"",{"$nulls":5},""]
[null,"",{"$nulls":5},""]
[null,"",{"$nulls":5},""]
[null,"",{"$nulls":5},""]
[null,"",{"$nulls":5},""]
[null,"",{"$nulls":5},""]
[null,"",{"$nulls":5},""]
[null,"",{"$nulls":5},""]
[null,"",{"$nulls":5},""]

{"sheet":"WRO Comments","index":6,"n_rows":46,"n_cols":4,"rows_kept":46,"hidden":true,"merged":[[0,3,6,3]]}
["WRO","COMMENTS",null,"1. All Comments for the WRO must be entered in the ONE box\n2. Do no worry if you comments move outside the box, they will wrap once you hit enter\n3. If you want to start on a second line, use ALT+ENTER"]
[{"$f":"WeekNights!$D$2","v":"2021-09-07"}]
[{"$f":"WeekNights!$E$2","v":"2021-09-14"},"vXcvzxcv"]
[{"$f":"WeekNights!$F$2","v":"2021-09-21"}]
[{"$f":"WeekNights!$G$2","v":"2021-09-28"}]
[{"$f":"WeekNights!$H$2","v":"2021-10-05"}]
[{"$f":"WeekNights!$I$2","v":"2021-10-12"}]
[{"$f":"WeekNights!$J$2","v":"2021-10-19"}]
[{"$f":"WeekNights!$K$2","v":"2021-10-26"}]
[{"$f":"WeekNights!$L$2","v":"2021-11-02"}]
[{"$f":"WeekNights!$M$2","v":"2021-11-09"}]
[{"$f":"WeekNights!$N$2","v":"2021-11-16"}]
[{"$f":"WeekNights!$O$2","v":"2021-11-23"}]
[{"$f":"WeekNights!$P$2","v":"2021-11-30"}]
[{"$f":"WeekNights!$Q$2","v":"2021-12-07"}]
[{"$f":"WeekNights!$R$2","v":"2021-12-14"}]
[{"$f":"WeekNights!$S$2","v":"2021-12-21"}]
[{"$f":"WeekNights!$T$2","v":"2021-12-28"}]
[{"$f":"WeekNights!$U$2","v":"2022-01-04"}]
[{"$f":"WeekNights!$V$2","v":"2022-01-11"}]
[{"$f":"WeekNights!$W$2","v":"2022-01-18"}]
[{"$f":"WeekNights!$X$2","v":"2022-01-25"}]
[{"$f":"WeekNights!$Y$2","v":"2022-02-01"}]
[{"$f":"WeekNights!$Z$2","v":"2022-02-08"}]
[{"$f":"WeekNights!$AA$2","v":"2022-02-15"}]
[{"$f":"WeekNights!$AB$2","v":"2022-02-22"}]
[{"$f":"WeekNights!$AC$2","v":"2022-03-01"}]
[{"$f":"WeekNights!$AD$2","v":"2022-03-08"}]
[{"$f":"WeekNights!$AE$2","v":"2022-03-15"}]
[{"$f":"WeekNights!$AF$2","v":"2022-03-22"}]
[{"$f":"WeekNights!$AG$2","v":"2022-03-29"}]
[{"$f":"WeekNights!$AH$2","v":"2022-04-05"}]
[{"$f":"WeekNights!$AI$2","v":"2022-04-12"}]
[{"$f":"WeekNights!$AJ$2","v":"2022-04-19"}]
[{"$f":"WeekNights!$AK$2","v":"2022-04-26"}]
[{"$f":"WeekNights!$AL$2","v":"2022-05-03"}]
[{"$f":"WeekNights!$AM$2","v":"2022-05-10"}]
[{"$f":"WeekNights!$AN$2","v":"2022-05-17"}]
[{"$f":"WeekNights!$AO$2","v":"2022-05-24"}]
[{"$f":"WeekNights!$AP$2","v":"2022-05-31"}]
[{"$f":"WeekNights!$AQ$2","v":"2022-06-07"}]
[{"$f":"WeekNights!$AR$2","v":"2022-06-14"}]
[{"$f":"WeekNights!$AS$2","v":"2022-06-21"}]
[{"$f":"WeekNights!$AT$2","v":"2022-06-28"}]
[{"$f":"WeekNights!$AU$2","v":"2022-07-05"}]
[{"$f":"WeekNights!$AV$2","v":"2022-07-12"}]

{"sheet":"WRO2","index":7,"n_rows":84,"n_cols":31,"rows_kept":84,"merged":[[0,1,0,2],[0,3,0,4],[0,20,0,21],[1,4,1,17],[2,4,2,17],[2,23,2,24],[3,8,4,13],[5,0,5,21],[7,3,7,6],[7,7,7,8],[7,9,7,10],[7,11,7,14],[7,15,7,16],[7,17,7,18],[8,3,8,6],[8,7,8,8],[8,9,8,10],[8,11,8,14],[8,15,8,16],[8,17,8,18],[9,3,9,6],[9,7,9,8],[9,9,9,10],[9,11,9,14],[9,15,9,16],[9,17,9,18],[10,3,10,6],[10,7,10,8],[10,9,10,10],[10,11,10,14],[10,15,10,18],[11,3,11,6],[11,7,11,8],[11,9,11,10],[11,11,11,14],[11,15,11,16],[11,17,11,18],[14,0,14,21],[16,0,16,3],[16,4,16,9],[16,10,16,15],[16,16,16,21],[17,0,17,3],[17,4,17,5],[17,6,17,7],[17,8,17,9],[17,10,17,11],[17,12,17,13],[17,14,17,15],[17,16,17,17],[17,18,17,19],[17,20,17,21],[18,0,21,1],[18,4,18,9],[18,10,18,15],[18,16,18,21],[19,4,19,9],[19,10,19,15],[19,16,19,21],[20,4,20,9],[20,10,20,15],[20,16,20,21],[21,4,21,9],[21,10,21,15],[21,16,21,21],[22,0,25,1],[22,4,22,9],[22,10,22,15],[22,16,22,21],[23,4,23,9],[23,10,23,15],[23,16,23,21],[24,4,24,9],[24,10,24,15],[24,16,24,21],[25,4,25,9],[25,10,25,15],[25,16,25,21],[26,0,29,1],[26,4,26,9],[26,10,26,15],[26,16,26,21],[27,4,27,9],[27,10,27,15],[27,16,27,21],[28,4,28,9],[28,10,28,15],[28,16,28,21],[29,4,29,9],[29,10,29,15],[29,16,29,21],[30,0,33,1],[30,4,30,9],[30,10,30,15],[30,16,30,21],[31,4,31,9],[31,10,31,15],[31,16,31,21],[32,4,32,9],[32,10,32,15],[32,16,32,21],[33,4,33,9],[33,10,33,15],[33,16,33,21],[34,0,37,1],[34,4,34,9],[34,10,34,15],[34,16,34,21],[35,4,35,9],[35,10,35,15],[35,16,35,21],[36,4,36,9],[36,10,36,15],[36,16,36,21],[37,4,37,9],[37,10,37,15],[37,16,37,21],[40,0,40,21],[42,0,42,1],[42,2,42,3],[42,4,42,5],[42,6,42,7],[42,8,42,13],[42,14,42,17],[42,18,42,21],[43,0,46,1],[43,2,46,3],[43,4,43,5],[43,6,43,7],[44,4,44,5],[44,6,44,7],[45,4,45,5],[45,6,45,7],[46,4,46,5],[46,6,46,7],[47,0,50,1],[47,2,50,3],[47,4,47,5],[47,6,47,7],[48,4,48,5],[48,6,48,7],[49,4,49,5],[49,6,49,7],[50,4,50,5],[50,6,50,7],[51,0,54,1],[51,2,54,3],[51,4,51,5],[51,6,51,7],[52,4,52,5],[52,6,52,7],[53,4,53,5],[53,6,53,7],[54,4,54,5],[54,6,54,7],[55,0,58,1],[55,2,58,3],[55,4,55,5],[55,6,55,7],[56,4,56,5],[56,6,56,7],[57,4,57,5],[57,6,57,7],[58,4,58,5],[58,6,58,7],[59,0,62,1],[59,2,62,3],[59,4,59,5],[59,6,59,7],[60,4,60,5],[60,6,60,7],[61,4,61,5],[61,6,61,7],[62,4,62,5],[62,6,62,7],[63,0,66,1],[63,2,66,3],[63,4,63,5],[63,6,63,7],[64,4,64,5],[64,6,64,7],[65,4,65,5],[65,6,65,7],[66,4,66,5],[66,6,66,7],[70,0,70,21],[71,0,77,21]]}
["Date:",{"$f":"TEXT(X3,\"dddd\")","v":"Tuesday"},null,{"$f":"X3","v":"2022-01-11"},{"$nulls":15},"RO No.",{"$f":"IF(LOOKUP(X3,AC1:AC45)=X3,LOOKUP(X3,AC1:AC45,AD1:AD45))","v":19},{"$nulls":7},{"$f":"WeekNights!$D$2","v":"2021-09-07"},1]
["\\",{"$nulls":3},"Weekly Routine Orders",{"$nulls":18},"Choose a Date;",{"$nulls":4},{"$f":"WeekNights!$E$2","v":"2021-09-14"},2]
[{"$nulls":4},{"$f":"'Unit Info'!$B$1","v":"364 Lancaster"},{"$nulls":18},"2022-01-11",null,null,"<---- STEP 1",null,{"$f":"WeekNights!$F$2","v":"2021-09-21"},3,"Choose a Date"]
[{"$nulls":28},{"$f":"WeekNights!$G$2","v":"2021-09-28"},4]
[{"$nulls":26},"<---- STEP 2",null,{"$f":"WeekNights!$H$2","v":"2021-10-05"},5,"Click to Update WRO"]
["EVENING SCHEDULE",{"$nulls":27},{"$f":"WeekNights!$I$2","v":"2021-10-12"},6]
[{"$nulls":28},{"$f":"WeekNights!$J$2","v":"2021-10-19"},7]
[{"$nulls":3},"Activity",{"$nulls":3},"Start",null,"Finish",null,"Activity",{"$nulls":3},"Start",null,"Finish",{"$nulls":10},{"$f":"WeekNights!$K$2","v":"2021-10-26"},8]
[{"$nulls":3}," Fall-In/Inspection",{"$nulls":3},{"$f":"'Unit Info'!B4","v":"18:30:00"},null,{"$f":"'Unit Info'!C4","v":"18:55:00"},null," Period 3",{"$nulls":3},{"$f":"'Unit Info'!B8","v":"20:25:00"},null,{"$f":"'Unit Info'!C8","v":"20:55:00"},{"$nulls":10},{"$f":"WeekNights!$L$2","v":"2021-11-02"},9]
[{"$nulls":3}," Period 1",{"$nulls":3},{"$f":"'Unit Info'!B5","v":"19:00:00"},null,{"$f":"'Unit Info'!C5","v":"19:30:00"},null," Fall-In/Announcements",{"$nulls":3},{"$f":"'Unit Info'!B9","v":"21:00:00"},null,{"$f":"'Unit Info'!C9","v":"21:20:00"},{"$nulls":10},{"$f":"WeekNights!$M$2","v":"2021-11-09"},10]
[{"$nulls":3}," Period 2",{"$nulls":3},{"$f":"'Unit Info'!B6","v":"19:35:00"},null,{"$f":"'Unit Info'!C6","v":"20:05:00"},null," Dismissal Time",{"$nulls":3},{"$f":"'Unit Info'!B10","v":"21:20:00"},{"$nulls":12},{"$f":"WeekNights!$N$2","v":"2021-11-16"},11]
[{"$nulls":3}," Break",{"$nulls":3},{"$f":"'Unit Info'!B7","v":"20:10:00"},null,{"$f":"'Unit Info'!C7","v":"20:30:00"},null," Other Duties",{"$nulls":3},{"$f":"'Unit Info'!B11","v":"21:20:00"},null,{"$f":"'Unit Info'!C11","v":"21:30:00"},{"$nulls":10},{"$f":"WeekNights!$O$2","v":"2021-11-23"},12]
[{"$nulls":28},{"$f":"WeekNights!$P$2","v":"2021-11-30"},13]
[{"$nulls":28},{"$f":"WeekNights!$Q$2","v":"2021-12-07"},14]
["EVENING TRAINING SCHEDULE",{"$nulls":27},{"$f":"WeekNights!$R$2","v":"2021-12-14"},15]
[{"$nulls":28},{"$f":"WeekNights!$S$2","v":"2021-12-21"},16]
["Period",{"$nulls":3},1,{"$nulls":5},2,{"$nulls":5},3,{"$nulls":11},{"$f":"WeekNights!$T$2","v":"2021-12-28"},17]
["Timings",{"$nulls":3},{"$f":"'Unit Info'!$B$5","v":"19:00:00"},null,"to",null,{"$f":"'Unit Info'!$C$5","v":"19:30:00"},null,{"$f":"'Unit Info'!$B$6","v":"19:35:00"},null,"to",null,{"$f":"'Unit Info'!$C$6","v":"20:05:00"},null,{"$f":"'Unit Info'!$B$8","v":"20:25:00"},null,"to",null,{"$f":"'Unit Info'!$C$8","v":"20:55:00"},{"$nulls":7},{"$f":"WeekNights!$U$2","v":"2022-01-04"},18]
[{"$f":"'Unit Info'!G2","v":"Level 1"},null,"PO/EO",null,"M103.03",{"$nulls":5},"M108.04",{"$nulls":17},{"$f":"WeekNights!$V$2","v":"2022-01-11"},19]
[null,null,"Subject",null,"Leadership",{"$nulls":5},"Drill and Ceremonial",{"$nulls":5},"TBD",{"$nulls":11},{"$f":"WeekNights!$W$2","v":"2022-01-18"},20]
[null,null,"Instructor",null,"FSgt Diaz",{"$nulls":5},"FSgt Bradford",{"$nulls":17},{"$f":"WeekNights!$X$2","v":"2022-01-25"},21]
[null,null,"Location",{"$nulls":25},{"$f":"WeekNights!$Y$2","v":"2022-02-01"},22]
[{"$f":"'Unit Info'!G3","v":"Level 2"},null,"PO/EO",null,"M207.04",{"$nulls":5},"C260.04",{"$nulls":17},{"$f":"WeekNights!$Z$2","v":"2022-02-08"},23]
[null,null,"Subject",null,"General Cadet Knowledge",{"$nulls":5},"Aerodrome Operations",{"$nulls":5},"TBD",{"$nulls":11},{"$f":"WeekNights!$AA$2","v":"2022-02-15"},24]
[null,null,"Instructor",null,"Sgt Orr",{"$nulls":5},"Sgt Vaupotic",{"$nulls":17},{"$f":"WeekNights!$AB$2","v":"2022-02-22"},25]
[null,null,"Location",{"$nulls":25},{"$f":"WeekNights!$AC$2","v":"2022-03-01"},26]
[{"$f":"'Unit Info'!G4","v":"Level 3"},null,"PO/EO",null,"M337.01",{"$nulls":5},"M337.02",{"$nulls":17},{"$f":"WeekNights!$AD$2","v":"2022-03-08"},27]
[null,null,"Subject",null,"Air Navigation",{"$nulls":5},"Air Navigation",{"$nulls":5},"TBD",{"$nulls":11},{"$f":"WeekNights!$AE$2","v":"2022-03-15"},28]
[null,null,"Instructor",null,"FSgt Al-Maghazachi",{"$nulls":5},"FSgt Filipowitz",{"$nulls":17},{"$f":"WeekNights!$AF$2","v":"2022-03-22"},29]
[null,null,"Location",{"$nulls":25},{"$f":"WeekNights!$AG$2","v":"2022-03-29"},30]
[{"$f":"'Unit Info'!G5","v":"Level 4"},null,"PO/EO",null,"M409.02",{"$nulls":5},"M409.02",{"$nulls":17},{"$f":"WeekNights!$AH$2","v":"2022-04-05"},31]
[null,null,"Subject",null,"Instructional Techniques.",{"$nulls":5},"Instructional Techniques.",{"$nulls":5},"TBD",{"$nulls":11},{"$f":"WeekNights!$AI$2","v":"2022-04-12"},32]
[null,null,"Instructor",null,"FSgt Spiridon",{"$nulls":5},"same",{"$nulls":17},{"$f":"WeekNights!$AJ$2","v":"2022-04-19"},33]
[null,null,"Location",{"$nulls":25},{"$f":"WeekNights!$AK$2","v":"2022-04-26"},34]
[{"$f":"'Unit Info'!G6","v":"Level 5"},null,"PO/EO",{"$nulls":25},{"$f":"WeekNights!$AL$2","v":"2022-05-03"},35]
[null,null,"Subject",null,"TBD",{"$nulls":5},"TBD",{"$nulls":5},"TBD",{"$nulls":11},{"$f":"WeekNights!$AM$2","v":"2022-05-10"},36]
[null,null,"Instructor",{"$nulls":25},{"$f":"WeekNights!$AN$2","v":"2022-05-17"},37]
[null,null,"Location",{"$nulls":25},{"$f":"WeekNights!$AO$2","v":"2022-05-24"},38]
[{"$nulls":28},{"$f":"WeekNights!$AP$2","v":"2022-05-31"},39]
[{"$nulls":28},{"$f":"WeekNights!$AQ$2","v":"2022-06-07"},40]
["WEEKLY ACTIVITIES",{"$nulls":27},{"$f":"WeekNights!$AR$2","v":"2022-06-14"},41]
[{"$nulls":28},{"$f":"WeekNights!$AS$2","v":"2022-06-21"},42]
["Day",null,"Date",null,"Start",null,"Finish",null,"Activity",{"$nulls":5},"Location",{"$nulls":3},"OIC",{"$nulls":9},{"$f":"WeekNights!$AT$2","v":"2022-06-28"},43]
[{"$f":"TEXT(C44,\"ddd\")","v":"Wed"},null,{"$f":"X3+1","v":"2022-01-12"},{"$nulls":25},{"$f":"WeekNights!$AU$2","v":"2022-07-05"},44]
[{"$nulls":28},{"$f":"WeekNights!$AV$2","v":"2022-07-12"},45]
[]
[]
[{"$f":"TEXT(C48,\"ddd\")","v":"Thu"},null,{"$f":"C44+1","v":"2022-01-13"}]
[]
[]
[]
[{"$f":"TEXT(C52,\"ddd\")","v":"Fri"},null,{"$f":"C48+1","v":"2022-01-14"}]
[]
[]
[]
[{"$f":"TEXT(C56,\"ddd\")","v":"Sat"},null,{"$f":"C52+1","v":"2022-01-15"}]
[]
[]
[]
[{"$f":"TEXT(C60,\"ddd\")","v":"Sun"},null,{"$f":"C56+1","v":"2022-01-16"}]
[]
[]
[]
[{"$f":"TEXT(C64,\"ddd\")","v":"Mon"},null,{"$f":"C60+1","v":"2022-01-17"}]
[]
[]
[]
[]
[]
[]
["NOTES"]
{"$rows_empty":10}
[{"$f":"'Unit Info'!$B$17","v":"Craig Mackenzie-Haines"},{"$nulls":17},{"$f":"'Unit Info'!$B$21","v":"Matthieu St-Jean"}]
[{"$f":"'Unit Info'!$B$18","v":"Captain"},{"$nulls":17},{"$f":"'Unit Info'!$B$22","v":"Captain"}]
["Commanding Officer",{"$nulls":17},"Training Officer "]

{"sheet":"EO Validation","index":8,"n_rows":157,"n_cols":29,"rows_kept":157}
[null,null,"LEVEL 1 PROGRAM - 100.00",null,{"$f":"SUM(E57:E126)","v":14},{"$nulls":3},"LEVEL 2 PROGRAM - 200.00",null,{"$f":"SUM(K50:K126)","v":17},{"$nulls":3},"LEVEL 3 PROGRAM - 300.00",null,{"$f":"SUM(Q47:Q126)","v":3},{"$nulls":3},"LEVEL 4 PROGRAM - 400.00",null,{"$f":"SUM(W47:W126)","v":6},{"$nulls":3},"LEVEL 5 PROGRAM - 500.00",null,{"$f":"SUM(AC19:AC126)","v":0}]
["Sort Serial","Serial","Description","# Classes","# Assigned",null,"Sort Serial","Serial","Description","# Classes","# Assigned",null,"Sort Serial","Serial","Description","# Classes","# Assigned",null,"Sort Serial","Serial","Description","# Classes","# Assigned",null,"Sort Serial","Serial","Description","# Classes","# Assigned"]
["100.1.01","M100.01","What We Expect From You as a Cadet",2,{"$f":"SUM(COUNTIF(WeekNights!$D$3:$AV$14,'EO Validation'!B3),COUNTIF('Weekend Training'!$D$4:$Y$15,'EO Validation'!B3))","v":2},null,"201.1.01","M201.01","Participate in Citizenship Activities",3,{"$f":"SUM(COUNTIF(WeekNights!$D$15:$AV$26,'EO Validation'!H3),COUNTIF('Weekend Training'!$D$15:$Y$26,'EO Validation'!H3))","v":0},null,"301.1.01","M301.01","Participate in Citizenship Activities",3,{"$f":"SUM(COUNTIF(WeekNights!$D$27:$AV$38,'EO Validation'!N3),COUNTIF('Weekend Training'!$D$27:$Y$38,'EO Validation'!N3))","v":0},null,"400.1.01","M400.01","Your Responsability as a Leader to Influence Positive Social Relations",2,{"$f":"SUM(COUNTIF(WeekNights!$D$39:$AV$50,'EO Validation'!T3),COUNTIF('Weekend Training'!$D$39:$Y$51,'EO Validation'!T3))","v":2},null,"501.1.01","M501.01","Participate in Citizenship Activities",3,{"$f":"SUM(COUNTIF(WeekNights!$D$39:$AV$50,'EO Validation'!Z3),COUNTIF('Weekend Training'!$D$39:$Y$51,'EO Validation'!Z3))","v":0}]
["100.1.02","M100.02","What Can Happen When Behaviours Exceed or Do Not Meet Expectations",1,{"$f":"SUM(COUNTIF(WeekNights!$D$3:$AV$14,'EO Validation'!B4),COUNTIF('Weekend Training'!$D$4:$Y$15,'EO Validation'!B4))","v":1},null,"202.1.01","M202.01","Perform Community Service",9,{"$f":"SUM(COUNTIF(WeekNights!$D$15:$AV$26,'EO Validation'!H4),COUNTIF('Weekend Training'!$D$15:$Y$26,'EO Validation'!H4))","v":0},null,"302.1.01","M302.01","Perform Community Service",9,{"$f":"SUM(COUNTIF(WeekNights!$D$27:$AV$38,'EO Validation'!N4),COUNTIF('Weekend Training'!$D$27:$Y$38,'EO Validation'!N4))","v":0},null,"400.1.02","M400.02","What Complaints and Consent are and how to Practice Risk Reduction",2,{"$f":"SUM(COUNTIF(WeekNights!$D$39:$AV$50,'EO Validation'!T4),COUNTIF('Weekend Training'!$D$39:$Y$51,'EO Validation'!T4))","v":2},null,"502.1.01","M502.01","Perform 45 Hours of Individual Community Service",3,{"$f":"SUM(COUNTIF(WeekNights!$D$39:$AV$50,'EO Validation'!Z4),COUNTIF('Weekend Training'!$D$39:$Y$51,'EO Validation'!Z4))","v":0}]
["100.1.03","M100.03","What Harassment, Criminal Offences and Child Abuse Are and Where You Can Go for Help",1,{"$f":"SUM(COUNTIF(WeekNights!$D$3:$AV$14,'EO Validation'!B5),COUNTIF('Weekend Training'!$D$4:$Y$15,'EO Validation'!B5))","v":1},null,"203.1.01","M203.01","Discuss Leadership Within a Peer Setting",1,{"$f":"SUM(COUNTIF(WeekNights!$D$15:$AV$26,'EO Validation'!H5),COUNTIF('Weekend Training'!$D$15:$Y$26,'EO Validation'!H5))","v":1},null,"303.1.01","M303.01","Define the Role of a Team Leader",2,{"$f":"SUM(COUNTIF(WeekNights!$D$27:$AV$38,'EO Validation'!N5),COUNTIF('Weekend Training'!$D$27:$Y$38,'EO Validation'!N5))","v":2},null,"400.1.03","M400.03","Your responsibility as a leader to help manage conflict",2,{"$f":"SUM(COUNTIF(WeekNights!$D$39:$AV$50,'EO Validation'!T5),COUNTIF('Weekend Training'!$D$39:$Y$51,'EO Validation'!T5))","v":2},null,"502.1.01","M502.01","Perform Community Service",9,{"$f":"SUM(COUNTIF(WeekNights!$D$39:$AV$50,'EO Validation'!Z5),COUNTIF('Weekend Training'!$D$39:$Y$51,'EO Validation'!Z5))","v":0}]
["100.1.04","M100.04","What Conflict Is and How You Can Deal With It",2,{"$f":"SUM(COUNTIF(WeekNights!$D$3:$AV$14,'EO Validation'!B6),COUNTIF('Weekend Training'!$D$4:$Y$15,'EO Validation'!B6))","v":2},null,"203.1.02","M203.02","Discuss the Principles of Leadership",1,{"$f":"SUM(COUNTIF(WeekNights!$D$15:$AV$26,'EO Validation'!H6),COUNTIF('Weekend Training'!$D$15:$Y$26,'EO Validation'!H6))","v":1},null,"303.1.02","M303.02","Participate in a Mentoring Relationship",1,{"$f":"SUM(COUNTIF(WeekNights!$D$27:$AV$38,'EO Validation'!N6),COUNTIF('Weekend Training'!$D$27:$Y$38,'EO Validation'!N6))","v":1},null,"401.1.01","M401.01","Participate in Citizenship Activities",3,{"$f":"SUM(COUNTIF(WeekNights!$D$39:$AV$50,'EO Validation'!T6),COUNTIF('Weekend Training'!$D$39:$Y$51,'EO Validation'!T6))","v":0},null,"503.1.01","M503.01","Create a Proposal",1,{"$f":"SUM(COUNTIF(WeekNights!$D$39:$AV$50,'EO Validation'!Z6),COUNTIF('Weekend Training'!$D$39:$Y$51,'EO Validation'!Z6))","v":0}]
["101.1.01","M101.01","Perform Individual Acts that better the Community",1,{"$f":"SUM(COUNTIF(WeekNights!$D$3:$AV$14,'EO Validation'!B7),COUNTIF('Weekend Training'!$D$4:$Y$15,'EO Validation'!B7))","v":0},null,"203.1.03","M203.03","Discuss Effective Communication in a Peer Setting",1,{"$f":"SUM(COUNTIF(WeekNights!$D$15:$AV$26,'EO Validation'!H7),COUNTIF('Weekend Training'!$D$15:$Y$26,'EO Validation'!H7))","v":1},null,"303.1.03","M303.03","Practice Self-Assessment",1,{"$f":"SUM(COUNTIF(WeekNights!$D$27:$AV$38,'EO Validation'!N7),COUNTIF('Weekend Training'!$D$27:$Y$38,'EO Validation'!N7))","v":1},null,"402.1.01","M402.01","Perform Community Service",9,{"$f":"SUM(COUNTIF(WeekNights!$D$39:$AV$50,'EO Validation'!T7),COUNTIF('Weekend Training'!$D$39:$Y$51,'EO Validation'!T7))","v":0},null,"503.1.02","M503.02","Prepare an Exercise",3,{"$f":"SUM(COUNTIF(WeekNights!$D$39:$AV$50,'EO Validation'!Z7),COUNTIF('Weekend Training'!$D$39:$Y$51,'EO Validation'!Z7))","v":0}]
["102.1.01","M102.01","Perform Community Service",9,{"$f":"SUM(COUNTIF(WeekNights!$D$3:$AV$14,'EO Validation'!B8),COUNTIF('Weekend Training'!$D$4:$Y$15,'EO Validation'!B8))","v":0},null,"203.1.04","M203.04","Demonstrate Positive Group Dynamics",2,{"$f":"SUM(COUNTIF(WeekNights!$D$15:$AV$26,'EO Validation'!H8),COUNTIF('Weekend Training'!$D$15:$Y$26,'EO Validation'!H8))","v":2},null,"303.1.04","M303.04","Communicate as a Team Leader",2,{"$f":"SUM(COUNTIF(WeekNights!$D$27:$AV$38,'EO Validation'!N8),COUNTIF('Weekend Training'!$D$27:$Y$38,'EO Validation'!N8))","v":2},null,"403.1.01","M403.01","Describe Needs and Expectations of Team Members",1,{"$f":"SUM(COUNTIF(WeekNights!$D$39:$AV$50,'EO Validation'!T8),COUNTIF('Weekend Training'!$D$39:$Y$51,'EO Validation'!T8))","v":1},null,"503.1.03","M503.03","Conduct an Exercise",1,{"$f":"SUM(COUNTIF(WeekNights!$D$39:$AV$50,'EO Validation'!Z8),COUNTIF('Weekend Training'!$D$39:$Y$51,'EO Validation'!Z8))","v":0}]
["103.1.01","M103.01","Identify the Responsibilities of a Follower in a Team",1,{"$f":"SUM(COUNTIF(WeekNights!$D$3:$AV$14,'EO Validation'!B9),COUNTIF('Weekend Training'!$D$4:$Y$15,'EO Validation'!B9))","v":1},null,"203.1.05","M203.05","Discuss Influence Behaviours",1,{"$f":"SUM(COUNTIF(WeekNights!$D$15:$AV$26,'EO Validation'!H9),COUNTIF('Weekend Training'!$D$15:$Y$26,'EO Validation'!H9))","v":1},null,"303.1.05","M303.05","Supervise Cadets",2,{"$f":"SUM(COUNTIF(WeekNights!$D$27:$AV$38,'EO Validation'!N9),COUNTIF('Weekend Training'!$D$27:$Y$38,'EO Validation'!N9))","v":2},null,"403.1.02","M403.02","Select a Leadership Approach",2,{"$f":"SUM(COUNTIF(WeekNights!$D$39:$AV$50,'EO Validation'!T9),COUNTIF('Weekend Training'!$D$39:$Y$51,'EO Validation'!T9))","v":2},null,"503.1.04","M503.04","Conclude an Exercise",1,{"$f":"SUM(COUNTIF(WeekNights!$D$39:$AV$50,'EO Validation'!Z9),COUNTIF('Weekend Training'!$D$39:$Y$51,'EO Validation'!Z9))","v":0}]
["103.1.02","M103.02","Map Personal Goals for the Training Year",1,{"$f":"SUM(COUNTIF(WeekNights!$D$3:$AV$14,'EO Validation'!B10),COUNTIF('Weekend Training'!$D$4:$Y$15,'EO Validation'!B10))","v":1},null,"203.1.06","M203.06","Employ Problem Solving",2,{"$f":"SUM(COUNTIF(WeekNights!$D$15:$AV$26,'EO Validation'!H10),COUNTIF('Weekend Training'!$D$15:$Y$26,'EO Validation'!H10))","v":2},null,"303.1.06","M303.06","Solve Problems",2,{"$f":"SUM(COUNTIF(WeekNights!$D$27:$AV$38,'EO Validation'!N10),COUNTIF('Weekend Training'!$D$27:$Y$38,'EO Validation'!N10))","v":2},null,"403.1.03","M403.03","Motivate Team Members",2,{"$f":"SUM(COUNTIF(WeekNights!$D$39:$AV$50,'EO Validation'!T10),COUNTIF('Weekend Training'!$D$39:$Y$51,'EO Validation'!T10))","v":2},null,"504.1.01","M504.01","Participate in the Cadet Fitness Assessment and Identify Strategies for Improving Personal Physical Fitness",6,{"$f":"SUM(COUNTIF(WeekNights!$D$39:$AV$50,'EO Validation'!Z10),COUNTIF('Weekend Training'!$D$39:$Y$51,'EO Validation'!Z10))","v":0}]
["103.1.03","M103.03","Participate in Teambuilding Activities",2,{"$f":"SUM(COUNTIF(WeekNights!$D$3:$AV$14,'EO Validation'!B11),COUNTIF('Weekend Training'!$D$4:$Y$15,'EO Validation'!B11))","v":2},null,"203.1.07","M203.07","Discuss Personal Integrity as a Quality of Leadership",1,{"$f":"SUM(COUNTIF(WeekNights!$D$15:$AV$26,'EO Validation'!H11),COUNTIF('Weekend Training'!$D$15:$Y$26,'EO Validation'!H11))","v":1},null,"303.1.07","M303.07","Lead Cadets Through a Leadership Assignment",2,{"$f":"SUM(COUNTIF(WeekNights!$D$27:$AV$38,'EO Validation'!N11),COUNTIF('Weekend Training'!$D$27:$Y$38,'EO Validation'!N11))","v":2},null,"403.1.04","M403.04","Provide Feedback to Team Members",2,{"$f":"SUM(COUNTIF(WeekNights!$D$39:$AV$50,'EO Validation'!T11),COUNTIF('Weekend Training'!$D$39:$Y$51,'EO Validation'!T11))","v":2},null,"504.1.01","M504.01","Participate in 60 Minutes of Moderate- to Vigorous-Intensity Physical Activity (MVPA) and Track Participation in Physical Activities",3,{"$f":"SUM(COUNTIF(WeekNights!$D$39:$AV$50,'EO Validation'!Z11),COUNTIF('Weekend Training'!$D$39:$Y$51,'EO Validation'!Z11))","v":0}]
["104.1.01","M104.01","Describe Physical Activity and Sedentary Behaviour Guidelines",1,{"$f":"SUM(COUNTIF(WeekNights!$D$3:$AV$14,'EO Validation'!B12),COUNTIF('Weekend Training'!$D$4:$Y$15,'EO Validation'!B12))","v":0},null,"203.1.08","M203.08","Participate in Team-Building Activities Record Entries in a Reflective Journal",1,{"$f":"SUM(COUNTIF(WeekNights!$D$15:$AV$26,'EO Validation'!H12),COUNTIF('Weekend Training'!$D$15:$Y$26,'EO Validation'!H12))","v":1},null,"304.1.01","M304.01","Participate in 60 Minutes of Moderate- to Vigorous-Intensity Physical Activity (MVPA) and Track Participation in Physical Activities",3,{"$f":"SUM(COUNTIF(WeekNights!$D$27:$AV$38,'EO Validation'!N12),COUNTIF('Weekend Training'!$D$27:$Y$38,'EO Validation'!N12))","v":0},null,"403.1.05","M403.05","Participate in a Mentoring Relationship",2,{"$f":"SUM(COUNTIF(WeekNights!$D$39:$AV$50,'EO Validation'!T12),COUNTIF('Weekend Training'!$D$39:$Y$51,'EO Validation'!T12))","v":2},null,"504.1.02","M504.02","Identify Strategies to Improve Participation in Physical Activities and Participate in the Cadet Fitness Assessment (CFA)",3,{"$f":"SUM(COUNTIF(WeekNights!$D$39:$AV$50,'EO Validation'!Z12),COUNTIF('Weekend Training'!$D$39:$Y$51,'EO Validation'!Z12))","v":0}]
["104.1.02","M104.02","Track Participation in Physical Activities",1,{"$f":"SUM(COUNTIF(WeekNights!$D$3:$AV$14,'EO Validation'!B13),COUNTIF('Weekend Training'!$D$4:$Y$15,'EO Validation'!B13))","v":0},null,"204.1.01","M204.01","Participate in 60 Minutes of Moderate- to Vigorous-Intensity Physical Activity (MVPA) and Track Participation in Physical Activities",3,{"$f":"SUM(COUNTIF(WeekNights!$D$15:$AV$26,'EO Validation'!H13),COUNTIF('Weekend Training'!$D$15:$Y$26,'EO Validation'!H13))","v":0},null,"304.1.02","M304.02","Identify Strategies to Improve Participation in Physical Activities and Participate in the Cadet Fitness Assessment (CFA)",3,{"$f":"SUM(COUNTIF(WeekNights!$D$27:$AV$38,'EO Validation'!N13),COUNTIF('Weekend Training'!$D$27:$Y$38,'EO Validation'!N13))","v":0},null,"403.1.06","M403.06","Act as a Team Leader During a Leadership Appointment",1,{"$f":"SUM(COUNTIF(WeekNights!$D$39:$AV$50,'EO Validation'!T13),COUNTIF('Weekend Training'!$D$39:$Y$51,'EO Validation'!T13))","v":1},null,"504.1.03","M504.03","Participate in the CFA and Identify Strategies for Improving Personal Physical Fitness",3,{"$f":"SUM(COUNTIF(WeekNights!$D$39:$AV$50,'EO Validation'!Z13),COUNTIF('Weekend Training'!$D$39:$Y$51,'EO Validation'!Z13))","v":0}]
["104.1.03","M104.03","Identify Strategies to Improve Participation in Physical Activities",1,{"$f":"SUM(COUNTIF(WeekNights!$D$3:$AV$14,'EO Validation'!B14),COUNTIF('Weekend Training'!$D$4:$Y$15,'EO Validation'!B14))","v":0},null,"204.1.02","M204.02","Identify Strategies to Improve Participation in Physical Activities and Participate in the Cadet Fitness Assessment (CFA)",3,{"$f":"SUM(COUNTIF(WeekNights!$D$15:$AV$26,'EO Validation'!H14),COUNTIF('Weekend Training'!$D$15:$Y$26,'EO Validation'!H14))","v":0},null,"304.1.03","M304.03","Participate in the CFA and Identify Strategies for Improving Personal Physical Fitness",3,{"$f":"SUM(COUNTIF(WeekNights!$D$27:$AV$38,'EO Validation'!N14),COUNTIF('Weekend Training'!$D$27:$Y$38,'EO Validation'!N14))","v":0},null,"404.1.01","M404.01","Participate in 60 Minutes of Moderate- to Vigorous-Intensity Physical Activity (MVPA) and Track Participation in Physical Activities",3,{"$f":"SUM(COUNTIF(WeekNights!$D$39:$AV$50,'EO Validation'!T14),COUNTIF('Weekend Training'!$D$39:$Y$51,'EO Validation'!T14))","v":0},null,"505.1.01","M505.01","Participate in Physical Activities",9,{"$f":"SUM(COUNTIF(WeekNights!$D$39:$AV$50,'EO Validation'!Z14),COUNTIF('Weekend Training'!$D$39:$Y$51,'EO Validation'!Z14))","v":0}]
["105.1.01","M105.01","Participate in Physical Activities",9,{"$f":"SUM(COUNTIF(WeekNights!$D$3:$AV$14,'EO Validation'!B15),COUNTIF('Weekend Training'!$D$4:$Y$15,'EO Validation'!B15))","v":0},null,"204.1.03","M204.03","Participate in the CFA and Identify Strategies for Improving Personal Physical Fitness",3,{"$f":"SUM(COUNTIF(WeekNights!$D$15:$AV$26,'EO Validation'!H15),COUNTIF('Weekend Training'!$D$15:$Y$26,'EO Validation'!H15))","v":0},null,"305.1.01","M305.01","Participate in Physical Activities",9,{"$f":"SUM(COUNTIF(WeekNights!$D$27:$AV$38,'EO Validation'!N15),COUNTIF('Weekend Training'!$D$27:$Y$38,'EO Validation'!N15))","v":0},null,"404.1.02","M404.02","Identify Strategies to Improve Participation in Physical Activities and Participate in the Cadet Fitness Assessment (CFA)",3,{"$f":"SUM(COUNTIF(WeekNights!$D$39:$AV$50,'EO Validation'!T15),COUNTIF('Weekend Training'!$D$39:$Y$51,'EO Validation'!T15))","v":0},null,"507.1.01","M507.01","Develop a Personalized Schedule",3,{"$f":"SUM(COUNTIF(WeekNights!$D$39:$AV$50,'EO Validation'!Z15),COUNTIF('Weekend Training'!$D$39:$Y$51,'EO Validation'!Z15))","v":0}]
["106.1.01","M106.01","Identify the Parts and Characteristics of the Daisy 853C Air Rifle",1,{"$f":"SUM(COUNTIF(WeekNights!$D$3:$AV$14,'EO Validation'!B16),COUNTIF('Weekend Training'!$D$4:$Y$15,'EO Validation'!B16))","v":1},null,"205.1.01","M205.01","Participate in Physical Activities",9,{"$f":"SUM(COUNTIF(WeekNights!$D$15:$AV$26,'EO Validation'!H16),COUNTIF('Weekend Training'!$D$15:$Y$26,'EO Validation'!H16))","v":0},null,"306.1.01","M306.01","Participate in a Recreational Marksmanship Activity",3,{"$f":"SUM(COUNTIF(WeekNights!$D$27:$AV$38,'EO Validation'!N16),COUNTIF('Weekend Training'!$D$27:$Y$38,'EO Validation'!N16))","v":0},null,"404.1.03","M404.03","Participate in the CFA and Identify Strategies for Improving Personal Physical Fitness",3,{"$f":"SUM(COUNTIF(WeekNights!$D$39:$AV$50,'EO Validation'!T16),COUNTIF('Weekend Training'!$D$39:$Y$51,'EO Validation'!T16))","v":0},null,"513.1.01","M513","Attend Workshops (X3)",null,{"$f":"SUM(COUNTIF(WeekNights!$D$39:$AV$50,'EO Validation'!Z16),COUNTIF('Weekend Training'!$D$39:$Y$51,'EO Validation'!Z16))","v":0}]
["106.1.02","M106.02","Carry out Safety Precautions on the Cadet Air Rifle",1,{"$f":"SUM(COUNTIF(WeekNights!$D$3:$AV$14,'EO Validation'!B17),COUNTIF('Weekend Training'!$D$4:$Y$15,'EO Validation'!B17))","v":1},null,"206.1.01","M206.01","Participate in a Recreational Marksmanship Activity",3,{"$f":"SUM(COUNTIF(WeekNights!$D$15:$AV$26,'EO Validation'!H17),COUNTIF('Weekend Training'!$D$15:$Y$26,'EO Validation'!H17))","v":0},null,"307.1.01","M307.01","Identify Proficiency Level Three Training Opportunities",1,{"$f":"SUM(COUNTIF(WeekNights!$D$27:$AV$38,'EO Validation'!N17),COUNTIF('Weekend Training'!$D$27:$Y$38,'EO Validation'!N17))","v":1},null,"405.1.01","M405.01","Participate in Physical Activities",9,{"$f":"SUM(COUNTIF(WeekNights!$D$39:$AV$50,'EO Validation'!T17),COUNTIF('Weekend Training'!$D$39:$Y$51,'EO Validation'!T17))","v":0},null,"514.1.01","M514","Pursue Individual Learning",null,{"$f":"SUM(COUNTIF(WeekNights!$D$39:$AV$50,'EO Validation'!Z17),COUNTIF('Weekend Training'!$D$39:$Y$51,'EO Validation'!Z17))","v":0}]
["106.1.03","M106.03","Apply Basic Marksmanship Techniques",2,{"$f":"SUM(COUNTIF(WeekNights!$D$3:$AV$14,'EO Validation'!B18),COUNTIF('Weekend Training'!$D$4:$Y$15,'EO Validation'!B18))","v":2},null,"207.1.01","M207.01","Identify Proficiency Level Two Training Opportunities",1,{"$f":"SUM(COUNTIF(WeekNights!$D$15:$AV$26,'EO Validation'!H18),COUNTIF('Weekend Training'!$D$15:$Y$26,'EO Validation'!H18))","v":1},null,"307.1.02","M307.02","Identify Year Three CSTC Training Opportunities",1,{"$f":"SUM(COUNTIF(WeekNights!$D$27:$AV$38,'EO Validation'!N18),COUNTIF('Weekend Training'!$D$27:$Y$38,'EO Validation'!N18))","v":1},null,"406.1.01","M406.01","Participate in a Recreational Marksmanship Activity",3,{"$f":"SUM(COUNTIF(WeekNights!$D$39:$AV$50,'EO Validation'!T18),COUNTIF('Weekend Training'!$D$39:$Y$51,'EO Validation'!T18))","v":0},null,"520.1.01","M520.01","CAF Familiarization",6,{"$f":"SUM(COUNTIF(WeekNights!$D$39:$AV$50,'EO Validation'!Z18),COUNTIF('Weekend Training'!$D$39:$Y$51,'EO Validation'!Z18))","v":0}]
["106.1.04","M106.04","Follow Rules and Commands on an Air Rifle Range",1,{"$f":"SUM(COUNTIF(WeekNights!$D$3:$AV$14,'EO Validation'!B19),COUNTIF('Weekend Training'!$D$4:$Y$15,'EO Validation'!B19))","v":1},null,"207.1.02","M207.02","Recognize Historical Aspects of the Royal Canadian Air Cadets (RCAC)",3,{"$f":"SUM(COUNTIF(WeekNights!$D$15:$AV$26,'EO Validation'!H19),COUNTIF('Weekend Training'!$D$15:$Y$26,'EO Validation'!H19))","v":1},null,"307.1.03","M307.03","Recognize the Partnership Between the Air Cadet League of Canada and the Department of National Defence",1,{"$f":"SUM(COUNTIF(WeekNights!$D$27:$AV$38,'EO Validation'!N19),COUNTIF('Weekend Training'!$D$27:$Y$38,'EO Validation'!N19))","v":1},null,"407.1.01","M407.01","Discuss Proficiency Level Four Training Opportunities",1,{"$f":"SUM(COUNTIF(WeekNights!$D$39:$AV$50,'EO Validation'!T19),COUNTIF('Weekend Training'!$D$39:$Y$51,'EO Validation'!T19))","v":1},null,"501.2.01","C501.01","Reflect Upon What it Means to be a Good Canadian Citizen",3,{"$f":"SUM(COUNTIF(WeekNights!$D$51:$AV$62,'EO Validation'!Z19),COUNTIF('Weekend Training'!$D$52:$Y$63,'EO Validation'!Z19))","v":0}]
["106.1.05","M106.05","Participate in Marksmanship Familiarization Using the Cadet Air Rifle",3,{"$f":"SUM(COUNTIF(WeekNights!$D$3:$AV$14,'EO Validation'!B20),COUNTIF('Weekend Training'!$D$4:$Y$15,'EO Validation'!B20))","v":0},null,"207.1.03","M207.03","Recognize the Role and Responsibilities of the Local Sponsor",1,{"$f":"SUM(COUNTIF(WeekNights!$D$15:$AV$26,'EO Validation'!H20),COUNTIF('Weekend Training'!$D$15:$Y$26,'EO Validation'!H20))","v":1},null,"308.1.01","M308.01","Prepare a Squad for Parade",3,{"$f":"SUM(COUNTIF(WeekNights!$D$27:$AV$38,'EO Validation'!N20),COUNTIF('Weekend Training'!$D$27:$Y$38,'EO Validation'!N20))","v":2},null,"407.1.02","M407.02","Identify Year Four CSTC Training Opportunities",1,{"$f":"SUM(COUNTIF(WeekNights!$D$39:$AV$50,'EO Validation'!T20),COUNTIF('Weekend Training'!$D$39:$Y$51,'EO Validation'!T20))","v":1},null,"501.2.01","C501.01","Participate in Citizenship Activities",18,{"$f":"SUM(COUNTIF(WeekNights!$D$51:$AV$62,'EO Validation'!Z20),COUNTIF('Weekend Training'!$D$52:$Y$63,'EO Validation'!Z20))","v":0}]
["107.1.01","M107.01","Discuss Year One Training",1,{"$f":"SUM(COUNTIF(WeekNights!$D$3:$AV$14,'EO Validation'!B21),COUNTIF('Weekend Training'!$D$4:$Y$15,'EO Validation'!B21))","v":1},null,"207.1.04","M207.04","Identify Year Two CSTC Training Opportunities",3,{"$f":"SUM(COUNTIF(WeekNights!$D$15:$AV$26,'EO Validation'!H21),COUNTIF('Weekend Training'!$D$15:$Y$26,'EO Validation'!H21))","v":1},null,"308.1.02","M308.02","Deliver Words of Command",1,{"$f":"SUM(COUNTIF(WeekNights!$D$27:$AV$38,'EO Validation'!N21),COUNTIF('Weekend Training'!$D$27:$Y$38,'EO Validation'!N21))","v":1},null,"408.1.01","M408.01","Discuss Commanding a Flight on Parade",1,{"$f":"SUM(COUNTIF(WeekNights!$D$39:$AV$50,'EO Validation'!T21),COUNTIF('Weekend Training'!$D$39:$Y$51,'EO Validation'!T21))","v":1},null,"501.2.02","C501.02","Reflect Upon Individual Global Citizenship",3,{"$f":"SUM(COUNTIF(WeekNights!$D$51:$AV$62,'EO Validation'!Z21),COUNTIF('Weekend Training'!$D$52:$Y$63,'EO Validation'!Z21))","v":0}]
["107.1.02","M107.02","Identify Air Cadet and RCAF Officer Ranks",1,{"$f":"SUM(COUNTIF(WeekNights!$D$3:$AV$14,'EO Validation'!B22),COUNTIF('Weekend Training'!$D$4:$Y$15,'EO Validation'!B22))","v":1},null,"208.1.01","M208.01","Execute Left and Right Turns on the March",2,{"$f":"SUM(COUNTIF(WeekNights!$D$15:$AV$26,'EO Validation'!H22),COUNTIF('Weekend Training'!$D$15:$Y$26,'EO Validation'!H22))","v":2},null,"309.1.01","M309.01","Explain Principles of Instruction",2,{"$f":"SUM(COUNTIF(WeekNights!$D$27:$AV$38,'EO Validation'!N22),COUNTIF('Weekend Training'!$D$27:$Y$38,'EO Validation'!N22))","v":2},null,"408.1.02","M408.02","Identify Parade Sequence",1,{"$f":"SUM(COUNTIF(WeekNights!$D$39:$AV$50,'EO Validation'!T22),COUNTIF('Weekend Training'!$D$39:$Y$51,'EO Validation'!T22))","v":1},null,"501.2.03","C501.03","Analyze a Global Issue",3,{"$f":"SUM(COUNTIF(WeekNights!$D$51:$AV$62,'EO Validation'!Z22),COUNTIF('Weekend Training'!$D$52:$Y$63,'EO Validation'!Z22))","v":0}]
["107.1.03","M107.03","Observe Rules and Procedures for the Paying of Compliments",1,{"$f":"SUM(COUNTIF(WeekNights!$D$3:$AV$14,'EO Validation'!B23),COUNTIF('Weekend Training'!$D$4:$Y$15,'EO Validation'!B23))","v":1},null,"208.1.02","M208.02","Form Single File From the Halt",1,{"$f":"SUM(COUNTIF(WeekNights!$D$15:$AV$26,'EO Validation'!H23),COUNTIF('Weekend Training'!$D$15:$Y$26,'EO Validation'!H23))","v":1},null,"309.1.02","M309.02","Identify Methods of Instruction",2,{"$f":"SUM(COUNTIF(WeekNights!$D$27:$AV$38,'EO Validation'!N23),COUNTIF('Weekend Training'!$D$27:$Y$38,'EO Validation'!N23))","v":2},null,"408.1.03","M408.03","Command a Squad",1,{"$f":"SUM(COUNTIF(WeekNights!$D$39:$AV$50,'EO Validation'!T23),COUNTIF('Weekend Training'!$D$39:$Y$51,'EO Validation'!T23))","v":1},null,"502.2.01","C502.01","Perform Community Service 18",18,{"$f":"SUM(COUNTIF(WeekNights!$D$51:$AV$62,'EO Validation'!Z23),COUNTIF('Weekend Training'!$D$52:$Y$63,'EO Validation'!Z23))","v":0}]
["107.1.04","M107.04","State the Aim and Motto of the Air Cadet Program",1,{"$f":"SUM(COUNTIF(WeekNights!$D$3:$AV$14,'EO Validation'!B24),COUNTIF('Weekend Training'!$D$4:$Y$15,'EO Validation'!B24))","v":1},null,"220.1.01","M220.01","CAF Familiarization",6,{"$f":"SUM(COUNTIF(WeekNights!$D$15:$AV$26,'EO Validation'!H24),COUNTIF('Weekend Training'!$D$15:$Y$26,'EO Validation'!H24))","v":0},null,"309.1.03","M309.03","Describe Effective Speaking Techniques",1,{"$f":"SUM(COUNTIF(WeekNights!$D$27:$AV$38,'EO Validation'!N24),COUNTIF('Weekend Training'!$D$27:$Y$38,'EO Validation'!N24))","v":1},null,"408.1.04","M408.04","Inspect a Cadet on Parade",1,{"$f":"SUM(COUNTIF(WeekNights!$D$39:$AV$50,'EO Validation'!T24),COUNTIF('Weekend Training'!$D$39:$Y$51,'EO Validation'!T24))","v":2},null,"503.2.01","C503.01","Examine Meeting Procedures",3,{"$f":"SUM(COUNTIF(WeekNights!$D$51:$AV$62,'EO Validation'!Z24),COUNTIF('Weekend Training'!$D$52:$Y$63,'EO Validation'!Z24))","v":0}]
["107.1.05","M107.05","Wear the Air Cadet Uniform",2,{"$f":"SUM(COUNTIF(WeekNights!$D$3:$AV$14,'EO Validation'!B25),COUNTIF('Weekend Training'!$D$4:$Y$15,'EO Validation'!B25))","v":2},null,"230.1.01","M230.01","Discuss Aircraft Flown During WWI and WWII",1,{"$f":"SUM(COUNTIF(WeekNights!$D$15:$AV$26,'EO Validation'!H25),COUNTIF('Weekend Training'!$D$15:$Y$26,'EO Validation'!H25))","v":1},null,"309.1.04","M309.04","Describe Questioning Techniques",1,{"$f":"SUM(COUNTIF(WeekNights!$D$27:$AV$38,'EO Validation'!N25),COUNTIF('Weekend Training'!$D$27:$Y$38,'EO Validation'!N25))","v":1},null,"409.1.01","M409.01","Identify Methods of Instruction",2,{"$f":"SUM(COUNTIF(WeekNights!$D$39:$AV$50,'EO Validation'!T25),COUNTIF('Weekend Training'!$D$39:$Y$51,'EO Validation'!T25))","v":2},null,"504.2.01","C504.01","Reflect Upon Personal Fitness and Healthy Living",3,{"$f":"SUM(COUNTIF(WeekNights!$D$51:$AV$62,'EO Validation'!Z25),COUNTIF('Weekend Training'!$D$52:$Y$63,'EO Validation'!Z25))","v":0}]
["107.1.06","M107.06","Discuss Summer Training Opportunities",1,{"$f":"SUM(COUNTIF(WeekNights!$D$3:$AV$14,'EO Validation'!B26),COUNTIF('Weekend Training'!$D$4:$Y$15,'EO Validation'!B26))","v":1},null,"230.1.02","M230.02","Discuss Significant Events in 20th Century Canadian Military History",1,{"$f":"SUM(COUNTIF(WeekNights!$D$15:$AV$26,'EO Validation'!H26),COUNTIF('Weekend Training'!$D$15:$Y$26,'EO Validation'!H26))","v":1},null,"309.1.05","M309.05","Select Appropriate Instructional Aids",2,{"$f":"SUM(COUNTIF(WeekNights!$D$27:$AV$38,'EO Validation'!N26),COUNTIF('Weekend Training'!$D$27:$Y$38,'EO Validation'!N26))","v":2},null,"409.1.02","M409.02","Identify Elements of a Positive Learning Environment",2,{"$f":"SUM(COUNTIF(WeekNights!$D$39:$AV$50,'EO Validation'!T26),COUNTIF('Weekend Training'!$D$39:$Y$51,'EO Validation'!T26))","v":2},null,"504.2.01","C504.01","Participate in the CFA and Identify Strategies for Improving Personal Physical Fitness",3,{"$f":"SUM(COUNTIF(WeekNights!$D$51:$AV$62,'EO Validation'!Z26),COUNTIF('Weekend Training'!$D$52:$Y$63,'EO Validation'!Z26))","v":0}]
["108.1.01","M108.01","Adopt the Positions of Attention, Stand at Ease, and Stand Easy",1,{"$f":"SUM(COUNTIF(WeekNights!$D$3:$AV$14,'EO Validation'!B27),COUNTIF('Weekend Training'!$D$4:$Y$15,'EO Validation'!B27))","v":1},null,"231.1.01","M231.01","Identify the Four Forces that Act Upon an Aircraft",2,{"$f":"SUM(COUNTIF(WeekNights!$D$15:$AV$26,'EO Validation'!H27),COUNTIF('Weekend Training'!$D$15:$Y$26,'EO Validation'!H27))","v":2},null,"309.1.06","M309.06","Plan a Lesson",2,{"$f":"SUM(COUNTIF(WeekNights!$D$27:$AV$38,'EO Validation'!N27),COUNTIF('Weekend Training'!$D$27:$Y$38,'EO Validation'!N27))","v":2},null,"409.1.03","M409.03","Describe Learner Needs",2,{"$f":"SUM(COUNTIF(WeekNights!$D$39:$AV$50,'EO Validation'!T27),COUNTIF('Weekend Training'!$D$39:$Y$51,'EO Validation'!T27))","v":2},null,"504.2.02","C504.02","Participate in Activities that Reinforce the Three Components of Physical Fitness",3,{"$f":"SUM(COUNTIF(WeekNights!$D$51:$AV$62,'EO Validation'!Z27),COUNTIF('Weekend Training'!$D$52:$Y$63,'EO Validation'!Z27))","v":0}]
["108.1.02","M108.02","Execute a Salute at the Halt Without Arms",1,{"$f":"SUM(COUNTIF(WeekNights!$D$3:$AV$14,'EO Validation'!B28),COUNTIF('Weekend Training'!$D$4:$Y$15,'EO Validation'!B28))","v":1},null,"231.1.02","M231.02","Describe the Production of Lift by an Aircraft Wing",2,{"$f":"SUM(COUNTIF(WeekNights!$D$15:$AV$26,'EO Validation'!H28),COUNTIF('Weekend Training'!$D$15:$Y$26,'EO Validation'!H28))","v":1},null,"309.1.07","M309.07","Instruct a 15-Minute Lesson",3,{"$f":"SUM(COUNTIF(WeekNights!$D$27:$AV$38,'EO Validation'!N28),COUNTIF('Weekend Training'!$D$27:$Y$38,'EO Validation'!N28))","v":3},null,"409.1.04","M409.04","Explain Assessment",1,{"$f":"SUM(COUNTIF(WeekNights!$D$39:$AV$50,'EO Validation'!T28),COUNTIF('Weekend Training'!$D$39:$Y$51,'EO Validation'!T28))","v":1},null,"504.2.03","C504.03","Participate in a Cooking Class",3,{"$f":"SUM(COUNTIF(WeekNights!$D$51:$AV$62,'EO Validation'!Z28),COUNTIF('Weekend Training'!$D$52:$Y$63,'EO Validation'!Z28))","v":0}]
["108.1.03","M108.03","Execute Turns at the Halt",1,{"$f":"SUM(COUNTIF(WeekNights!$D$3:$AV$14,'EO Validation'!B29),COUNTIF('Weekend Training'!$D$4:$Y$15,'EO Validation'!B29))","v":1},null,"231.1.03","M231.03","Describe the Types of Drag that Act Upon an Aircraft",2,{"$f":"SUM(COUNTIF(WeekNights!$D$15:$AV$26,'EO Validation'!H29),COUNTIF('Weekend Training'!$D$15:$Y$26,'EO Validation'!H29))","v":2},null,"320.1.01","M320.01","CAF Familiarization",6,{"$f":"SUM(COUNTIF(WeekNights!$D$27:$AV$38,'EO Validation'!N29),COUNTIF('Weekend Training'!$D$27:$Y$38,'EO Validation'!N29))","v":0},null,"409.1.05","M409.05","Instruct a 30-Minute Lesson",3,{"$f":"SUM(COUNTIF(WeekNights!$D$39:$AV$50,'EO Validation'!T29),COUNTIF('Weekend Training'!$D$39:$Y$51,'EO Validation'!T29))","v":3},null,"504.2.04","C504.04","Attend a Personal Fitness and Healthy Living Presentation",3,{"$f":"SUM(COUNTIF(WeekNights!$D$51:$AV$62,'EO Validation'!Z29),COUNTIF('Weekend Training'!$D$52:$Y$63,'EO Validation'!Z29))","v":0}]
["108.1.04","M108.04","Close to the Right and Left",1,{"$f":"SUM(COUNTIF(WeekNights!$D$3:$AV$14,'EO Validation'!B30),COUNTIF('Weekend Training'!$D$4:$Y$15,'EO Validation'!B30))","v":1},null,"231.1.04","M231.04","Describe the Axial Movements of an Aircraft",1,{"$f":"SUM(COUNTIF(WeekNights!$D$15:$AV$26,'EO Validation'!H30),COUNTIF('Weekend Training'!$D$15:$Y$26,'EO Validation'!H30))","v":1},null,"331.1.01","M331.01","Describe Aircraft Stability",2,{"$f":"SUM(COUNTIF(WeekNights!$D$27:$AV$38,'EO Validation'!N30),COUNTIF('Weekend Training'!$D$27:$Y$38,'EO Validation'!N30))","v":2},null,"420.1.01","M420.01","CAF Familiarization",6,{"$f":"SUM(COUNTIF(WeekNights!$D$39:$AV$50,'EO Validation'!T30),COUNTIF('Weekend Training'!$D$39:$Y$51,'EO Validation'!T30))","v":0},null,"504.2.05","C504.05","Attend a Local Amateur Sporting Event",3,{"$f":"SUM(COUNTIF(WeekNights!$D$51:$AV$62,'EO Validation'!Z30),COUNTIF('Weekend Training'!$D$52:$Y$63,'EO Validation'!Z30))","v":0}]
["108.1.05","M108.05","Execute Paces Forward and to the Rear",1,{"$f":"SUM(COUNTIF(WeekNights!$D$3:$AV$14,'EO Validation'!B31),COUNTIF('Weekend Training'!$D$4:$Y$15,'EO Validation'!B31))","v":1},null,"231.1.05","M231.05","Describe Aircraft Control Surfaces",2,{"$f":"SUM(COUNTIF(WeekNights!$D$15:$AV$26,'EO Validation'!H31),COUNTIF('Weekend Training'!$D$15:$Y$26,'EO Validation'!H31))","v":2},null,"336.1.01","M336.01","Describe Properties of the Atmosphere",1,{"$f":"SUM(COUNTIF(WeekNights!$D$27:$AV$38,'EO Validation'!N31),COUNTIF('Weekend Training'!$D$27:$Y$38,'EO Validation'!N31))","v":1},null,"431.1.01","M431.01","Explain Features of Wing Design",1,{"$f":"SUM(COUNTIF(WeekNights!$D$39:$AV$50,'EO Validation'!T31),COUNTIF('Weekend Training'!$D$39:$Y$51,'EO Validation'!T31))","v":1},null,"505.2.01","C505.01","Participate in Physical Activities",9,{"$f":"SUM(COUNTIF(WeekNights!$D$51:$AV$62,'EO Validation'!Z31),COUNTIF('Weekend Training'!$D$52:$Y$63,'EO Validation'!Z31))","v":0}]
["108.1.06","M108.06","Execute the Movements Required for a Right Dress",1,{"$f":"SUM(COUNTIF(WeekNights!$D$3:$AV$14,'EO Validation'!B32),COUNTIF('Weekend Training'!$D$4:$Y$15,'EO Validation'!B32))","v":1},null,"232.1.01","M232.01","Identify Types of Aircraft Engines",1,{"$f":"SUM(COUNTIF(WeekNights!$D$15:$AV$26,'EO Validation'!H32),COUNTIF('Weekend Training'!$D$15:$Y$26,'EO Validation'!H32))","v":1},null,"336.1.02","M336.02","Explain the Formation of Clouds",1,{"$f":"SUM(COUNTIF(WeekNights!$D$27:$AV$38,'EO Validation'!N32),COUNTIF('Weekend Training'!$D$27:$Y$38,'EO Validation'!N32))","v":1},null,"431.1.02","M431.02","Describe Flight Instruments",2,{"$f":"SUM(COUNTIF(WeekNights!$D$39:$AV$50,'EO Validation'!T32),COUNTIF('Weekend Training'!$D$39:$Y$51,'EO Validation'!T32))","v":2},null,"505.2.02","C505.02","Participate in a Tournament",9,{"$f":"SUM(COUNTIF(WeekNights!$D$51:$AV$62,'EO Validation'!Z32),COUNTIF('Weekend Training'!$D$52:$Y$63,'EO Validation'!Z32))","v":0}]
["108.1.07","M108.07","Execute an Open Order and Close Order March",1,{"$f":"SUM(COUNTIF(WeekNights!$D$3:$AV$14,'EO Validation'!B33),COUNTIF('Weekend Training'!$D$4:$Y$15,'EO Validation'!B33))","v":1},null,"232.1.02","M232.02","Identify the Components of Piston- Powered Internal Combustion Engines",2,{"$f":"SUM(COUNTIF(WeekNights!$D$15:$AV$26,'EO Validation'!H33),COUNTIF('Weekend Training'!$D$15:$Y$26,'EO Validation'!H33))","v":2},null,"336.1.03","M336.03","Explain the Effects of Air Pressure on Weather",1,{"$f":"SUM(COUNTIF(WeekNights!$D$27:$AV$38,'EO Validation'!N33),COUNTIF('Weekend Training'!$D$27:$Y$38,'EO Validation'!N33))","v":1},null,"432.1.01","M432.01","Describe Fuel Systems",1,{"$f":"SUM(COUNTIF(WeekNights!$D$39:$AV$50,'EO Validation'!T33),COUNTIF('Weekend Training'!$D$39:$Y$51,'EO Validation'!T33))","v":1},null,"507.2.01","C507.01","Identify Service Opportunities for a Cadet Instructors Cadre (CIC) Officer",3,{"$f":"SUM(COUNTIF(WeekNights!$D$51:$AV$62,'EO Validation'!Z33),COUNTIF('Weekend Training'!$D$52:$Y$63,'EO Validation'!Z33))","v":0}]
["108.1.08","M108.08","March and Halt in Quick Time",1,{"$f":"SUM(COUNTIF(WeekNights!$D$3:$AV$14,'EO Validation'!B34),COUNTIF('Weekend Training'!$D$4:$Y$15,'EO Validation'!B34))","v":1},null,"232.1.03","M232.03","Explain the Cycles of a Four-Stroke Piston-Powered Engine",2,{"$f":"SUM(COUNTIF(WeekNights!$D$15:$AV$26,'EO Validation'!H34),COUNTIF('Weekend Training'!$D$15:$Y$26,'EO Validation'!H34))","v":2},null,"336.1.04","M336.04","Explain the Effects of Humidity and Temperature on Weather",2,{"$f":"SUM(COUNTIF(WeekNights!$D$27:$AV$38,'EO Validation'!N34),COUNTIF('Weekend Training'!$D$27:$Y$38,'EO Validation'!N34))","v":2},null,"432.1.02","M432.02","Describe Propeller Systems",1,{"$f":"SUM(COUNTIF(WeekNights!$D$39:$AV$50,'EO Validation'!T34),COUNTIF('Weekend Training'!$D$39:$Y$51,'EO Validation'!T34))","v":1},null,"507.2.02","C507.02","Identify Volunteer Opportunities With the Air Cadet League of Canada (ACLC)",3,{"$f":"SUM(COUNTIF(WeekNights!$D$51:$AV$62,'EO Validation'!Z34),COUNTIF('Weekend Training'!$D$52:$Y$63,'EO Validation'!Z34))","v":0}]
["108.1.09","M108.09","Execute Marking Time, Forward, and Halting in Quick Time",1,{"$f":"SUM(COUNTIF(WeekNights!$D$3:$AV$14,'EO Validation'!B35),COUNTIF('Weekend Training'!$D$4:$Y$15,'EO Validation'!B35))","v":1},null,"232.1.04","M232.04","Recognize the Functions of Oil in a Four-Stroke Piston-Powered Engine",1,{"$f":"SUM(COUNTIF(WeekNights!$D$15:$AV$26,'EO Validation'!H35),COUNTIF('Weekend Training'!$D$15:$Y$26,'EO Validation'!H35))","v":1},null,"337.1.01","M337.01","Measure Distance Along a Route",1,{"$f":"SUM(COUNTIF(WeekNights!$D$27:$AV$38,'EO Validation'!N35),COUNTIF('Weekend Training'!$D$27:$Y$38,'EO Validation'!N35))","v":1},null,"432.1.03","M432.03","Describe Engine Instruments",1,{"$f":"SUM(COUNTIF(WeekNights!$D$39:$AV$50,'EO Validation'!T35),COUNTIF('Weekend Training'!$D$39:$Y$51,'EO Validation'!T35))","v":1},null,"507.2.03","C507.03","Reflect Upon the Cadet Experience",3,{"$f":"SUM(COUNTIF(WeekNights!$D$51:$AV$62,'EO Validation'!Z35),COUNTIF('Weekend Training'!$D$52:$Y$63,'EO Validation'!Z35))","v":0}]
["108.1.10","M108.10","Execute a Salute on the March",1,{"$f":"SUM(COUNTIF(WeekNights!$D$3:$AV$14,'EO Validation'!B36),COUNTIF('Weekend Training'!$D$4:$Y$15,'EO Validation'!B36))","v":1},null,"240.1.01","M240.01","Explore Current Advancements in Aerospace Technology",1,{"$f":"SUM(COUNTIF(WeekNights!$D$15:$AV$26,'EO Validation'!H36),COUNTIF('Weekend Training'!$D$15:$Y$26,'EO Validation'!H36))","v":1},null,"337.1.02","M337.02","Determine a Position on a Visual Flight Rules (VFR) Navigation Chart (VNC)",1,{"$f":"SUM(COUNTIF(WeekNights!$D$27:$AV$38,'EO Validation'!N36),COUNTIF('Weekend Training'!$D$27:$Y$38,'EO Validation'!N36))","v":1},null,"436.1.01","M436.01","Explain Winds",1,{"$f":"SUM(COUNTIF(WeekNights!$D$39:$AV$50,'EO Validation'!T36),COUNTIF('Weekend Training'!$D$39:$Y$51,'EO Validation'!T36))","v":1},null,"509.2.01","C509.01","Monitor Instruction",3,{"$f":"SUM(COUNTIF(WeekNights!$D$51:$AV$62,'EO Validation'!Z36),COUNTIF('Weekend Training'!$D$52:$Y$63,'EO Validation'!Z36))","v":0}]
["108.1.11","M108.11","Pay Compliments with a Squad on the March",1,{"$f":"SUM(COUNTIF(WeekNights!$D$3:$AV$14,'EO Validation'!B37),COUNTIF('Weekend Training'!$D$4:$Y$15,'EO Validation'!B37))","v":1},null,"240.1.02","M240.02","Invent a Space Technology Item",2,{"$f":"SUM(COUNTIF(WeekNights!$D$15:$AV$26,'EO Validation'!H37),COUNTIF('Weekend Training'!$D$15:$Y$26,'EO Validation'!H37))","v":2},null,"340.1.01","M340.01","Identify Canadian Astronauts",1,{"$f":"SUM(COUNTIF(WeekNights!$D$27:$AV$38,'EO Validation'!N37),COUNTIF('Weekend Training'!$D$27:$Y$38,'EO Validation'!N37))","v":1},null,"436.1.02","M436.02","Describe Air Masses and Fronts",3,{"$f":"SUM(COUNTIF(WeekNights!$D$39:$AV$50,'EO Validation'!T37),COUNTIF('Weekend Training'!$D$39:$Y$51,'EO Validation'!T37))","v":3},null,"520.2.01","C520.01","Participate in CAF Familiarization Activities",18,{"$f":"SUM(COUNTIF(WeekNights!$D$51:$AV$62,'EO Validation'!Z37),COUNTIF('Weekend Training'!$D$52:$Y$63,'EO Validation'!Z37))","v":0}]
["108.1.12","M108.12","Perform Drill Movements During Annual Ceremonial Review",3,{"$f":"SUM(COUNTIF(WeekNights!$D$3:$AV$14,'EO Validation'!B38),COUNTIF('Weekend Training'!$D$4:$Y$15,'EO Validation'!B38))","v":3},null,"240.1.03","M240.03","Participate in a Space Survival Scenario",1,{"$f":"SUM(COUNTIF(WeekNights!$D$15:$AV$26,'EO Validation'!H38),COUNTIF('Weekend Training'!$D$15:$Y$26,'EO Validation'!H38))","v":1},null,"340.1.02","M340.02","Discuss the History of Manned Space Exploration",1,{"$f":"SUM(COUNTIF(WeekNights!$D$27:$AV$38,'EO Validation'!N38),COUNTIF('Weekend Training'!$D$27:$Y$38,'EO Validation'!N38))","v":1},null,"437.1.01","M437.01","Define Air Navigation Terms",2,{"$f":"SUM(COUNTIF(WeekNights!$D$39:$AV$50,'EO Validation'!T38),COUNTIF('Weekend Training'!$D$39:$Y$51,'EO Validation'!T38))","v":2},null,"530.2.01","C530.01","Fly a Cross-Country Flight Using a Flight Simulator",3,{"$f":"SUM(COUNTIF(WeekNights!$D$51:$AV$62,'EO Validation'!Z38),COUNTIF('Weekend Training'!$D$52:$Y$63,'EO Validation'!Z38))","v":0}]
["120.1.01","M120.01","CAF Familiarization",6,{"$f":"SUM(COUNTIF(WeekNights!$D$3:$AV$14,'EO Validation'!B39),COUNTIF('Weekend Training'!$D$4:$Y$15,'EO Validation'!B39))","v":0},null,"260.1.01","M260.01","Explain Aspects of Air Traffic Control (ATC)",1,{"$f":"SUM(COUNTIF(WeekNights!$D$15:$AV$26,'EO Validation'!H39),COUNTIF('Weekend Training'!$D$15:$Y$26,'EO Validation'!H39))","v":1},null,"370.1.01","M370.01","Identify Components of the Pitot Static System",1,{"$f":"SUM(COUNTIF(WeekNights!$D$27:$AV$38,'EO Validation'!N39),COUNTIF('Weekend Training'!$D$27:$Y$38,'EO Validation'!N39))","v":1},null,"437.1.02","M437.02","Describe the Magnetic Compass",1,{"$f":"SUM(COUNTIF(WeekNights!$D$39:$AV$50,'EO Validation'!T39),COUNTIF('Weekend Training'!$D$39:$Y$51,'EO Validation'!T39))","v":1},null,"540.2.01","C540.01","Reflect on Canada's Contribution to Aerospace Technology",3,{"$f":"SUM(COUNTIF(WeekNights!$D$51:$AV$62,'EO Validation'!Z39),COUNTIF('Weekend Training'!$D$52:$Y$63,'EO Validation'!Z39))","v":0}]
["121.1.01","M121.01","Discuss Aviation Opportunities",1,{"$f":"SUM(COUNTIF(WeekNights!$D$3:$AV$14,'EO Validation'!B40),COUNTIF('Weekend Training'!$D$4:$Y$15,'EO Validation'!B40))","v":1},null,"260.1.02","M260.02","Identify Aspects of Basic Aerodrome Operations",1,{"$f":"SUM(COUNTIF(WeekNights!$D$15:$AV$26,'EO Validation'!H40),COUNTIF('Weekend Training'!$D$15:$Y$26,'EO Validation'!H40))","v":1},null,"370.1.02","M370.02","Identify Aircraft Manufacturers",1,{"$f":"SUM(COUNTIF(WeekNights!$D$27:$AV$38,'EO Validation'!N40),COUNTIF('Weekend Training'!$D$27:$Y$38,'EO Validation'!N40))","v":1},null,"440.1.01","M440.01","Identify Aerospace Materials",1,{"$f":"SUM(COUNTIF(WeekNights!$D$39:$AV$50,'EO Validation'!T40),COUNTIF('Weekend Training'!$D$39:$Y$51,'EO Validation'!T40))","v":1},null,"560.2.01","C560.01","Examine Aspects of Flight Safety (FS)",3,{"$f":"SUM(COUNTIF(WeekNights!$D$51:$AV$62,'EO Validation'!Z40),COUNTIF('Weekend Training'!$D$52:$Y$63,'EO Validation'!Z40))","v":0}]
["129.1.01","M129.01","Recite the Phonetic Alphabet and Numbers",1,{"$f":"SUM(COUNTIF(WeekNights!$D$3:$AV$14,'EO Validation'!B41),COUNTIF('Weekend Training'!$D$4:$Y$15,'EO Validation'!B41))","v":1},null,"270.1.01","M270.01","Identify Aspects of Aircraft Manufacturing",2,{"$f":"SUM(COUNTIF(WeekNights!$D$15:$AV$26,'EO Validation'!H41),COUNTIF('Weekend Training'!$D$15:$Y$26,'EO Validation'!H41))","v":2},null,"370.1.03","M370.03","Describe Routine Aircraft Inspection Procedures",1,{"$f":"SUM(COUNTIF(WeekNights!$D$27:$AV$38,'EO Validation'!N41),COUNTIF('Weekend Training'!$D$27:$Y$38,'EO Validation'!N41))","v":1},null,"440.1.02","M440.02","Describe Canadian Satellites",1,{"$f":"SUM(COUNTIF(WeekNights!$D$39:$AV$50,'EO Validation'!T41),COUNTIF('Weekend Training'!$D$39:$Y$51,'EO Validation'!T41))","v":1},null,"560.2.02","C560.02","Examine the Canadian Bush Pilot Industry",3,{"$f":"SUM(COUNTIF(WeekNights!$D$51:$AV$62,'EO Validation'!Z41),COUNTIF('Weekend Training'!$D$52:$Y$63,'EO Validation'!Z41))","v":0}]
["130.1.01","M130.01","Identify Aircraft as Military, Civilian and Cadet",2,{"$f":"SUM(COUNTIF(WeekNights!$D$3:$AV$14,'EO Validation'!B42),COUNTIF('Weekend Training'!$D$4:$Y$15,'EO Validation'!B42))","v":2},null,"270.1.02","M270.02","Identify Requirements for Aircraft Maintenance",2,{"$f":"SUM(COUNTIF(WeekNights!$D$15:$AV$26,'EO Validation'!H42),COUNTIF('Weekend Training'!$D$15:$Y$26,'EO Validation'!H42))","v":2},null,"390.1.01","M390.01","Identify Parts of the Compass",1,{"$f":"SUM(COUNTIF(WeekNights!$D$27:$AV$38,'EO Validation'!N42),COUNTIF('Weekend Training'!$D$27:$Y$38,'EO Validation'!N42))","v":2},null,"490.1.01","M490.01","Assemble an Emergency Survival Kit",1,{"$f":"SUM(COUNTIF(WeekNights!$D$39:$AV$50,'EO Validation'!T42),COUNTIF('Weekend Training'!$D$39:$Y$51,'EO Validation'!T42))","v":0},null,"570.2.01","C570.01","Examine Aspects of Aircraft Manufacturing and Maintenance Through the Development of Aerobatic Aircraft",3,{"$f":"SUM(COUNTIF(WeekNights!$D$51:$AV$62,'EO Validation'!Z42),COUNTIF('Weekend Training'!$D$52:$Y$63,'EO Validation'!Z42))","v":0}]
["130.1.02","M130.02","Describe the Main Components of an Airplane",1,{"$f":"SUM(COUNTIF(WeekNights!$D$3:$AV$14,'EO Validation'!B43),COUNTIF('Weekend Training'!$D$4:$Y$15,'EO Validation'!B43))","v":1},null,"270.1.03","M270.03","Discuss Education and Employment Opportunities in Aircraft Manufacturing and Maintenance",2,{"$f":"SUM(COUNTIF(WeekNights!$D$15:$AV$26,'EO Validation'!H43),COUNTIF('Weekend Training'!$D$15:$Y$26,'EO Validation'!H43))","v":2},null,"390.1.02","M390.02","Identify Marginal Information and Conventional Signs",2,{"$f":"SUM(COUNTIF(WeekNights!$D$27:$AV$38,'EO Validation'!N43),COUNTIF('Weekend Training'!$D$27:$Y$38,'EO Validation'!N43))","v":2},null,"490.1.02","M490.02","Operate a Stove and a Lantern",3,{"$f":"SUM(COUNTIF(WeekNights!$D$39:$AV$50,'EO Validation'!T43),COUNTIF('Weekend Training'!$D$39:$Y$51,'EO Validation'!T43))","v":3},null,"590.2.01","C590.01","Analyze an Aircrew Survival Case Study",3,{"$f":"SUM(COUNTIF(WeekNights!$D$51:$AV$62,'EO Validation'!Z43),COUNTIF('Weekend Training'!$D$52:$Y$63,'EO Validation'!Z43))","v":0}]
["130.1.03","M130.03","Construct a Model Airplane",2,{"$f":"SUM(COUNTIF(WeekNights!$D$3:$AV$14,'EO Validation'!B44),COUNTIF('Weekend Training'!$D$4:$Y$15,'EO Validation'!B44))","v":2},null,"290.1.01","M290.01","Construct, Light, Maintain and Extinguish a Signal Fire",2,{"$f":"SUM(COUNTIF(WeekNights!$D$15:$AV$26,'EO Validation'!H44),COUNTIF('Weekend Training'!$D$15:$Y$26,'EO Validation'!H44))","v":2},null,"390.1.03","M390.03","Determine Grid References (GRs)",2,{"$f":"SUM(COUNTIF(WeekNights!$D$27:$AV$38,'EO Validation'!N44),COUNTIF('Weekend Training'!$D$27:$Y$38,'EO Validation'!N44))","v":2},null,"490.1.03","M490.03","Tie Knots and Lashings",2,{"$f":"SUM(COUNTIF(WeekNights!$D$39:$AV$50,'EO Validation'!T44),COUNTIF('Weekend Training'!$D$39:$Y$51,'EO Validation'!T44))","v":2}]
["130.1.04","M130.04","Watch On Canadian Wings Video",1,{"$f":"SUM(COUNTIF(WeekNights!$D$3:$AV$14,'EO Validation'!B45),COUNTIF('Weekend Training'!$D$4:$Y$15,'EO Validation'!B45))","v":1},null,"290.1.02","M290.02","Construct a Lean-to-Style Shelter",3,{"$f":"SUM(COUNTIF(WeekNights!$D$15:$AV$26,'EO Validation'!H45),COUNTIF('Weekend Training'!$D$15:$Y$26,'EO Validation'!H45))","v":3},null,"390.1.04","M390.04","Determine Distance on a Map and on the Ground",3,{"$f":"SUM(COUNTIF(WeekNights!$D$27:$AV$38,'EO Validation'!N45),COUNTIF('Weekend Training'!$D$27:$Y$38,'EO Validation'!N45))","v":3},null,"490.1.04","M490.04","Navigate to a Waypoint Using a Global Positioning System (GPS) Receiver",4,{"$f":"SUM(COUNTIF(WeekNights!$D$39:$AV$50,'EO Validation'!T45),COUNTIF('Weekend Training'!$D$39:$Y$51,'EO Validation'!T45))","v":4}]
["140.1.01","M140.01","Launch a Water Rocket",3,{"$f":"SUM(COUNTIF(WeekNights!$D$3:$AV$14,'EO Validation'!B46),COUNTIF('Weekend Training'!$D$4:$Y$15,'EO Validation'!B46))","v":0},null,"290.1.03","M290.03","Construct a Simple Snare",2,{"$f":"SUM(COUNTIF(WeekNights!$D$15:$AV$26,'EO Validation'!H46),COUNTIF('Weekend Training'!$D$15:$Y$26,'EO Validation'!H46))","v":2},null,"390.1.05","M390.05","Determine Bearings on a Map and on the Ground",2,{"$f":"SUM(COUNTIF(WeekNights!$D$27:$AV$38,'EO Validation'!N46),COUNTIF('Weekend Training'!$D$27:$Y$38,'EO Validation'!N46))","v":2},null,"490.1.05","M490.05","Light Fires Using Improvised Ignition",4,{"$f":"SUM(COUNTIF(WeekNights!$D$39:$AV$50,'EO Validation'!T46),COUNTIF('Weekend Training'!$D$39:$Y$51,'EO Validation'!T46))","v":3}]
["160.1.01","M160.01","Identify Major Aerodrome Components",1,{"$f":"SUM(COUNTIF(WeekNights!$D$3:$AV$14,'EO Validation'!B47),COUNTIF('Weekend Training'!$D$4:$Y$15,'EO Validation'!B47))","v":1},null,"290.1.04","M290.04","Construct Ground-to-Air Signals",2,{"$f":"SUM(COUNTIF(WeekNights!$D$15:$AV$26,'EO Validation'!H47),COUNTIF('Weekend Training'!$D$15:$Y$26,'EO Validation'!H47))","v":2},null,"301.2.01","C301.01","Participate in Citizenship Activities",18,{"$f":"SUM(COUNTIF(WeekNights!$D$27:$AV$38,'EO Validation'!N47),COUNTIF('Weekend Training'!$D$27:$Y$38,'EO Validation'!N47))","v":0},null,"401.2.01","C401.01","Participate in Citizenship Activities",18,{"$f":"SUM(COUNTIF(WeekNights!$D$39:$AV$50,'EO Validation'!T47),COUNTIF('Weekend Training'!$D$39:$Y$51,'EO Validation'!T47))","v":0}]
["160.1.02","M160.02","Identify Features of a Runway",1,{"$f":"SUM(COUNTIF(WeekNights!$D$3:$AV$14,'EO Validation'!B48),COUNTIF('Weekend Training'!$D$4:$Y$15,'EO Validation'!B48))","v":1},null,"290.1.05","M290.05","Identify Hiking Techniques",2,{"$f":"SUM(COUNTIF(WeekNights!$D$15:$AV$26,'EO Validation'!H48),COUNTIF('Weekend Training'!$D$15:$Y$26,'EO Validation'!H48))","v":2},null,"302.2.01","C302.01","Perform Community Service 18",18,{"$f":"SUM(COUNTIF(WeekNights!$D$27:$AV$38,'EO Validation'!N48),COUNTIF('Weekend Training'!$D$27:$Y$38,'EO Validation'!N48))","v":0},null,"402.2.01","C402.01","Perform Community Service 18",18,{"$f":"SUM(COUNTIF(WeekNights!$D$39:$AV$50,'EO Validation'!T48),COUNTIF('Weekend Training'!$D$39:$Y$51,'EO Validation'!T48))","v":0}]
["160.1.03","M160.03","Construct a Model Aerodrome",2,{"$f":"SUM(COUNTIF(WeekNights!$D$3:$AV$14,'EO Validation'!B49),COUNTIF('Weekend Training'!$D$4:$Y$15,'EO Validation'!B49))","v":2},null,"290.1.06","M290.06","Operate a Hand-Held Radio",1,{"$f":"SUM(COUNTIF(WeekNights!$D$15:$AV$26,'EO Validation'!H49),COUNTIF('Weekend Training'!$D$15:$Y$26,'EO Validation'!H49))","v":1},null,"303.2.01","C303.01","Lead Team-Building Activities",3,{"$f":"SUM(COUNTIF(WeekNights!$D$27:$AV$38,'EO Validation'!N49),COUNTIF('Weekend Training'!$D$27:$Y$38,'EO Validation'!N49))","v":0},null,"403.2.01","C403.01","Participate in a Leadership Seminar","4x3",{"$f":"SUM(COUNTIF(WeekNights!$D$39:$AV$50,'EO Validation'!T49),COUNTIF('Weekend Training'!$D$39:$Y$51,'EO Validation'!T49))","v":0}]
["190.1.01","M190.01","Pack Personal Equipment for a Field Exercise",2,{"$f":"SUM(COUNTIF(WeekNights!$D$3:$AV$14,'EO Validation'!B50),COUNTIF('Weekend Training'!$D$4:$Y$15,'EO Validation'!B50))","v":2},null,"201.2.01","C201.01","Participate in Citizenship Activities",18,{"$f":"SUM(COUNTIF(WeekNights!$D$15:$AV$26,'EO Validation'!H50),COUNTIF('Weekend Training'!$D$15:$Y$26,'EO Validation'!H50))","v":0},null,"303.2.02","C303.02","Deliver a Presentation About a Leader",2,{"$f":"SUM(COUNTIF(WeekNights!$D$27:$AV$38,'EO Validation'!N50),COUNTIF('Weekend Training'!$D$27:$Y$38,'EO Validation'!N50))","v":0},null,"404.2.01","C404.01","Participate in the CFA and Identify Strategies for Improving Personal Physical Fitness",3,{"$f":"SUM(COUNTIF(WeekNights!$D$39:$AV$50,'EO Validation'!T50),COUNTIF('Weekend Training'!$D$39:$Y$51,'EO Validation'!T50))","v":0}]
["190.1.02","M190.02","Maintain Personal Equipment and Hygiene in the Field",1,{"$f":"SUM(COUNTIF(WeekNights!$D$3:$AV$14,'EO Validation'!B51),COUNTIF('Weekend Training'!$D$4:$Y$15,'EO Validation'!B51))","v":1},null,"202.2.01","C202.01","Perform Community Service 18",18,{"$f":"SUM(COUNTIF(WeekNights!$D$15:$AV$26,'EO Validation'!H51),COUNTIF('Weekend Training'!$D$15:$Y$26,'EO Validation'!H51))","v":0},null,"304.2.01","C304.01","Participate in the CFA and Identify Strategies for Improving Personal Physical Fitness",3,{"$f":"SUM(COUNTIF(WeekNights!$D$27:$AV$38,'EO Validation'!N51),COUNTIF('Weekend Training'!$D$27:$Y$38,'EO Validation'!N51))","v":0},null,"404.2.02","C404.02","Participate in Activities that Reinforce the Three Components of Physical Fitness",3,{"$f":"SUM(COUNTIF(WeekNights!$D$39:$AV$50,'EO Validation'!T51),COUNTIF('Weekend Training'!$D$39:$Y$51,'EO Validation'!T51))","v":0}]
["190.1.03","M190.03","Observe Site Policies and Procedures",2,{"$f":"SUM(COUNTIF(WeekNights!$D$3:$AV$14,'EO Validation'!B52),COUNTIF('Weekend Training'!$D$4:$Y$15,'EO Validation'!B52))","v":2},null,"203.2.01","C203.01","Record Entries in a Reflective Journal",3,{"$f":"SUM(COUNTIF(WeekNights!$D$15:$AV$26,'EO Validation'!H52),COUNTIF('Weekend Training'!$D$15:$Y$26,'EO Validation'!H52))","v":0},null,"304.2.02","C304.02","Participate in Activities that Reinforce the Three Components of Physical Fitness",3,{"$f":"SUM(COUNTIF(WeekNights!$D$27:$AV$38,'EO Validation'!N52),COUNTIF('Weekend Training'!$D$27:$Y$38,'EO Validation'!N52))","v":0},null,"404.2.03","C404.03","Participate in a Cooking Class",3,{"$f":"SUM(COUNTIF(WeekNights!$D$39:$AV$50,'EO Validation'!T52),COUNTIF('Weekend Training'!$D$39:$Y$51,'EO Validation'!T52))","v":0}]
["190.1.04","M190.04","Discuss Survival Psychology",2,{"$f":"SUM(COUNTIF(WeekNights!$D$3:$AV$14,'EO Validation'!B53),COUNTIF('Weekend Training'!$D$4:$Y$15,'EO Validation'!B53))","v":4},null,"203.2.02","C203.02","Employ Problem Solving",2,{"$f":"SUM(COUNTIF(WeekNights!$D$15:$AV$26,'EO Validation'!H53),COUNTIF('Weekend Training'!$D$15:$Y$26,'EO Validation'!H53))","v":0},null,"304.2.03","C304.03","Participate in a Cooking Class",3,{"$f":"SUM(COUNTIF(WeekNights!$D$27:$AV$38,'EO Validation'!N53),COUNTIF('Weekend Training'!$D$27:$Y$38,'EO Validation'!N53))","v":0},null,"404.2.04","C404.04","Attend a Personal Fitness and Healthy Living Presentation",3,{"$f":"SUM(COUNTIF(WeekNights!$D$39:$AV$50,'EO Validation'!T53),COUNTIF('Weekend Training'!$D$39:$Y$51,'EO Validation'!T53))","v":0}]
["190.1.05","M190.05","Identify Types of Shelters",1,{"$f":"SUM(COUNTIF(WeekNights!$D$3:$AV$14,'EO Validation'!B54),COUNTIF('Weekend Training'!$D$4:$Y$15,'EO Validation'!B54))","v":1},null,"203.2.03","C203.03","Discuss Characteristics of a Leader",2,{"$f":"SUM(COUNTIF(WeekNights!$D$15:$AV$26,'EO Validation'!H54),COUNTIF('Weekend Training'!$D$15:$Y$26,'EO Validation'!H54))","v":2},null,"304.2.04","C304.04","Attend a Personal Fitness and Healthy Living Presentation",3,{"$f":"SUM(COUNTIF(WeekNights!$D$27:$AV$38,'EO Validation'!N54),COUNTIF('Weekend Training'!$D$27:$Y$38,'EO Validation'!N54))","v":0},null,"404.2.05","C404.05","Attend a Local Amateur Sporting Event",3,{"$f":"SUM(COUNTIF(WeekNights!$D$39:$AV$50,'EO Validation'!T54),COUNTIF('Weekend Training'!$D$39:$Y$51,'EO Validation'!T54))","v":0}]
["190.1.06","M190.06","Light, Maintain and Extinguish a Fire",3,{"$f":"SUM(COUNTIF(WeekNights!$D$3:$AV$14,'EO Validation'!B55),COUNTIF('Weekend Training'!$D$4:$Y$15,'EO Validation'!B55))","v":3},null,"203.2.04","C203.04","Participate in a Presentation Given by a Leader",2,{"$f":"SUM(COUNTIF(WeekNights!$D$15:$AV$26,'EO Validation'!H55),COUNTIF('Weekend Training'!$D$15:$Y$26,'EO Validation'!H55))","v":0},null,"304.2.05","C304.05","Attend a Local Amateur Sporting Event",3,{"$f":"SUM(COUNTIF(WeekNights!$D$27:$AV$38,'EO Validation'!N55),COUNTIF('Weekend Training'!$D$27:$Y$38,'EO Validation'!N55))","v":0},null,"405.2.01","C405.01","Participate in Physical Activities",9,{"$f":"SUM(COUNTIF(WeekNights!$D$39:$AV$50,'EO Validation'!T55),COUNTIF('Weekend Training'!$D$39:$Y$51,'EO Validation'!T55))","v":0}]
["190.1.07","M190.07","Erect, Tear Down and Pack Tents",3,{"$f":"SUM(COUNTIF(WeekNights!$D$3:$AV$14,'EO Validation'!B56),COUNTIF('Weekend Training'!$D$4:$Y$15,'EO Validation'!B56))","v":3},null,"203.2.05","C203.05","Participate in Trust-Building Activities",1,{"$f":"SUM(COUNTIF(WeekNights!$D$15:$AV$26,'EO Validation'!H56),COUNTIF('Weekend Training'!$D$15:$Y$26,'EO Validation'!H56))","v":1},null,"305.2.01","C305.01","Participate in Physical Activities",9,{"$f":"SUM(COUNTIF(WeekNights!$D$27:$AV$38,'EO Validation'!N56),COUNTIF('Weekend Training'!$D$27:$Y$38,'EO Validation'!N56))","v":0},null,"405.2.02","C405.02","Participate in a Tournament",9,{"$f":"SUM(COUNTIF(WeekNights!$D$39:$AV$50,'EO Validation'!T56),COUNTIF('Weekend Training'!$D$39:$Y$51,'EO Validation'!T56))","v":0}]
["101.2.01","C101.01","Tour a community Institution",3,{"$f":"SUM(COUNTIF(WeekNights!$D$3:$AV$14,'EO Validation'!B57),COUNTIF('Weekend Training'!$D$4:$Y$15,'EO Validation'!B57))","v":0},null,"203.2.06","C203.06","Participate in Problem-Solving Activities",2,{"$f":"SUM(COUNTIF(WeekNights!$D$15:$AV$26,'EO Validation'!H57),COUNTIF('Weekend Training'!$D$15:$Y$26,'EO Validation'!H57))","v":2},null,"305.2.02","C305.02","Participate in a Tournament",9,{"$f":"SUM(COUNTIF(WeekNights!$D$27:$AV$38,'EO Validation'!N57),COUNTIF('Weekend Training'!$D$27:$Y$38,'EO Validation'!N57))","v":0},null,"406.2.01","C406.01","Assist the Range Safety Officer (RSO)",1,{"$f":"SUM(COUNTIF(WeekNights!$D$39:$AV$50,'EO Validation'!T57),COUNTIF('Weekend Training'!$D$39:$Y$51,'EO Validation'!T57))","v":0}]
["101.2.02","C101.02","Attend a Presentation by a Community Organization",2,{"$f":"SUM(COUNTIF(WeekNights!$D$3:$AV$14,'EO Validation'!B58),COUNTIF('Weekend Training'!$D$4:$Y$15,'EO Validation'!B58))","v":0},null,"204.2.01","C204.01","Participate in the CFA and Identify Strategies for Improving Personal Physical Fitness",3,{"$f":"SUM(COUNTIF(WeekNights!$D$15:$AV$26,'EO Validation'!H58),COUNTIF('Weekend Training'!$D$15:$Y$26,'EO Validation'!H58))","v":0},null,"306.2.01","C306.01","Identify Civilian Marksmanship Organizations",1,{"$f":"SUM(COUNTIF(WeekNights!$D$27:$AV$38,'EO Validation'!N58),COUNTIF('Weekend Training'!$D$27:$Y$38,'EO Validation'!N58))","v":0},null,"406.2.02","C406.02","Score Air Rifle Marksmanship Targets",1,{"$f":"SUM(COUNTIF(WeekNights!$D$39:$AV$50,'EO Validation'!T58),COUNTIF('Weekend Training'!$D$39:$Y$51,'EO Validation'!T58))","v":0}]
["102.2.01","C102.01","Perform Community Service",18,{"$f":"SUM(COUNTIF(WeekNights!$D$3:$AV$14,'EO Validation'!B59),COUNTIF('Weekend Training'!$D$4:$Y$15,'EO Validation'!B59))","v":0},null,"204.2.02","C204.02","Participate in Activities that Reinforce the Three Components of Physical Fitness",3,{"$f":"SUM(COUNTIF(WeekNights!$D$15:$AV$26,'EO Validation'!H59),COUNTIF('Weekend Training'!$D$15:$Y$26,'EO Validation'!H59))","v":0},null,"306.2.02","C306.02","Correct Marksmanship Error",2,{"$f":"SUM(COUNTIF(WeekNights!$D$27:$AV$38,'EO Validation'!N59),COUNTIF('Weekend Training'!$D$27:$Y$38,'EO Validation'!N59))","v":0},null,"407.2.01","C407.01","Prepare for a Merit Review Board",3,{"$f":"SUM(COUNTIF(WeekNights!$D$39:$AV$50,'EO Validation'!T59),COUNTIF('Weekend Training'!$D$39:$Y$51,'EO Validation'!T59))","v":0}]
["103.2.01","C103.01","Participate in Icebreaker Activities",1,{"$f":"SUM(COUNTIF(WeekNights!$D$3:$AV$14,'EO Validation'!B60),COUNTIF('Weekend Training'!$D$4:$Y$15,'EO Validation'!B60))","v":0},null,"204.2.03","C204.03","Participate in a Cooking Class",3,{"$f":"SUM(COUNTIF(WeekNights!$D$15:$AV$26,'EO Validation'!H60),COUNTIF('Weekend Training'!$D$15:$Y$26,'EO Validation'!H60))","v":0},null,"306.2.03","C306.03","Fire the Cadet Air Rifle from the Standing Position",2,{"$f":"SUM(COUNTIF(WeekNights!$D$27:$AV$38,'EO Validation'!N60),COUNTIF('Weekend Training'!$D$27:$Y$38,'EO Validation'!N60))","v":0},null,"407.2.02","C407.02","Describe the Application Procedure for National Courses and Exchanges",1,{"$f":"SUM(COUNTIF(WeekNights!$D$39:$AV$50,'EO Validation'!T60),COUNTIF('Weekend Training'!$D$39:$Y$51,'EO Validation'!T60))","v":1}]
["103.2.02","C103.02","Participate in Self-Introductions",1,{"$f":"SUM(COUNTIF(WeekNights!$D$3:$AV$14,'EO Validation'!B61),COUNTIF('Weekend Training'!$D$4:$Y$15,'EO Validation'!B61))","v":0},null,"204.2.04","C204.04","Attend a Personal Fitness and Healthy Living Presentation",3,{"$f":"SUM(COUNTIF(WeekNights!$D$15:$AV$26,'EO Validation'!H61),COUNTIF('Weekend Training'!$D$15:$Y$26,'EO Validation'!H61))","v":0},null,"307.2.01","C307.01","Participate in a Presentation Given by a Guest Speaker From the Regional Cadet Support Unit",2,{"$f":"SUM(COUNTIF(WeekNights!$D$27:$AV$38,'EO Validation'!N61),COUNTIF('Weekend Training'!$D$27:$Y$38,'EO Validation'!N61))","v":0},null,"408.2.01","C408.01","Discuss the History of Drill",1,{"$f":"SUM(COUNTIF(WeekNights!$D$39:$AV$50,'EO Validation'!T61),COUNTIF('Weekend Training'!$D$39:$Y$51,'EO Validation'!T61))","v":0}]
["103.2.03","C103.03","Participate in Teambuilding Activities",1,{"$f":"SUM(COUNTIF(WeekNights!$D$3:$AV$14,'EO Validation'!B62),COUNTIF('Weekend Training'!$D$4:$Y$15,'EO Validation'!B62))","v":0},null,"204.2.05","C204.05","Attend a Local Amateur Sporting Event",3,{"$f":"SUM(COUNTIF(WeekNights!$D$15:$AV$26,'EO Validation'!H62),COUNTIF('Weekend Training'!$D$15:$Y$26,'EO Validation'!H62))","v":0},null,"307.2.02","C307.02","Participate in a Presentation Given by the Cadet Liaison Officer",2,{"$f":"SUM(COUNTIF(WeekNights!$D$27:$AV$38,'EO Validation'!N62),COUNTIF('Weekend Training'!$D$27:$Y$38,'EO Validation'!N62))","v":0},null,"408.2.02","C408.02","View a Re-Enactment That Demonstrates the Historical Use of Drill",3,{"$f":"SUM(COUNTIF(WeekNights!$D$39:$AV$50,'EO Validation'!T62),COUNTIF('Weekend Training'!$D$39:$Y$51,'EO Validation'!T62))","v":0}]
["104.2.01","C104.01","Participate in the Cadet Fitness Assessment",3,{"$f":"SUM(COUNTIF(WeekNights!$D$3:$AV$14,'EO Validation'!B63),COUNTIF('Weekend Training'!$D$4:$Y$15,'EO Validation'!B63))","v":0},null,"205.2.01","C205.01","Participate in Physical Activities",9,{"$f":"SUM(COUNTIF(WeekNights!$D$15:$AV$26,'EO Validation'!H63),COUNTIF('Weekend Training'!$D$15:$Y$26,'EO Validation'!H63))","v":0},null,"307.2.03","C307.03","Participate in a Presentation Given by a Guest Speaker from the Air Cadet League of Canada",2,{"$f":"SUM(COUNTIF(WeekNights!$D$27:$AV$38,'EO Validation'!N63),COUNTIF('Weekend Training'!$D$27:$Y$38,'EO Validation'!N63))","v":0},null,"409.2.01","C409.01","Plan a Lesson",2,{"$f":"SUM(COUNTIF(WeekNights!$D$39:$AV$50,'EO Validation'!T63),COUNTIF('Weekend Training'!$D$39:$Y$51,'EO Validation'!T63))","v":0}]
["104.2.02","C104.02","Identify Methods to Manage Stress",1,{"$f":"SUM(COUNTIF(WeekNights!$D$3:$AV$14,'EO Validation'!B64),COUNTIF('Weekend Training'!$D$4:$Y$15,'EO Validation'!B64))","v":0},null,"205.2.02","C205.02","Participate in a Tournament",9,{"$f":"SUM(COUNTIF(WeekNights!$D$15:$AV$26,'EO Validation'!H64),COUNTIF('Weekend Training'!$D$15:$Y$26,'EO Validation'!H64))","v":0},null,"307.2.04","C307.04","Identify the Application Procedure for the Glider and Power Pilot Scholarships",null,{"$f":"SUM(COUNTIF(WeekNights!$D$27:$AV$38,'EO Validation'!N64),COUNTIF('Weekend Training'!$D$27:$Y$38,'EO Validation'!N64))","v":0},null,"409.2.02","C409.02","Instruct a 30-Minute Lesson",3,{"$f":"SUM(COUNTIF(WeekNights!$D$39:$AV$50,'EO Validation'!T64),COUNTIF('Weekend Training'!$D$39:$Y$51,'EO Validation'!T64))","v":0}]
["104.2.03","C104.03","Identify the Food Groups",1,{"$f":"SUM(COUNTIF(WeekNights!$D$3:$AV$14,'EO Validation'!B65),COUNTIF('Weekend Training'!$D$4:$Y$15,'EO Validation'!B65))","v":0},null,"206.2.01","C206.01","Practice Holding Techniques",1,{"$f":"SUM(COUNTIF(WeekNights!$D$15:$AV$26,'EO Validation'!H65),COUNTIF('Weekend Training'!$D$15:$Y$26,'EO Validation'!H65))","v":0},null,"307.2.05","C307.05","Participate in a Presentation on the Duke of Edinburgh Award Program",null,{"$f":"SUM(COUNTIF(WeekNights!$D$27:$AV$38,'EO Validation'!N65),COUNTIF('Weekend Training'!$D$27:$Y$38,'EO Validation'!N65))","v":0},null,"409.2.03","C409.03","Act as an Assistant Instructor",3,{"$f":"SUM(COUNTIF(WeekNights!$D$39:$AV$50,'EO Validation'!T65),COUNTIF('Weekend Training'!$D$39:$Y$51,'EO Validation'!T65))","v":0}]
["105.2.01","C105.01","Participate in Physical Activities",9,{"$f":"SUM(COUNTIF(WeekNights!$D$3:$AV$14,'EO Validation'!B66),COUNTIF('Weekend Training'!$D$4:$Y$15,'EO Validation'!B66))","v":0},null,"206.2.02","C206.02","Practice Aiming Techniques",2,{"$f":"SUM(COUNTIF(WeekNights!$D$15:$AV$26,'EO Validation'!H66),COUNTIF('Weekend Training'!$D$15:$Y$26,'EO Validation'!H66))","v":0},null,"308.2.01","C308.01","Execute Flag Party Drill",4,{"$f":"SUM(COUNTIF(WeekNights!$D$27:$AV$38,'EO Validation'!N66),COUNTIF('Weekend Training'!$D$27:$Y$38,'EO Validation'!N66))","v":0},null,"409.2.04","C409.04","Participate in a Creative Lesson- Planning Workshop",3,{"$f":"SUM(COUNTIF(WeekNights!$D$39:$AV$50,'EO Validation'!T66),COUNTIF('Weekend Training'!$D$39:$Y$51,'EO Validation'!T66))","v":0}]
["106.2.01","C106.01","Participate in a Recreational Marksmanship Activity",3,{"$f":"SUM(COUNTIF(WeekNights!$D$3:$AV$14,'EO Validation'!B67),COUNTIF('Weekend Training'!$D$4:$Y$15,'EO Validation'!B67))","v":0},null,"206.2.03","C206.03","Practice Firing Techniques",1,{"$f":"SUM(COUNTIF(WeekNights!$D$15:$AV$26,'EO Validation'!H67),COUNTIF('Weekend Training'!$D$15:$Y$26,'EO Validation'!H67))","v":0},null,"308.2.02","C308.02","Deliver Words of Command",2,{"$f":"SUM(COUNTIF(WeekNights!$D$27:$AV$38,'EO Validation'!N67),COUNTIF('Weekend Training'!$D$27:$Y$38,'EO Validation'!N67))","v":0},null,"409.2.05","C409.05","Act as an Assistant Drill Instructor",3,{"$f":"SUM(COUNTIF(WeekNights!$D$39:$AV$50,'EO Validation'!T67),COUNTIF('Weekend Training'!$D$39:$Y$51,'EO Validation'!T67))","v":0}]
["106.2.02","C106.02","Clean and Store the Cadet Air Rifle",1,{"$f":"SUM(COUNTIF(WeekNights!$D$3:$AV$14,'EO Validation'!B68),COUNTIF('Weekend Training'!$D$4:$Y$15,'EO Validation'!B68))","v":0},null,"207.2.01","C207.01","Identify the Rank Structure of the Royal Canadian Sea and Army Cadets",1,{"$f":"SUM(COUNTIF(WeekNights!$D$15:$AV$26,'EO Validation'!H68),COUNTIF('Weekend Training'!$D$15:$Y$26,'EO Validation'!H68))","v":1},null,"309.2.01","C309.01","Deliver a One-Minute Verbal Presentation",2,{"$f":"SUM(COUNTIF(WeekNights!$D$27:$AV$38,'EO Validation'!N68),COUNTIF('Weekend Training'!$D$27:$Y$38,'EO Validation'!N68))","v":1},null,"409.2.06","C409.06","Instruct a 30-Minute Drill Lesson",3,{"$f":"SUM(COUNTIF(WeekNights!$D$39:$AV$50,'EO Validation'!T68),COUNTIF('Weekend Training'!$D$39:$Y$51,'EO Validation'!T68))","v":0}]
["107.2.01","C107.01","Maintain the Air Cadet Uniform",2,{"$f":"SUM(COUNTIF(WeekNights!$D$3:$AV$14,'EO Validation'!B69),COUNTIF('Weekend Training'!$D$4:$Y$15,'EO Validation'!B69))","v":2},null,"207.2.02","C207.02","Visit a Royal Canadian Sea / Army Cadet Corps or an Air Cadet Squadron",1,{"$f":"SUM(COUNTIF(WeekNights!$D$15:$AV$26,'EO Validation'!H69),COUNTIF('Weekend Training'!$D$15:$Y$26,'EO Validation'!H69))","v":0},null,"309.2.02","C309.02","Plan a Lesson",2,{"$f":"SUM(COUNTIF(WeekNights!$D$27:$AV$38,'EO Validation'!N69),COUNTIF('Weekend Training'!$D$27:$Y$38,'EO Validation'!N69))","v":0},null,"420.2.01","C420.01","Participate in CAF Familiarization Activities",18,{"$f":"SUM(COUNTIF(WeekNights!$D$39:$AV$50,'EO Validation'!T69),COUNTIF('Weekend Training'!$D$39:$Y$51,'EO Validation'!T69))","v":0}]
["107.2.02","C107.02","Identify the RCAF NCM Rank Structure",1,{"$f":"SUM(COUNTIF(WeekNights!$D$3:$AV$14,'EO Validation'!B70),COUNTIF('Weekend Training'!$D$4:$Y$15,'EO Validation'!B70))","v":1},null,"207.2.03","C207.03","Describe the Affiliated Unit",1,{"$f":"SUM(COUNTIF(WeekNights!$D$15:$AV$26,'EO Validation'!H70),COUNTIF('Weekend Training'!$D$15:$Y$26,'EO Validation'!H70))","v":0},null,"309.2.03","C309.03","Instruct a 15-Minute Lesson",3,{"$f":"SUM(COUNTIF(WeekNights!$D$27:$AV$38,'EO Validation'!N70),COUNTIF('Weekend Training'!$D$27:$Y$38,'EO Validation'!N70))","v":0},null,"429.2.01","C429.01","Explain Regulations and Operating Procedures for Aviation Transmission and Licensing",1,{"$f":"SUM(COUNTIF(WeekNights!$D$39:$AV$50,'EO Validation'!T70),COUNTIF('Weekend Training'!$D$39:$Y$51,'EO Validation'!T70))","v":1}]
["107.2.03","C107.03","Tour the Squadron",1,{"$f":"SUM(COUNTIF(WeekNights!$D$3:$AV$14,'EO Validation'!B71),COUNTIF('Weekend Training'!$D$4:$Y$15,'EO Validation'!B71))","v":0},null,"207.2.04","C207.04","Tour the Affiliated Unit",1,{"$f":"SUM(COUNTIF(WeekNights!$D$15:$AV$26,'EO Validation'!H71),COUNTIF('Weekend Training'!$D$15:$Y$26,'EO Validation'!H71))","v":0},null,"309.2.04","C309.04","Identify Formations for Drill Instruction",1,{"$f":"SUM(COUNTIF(WeekNights!$D$27:$AV$38,'EO Validation'!N71),COUNTIF('Weekend Training'!$D$27:$Y$38,'EO Validation'!N71))","v":1},null,"429.2.02","C429.02","Communicate Using Radio Procedures for Aviation Transmission",1,{"$f":"SUM(COUNTIF(WeekNights!$D$39:$AV$50,'EO Validation'!T71),COUNTIF('Weekend Training'!$D$39:$Y$51,'EO Validation'!T71))","v":1}]
["107.2.04","C107.04","Participate in an Activity about the History of the Squadron",2,{"$f":"SUM(COUNTIF(WeekNights!$D$3:$AV$14,'EO Validation'!B72),COUNTIF('Weekend Training'!$D$4:$Y$15,'EO Validation'!B72))","v":0},null,"208.2.01","C208.01","Practice Ceremonial Drill as a Review",2,{"$f":"SUM(COUNTIF(WeekNights!$D$15:$AV$26,'EO Validation'!H72),COUNTIF('Weekend Training'!$D$15:$Y$26,'EO Validation'!H72))","v":2},null,"309.2.05","C309.05","Plan a Drill Lesson",2,{"$f":"SUM(COUNTIF(WeekNights!$D$27:$AV$38,'EO Validation'!N72),COUNTIF('Weekend Training'!$D$27:$Y$38,'EO Validation'!N72))","v":0},null,"429.2.03","C429.03","Describe Radio Wavelengths, Signals, Licences and Equipment",1,{"$f":"SUM(COUNTIF(WeekNights!$D$39:$AV$50,'EO Validation'!T72),COUNTIF('Weekend Training'!$D$39:$Y$51,'EO Validation'!T72))","v":1}]
["108.2.01","C108.01","Execute Supplementary Drill Movements",6,{"$f":"SUM(COUNTIF(WeekNights!$D$3:$AV$14,'EO Validation'!B73),COUNTIF('Weekend Training'!$D$4:$Y$15,'EO Validation'!B73))","v":0},null,"208.2.02","C208.02","Execute Drill With Arms",8,{"$f":"SUM(COUNTIF(WeekNights!$D$15:$AV$26,'EO Validation'!H73),COUNTIF('Weekend Training'!$D$15:$Y$26,'EO Validation'!H73))","v":0},null,"309.2.06","C309.06","Instruct a 15-Minute Drill Lesson",3,{"$f":"SUM(COUNTIF(WeekNights!$D$27:$AV$38,'EO Validation'!N73),COUNTIF('Weekend Training'!$D$27:$Y$38,'EO Validation'!N73))","v":0},null,"429.2.04","C429.04","Explain Emergency, Urgency and Safety Communications",1,{"$f":"SUM(COUNTIF(WeekNights!$D$39:$AV$50,'EO Validation'!T73),COUNTIF('Weekend Training'!$D$39:$Y$51,'EO Validation'!T73))","v":1}]
["108.2.02","C108.02","Participate in a Drill Competition",3,{"$f":"SUM(COUNTIF(WeekNights!$D$3:$AV$14,'EO Validation'!B74),COUNTIF('Weekend Training'!$D$4:$Y$15,'EO Validation'!B74))","v":0},null,"211.2.01","C211.01","Identify Civilian Biathlon Opportunities",1,{"$f":"SUM(COUNTIF(WeekNights!$D$15:$AV$26,'EO Validation'!H74),COUNTIF('Weekend Training'!$D$15:$Y$26,'EO Validation'!H74))","v":0},null,"311.2.01","C311.01","Practice Aiming and Firing the Cadet Air Rifle Following Physical Activity",3,{"$f":"SUM(COUNTIF(WeekNights!$D$27:$AV$38,'EO Validation'!N74),COUNTIF('Weekend Training'!$D$27:$Y$38,'EO Validation'!N74))","v":0},null,"431.2.01","C431.01","Explain Flight Performance Factors",2,{"$f":"SUM(COUNTIF(WeekNights!$D$39:$AV$50,'EO Validation'!T74),COUNTIF('Weekend Training'!$D$39:$Y$51,'EO Validation'!T74))","v":0}]
["111.2.01","C111.01","Participate in a Biathlon Briefing",1,{"$f":"SUM(COUNTIF(WeekNights!$D$3:$AV$14,'EO Validation'!B75),COUNTIF('Weekend Training'!$D$4:$Y$15,'EO Validation'!B75))","v":0},null,"211.2.02","C211.02","Run on Alternate Terrain",1,{"$f":"SUM(COUNTIF(WeekNights!$D$15:$AV$26,'EO Validation'!H75),COUNTIF('Weekend Training'!$D$15:$Y$26,'EO Validation'!H75))","v":0},null,"311.2.02","C311.02","Participate in a Recreational Summer Biathlon Activity",6,{"$f":"SUM(COUNTIF(WeekNights!$D$27:$AV$38,'EO Validation'!N75),COUNTIF('Weekend Training'!$D$27:$Y$38,'EO Validation'!N75))","v":0},null,"431.2.02","C431.02","Demonstrate Turns, Climbs and Descents in a Flight Simulator",3,{"$f":"SUM(COUNTIF(WeekNights!$D$39:$AV$50,'EO Validation'!T75),COUNTIF('Weekend Training'!$D$39:$Y$51,'EO Validation'!T75))","v":0}]
["111.2.02","C111.02","Run Wind Sprints",1,{"$f":"SUM(COUNTIF(WeekNights!$D$3:$AV$14,'EO Validation'!B76),COUNTIF('Weekend Training'!$D$4:$Y$15,'EO Validation'!B76))","v":0},null,"211.2.03","C211.03","Fire the Cadet Air Rifle using a Sling Following Physical Activity",1,{"$f":"SUM(COUNTIF(WeekNights!$D$15:$AV$26,'EO Validation'!H76),COUNTIF('Weekend Training'!$D$15:$Y$26,'EO Validation'!H76))","v":0},null,"320.2.01","C320.01","Participate in CAF Familiarization Activities",18,{"$f":"SUM(COUNTIF(WeekNights!$D$27:$AV$38,'EO Validation'!N76),COUNTIF('Weekend Training'!$D$27:$Y$38,'EO Validation'!N76))","v":0},null,"431.2.03","C431.03","Fly a Radio-Controlled Aircraft",3,{"$f":"SUM(COUNTIF(WeekNights!$D$39:$AV$50,'EO Validation'!T76),COUNTIF('Weekend Training'!$D$39:$Y$51,'EO Validation'!T76))","v":0}]
["111.2.03","C111.03","Simulate Firing the Cadet Air Rifle Following Physical Activity",1,{"$f":"SUM(COUNTIF(WeekNights!$D$3:$AV$14,'EO Validation'!B77),COUNTIF('Weekend Training'!$D$4:$Y$15,'EO Validation'!B77))","v":0},null,"211.2.04","C211.04","Participate in a Competitive Summer Biathlon Activity",6,{"$f":"SUM(COUNTIF(WeekNights!$D$15:$AV$26,'EO Validation'!H77),COUNTIF('Weekend Training'!$D$15:$Y$26,'EO Validation'!H77))","v":0},null,"331.2.01","C331.01","Review Principles of Flight",1,{"$f":"SUM(COUNTIF(WeekNights!$D$27:$AV$38,'EO Validation'!N77),COUNTIF('Weekend Training'!$D$27:$Y$38,'EO Validation'!N77))","v":1},null,"432.2.01","C432.01","Describe Ignition and Electrical Systems",1,{"$f":"SUM(COUNTIF(WeekNights!$D$39:$AV$50,'EO Validation'!T77),COUNTIF('Weekend Training'!$D$39:$Y$51,'EO Validation'!T77))","v":0}]
["111.2.04","C111.04","Participate in a Recreational Summer Biathlon Activity",6,{"$f":"SUM(COUNTIF(WeekNights!$D$3:$AV$14,'EO Validation'!B78),COUNTIF('Weekend Training'!$D$4:$Y$15,'EO Validation'!B78))","v":0},null,"220.2.01","C220.01","Participate in CAF Familiarization Activities",18,{"$f":"SUM(COUNTIF(WeekNights!$D$15:$AV$26,'EO Validation'!H78),COUNTIF('Weekend Training'!$D$15:$Y$26,'EO Validation'!H78))","v":0},null,"331.2.02","C331.02","Read Pitot Static Instruments",2,{"$f":"SUM(COUNTIF(WeekNights!$D$27:$AV$38,'EO Validation'!N78),COUNTIF('Weekend Training'!$D$27:$Y$38,'EO Validation'!N78))","v":0},null,"432.2.02","C432.02","Describe Turbocharging and Supercharging Systems",1,{"$f":"SUM(COUNTIF(WeekNights!$D$39:$AV$50,'EO Validation'!T78),COUNTIF('Weekend Training'!$D$39:$Y$51,'EO Validation'!T78))","v":0}]
["120.2.01","C120.01","Participate in CAF Familiarization Activities",18,{"$f":"SUM(COUNTIF(WeekNights!$D$3:$AV$14,'EO Validation'!B79),COUNTIF('Weekend Training'!$D$4:$Y$15,'EO Validation'!B79))","v":0},null,"230.2.01","C230.01","Participate in a Presentation Given by a Member of the Memory Project Speakers Bureau",2,{"$f":"SUM(COUNTIF(WeekNights!$D$15:$AV$26,'EO Validation'!H79),COUNTIF('Weekend Training'!$D$15:$Y$26,'EO Validation'!H79))","v":0},null,"331.2.03","C331.03","Identify Aspects of Helicopter Aerodynamics",1,{"$f":"SUM(COUNTIF(WeekNights!$D$27:$AV$38,'EO Validation'!N79),COUNTIF('Weekend Training'!$D$27:$Y$38,'EO Validation'!N79))","v":0},null,"432.2.03","C432.03","Describe Gas Turbine Engines",1,{"$f":"SUM(COUNTIF(WeekNights!$D$39:$AV$50,'EO Validation'!T79),COUNTIF('Weekend Training'!$D$39:$Y$51,'EO Validation'!T79))","v":0}]
["121.2.01","C121.01","Participate in a Presentation Given by a Member of the Canadian Aviation, Aerospace or Aerodrome Operations Community",8,{"$f":"SUM(COUNTIF(WeekNights!$D$3:$AV$14,'EO Validation'!B80),COUNTIF('Weekend Training'!$D$4:$Y$15,'EO Validation'!B80))","v":0},null,"230.2.02","C230.02","Tour a Local Aviation Museum",3,{"$f":"SUM(COUNTIF(WeekNights!$D$15:$AV$26,'EO Validation'!H80),COUNTIF('Weekend Training'!$D$15:$Y$26,'EO Validation'!H80))","v":0},null,"331.2.04","C331.04","Demonstrate Attitudes and Movements in a Flight Simulator",3,{"$f":"SUM(COUNTIF(WeekNights!$D$27:$AV$38,'EO Validation'!N80),COUNTIF('Weekend Training'!$D$27:$Y$38,'EO Validation'!N80))","v":0},null,"436.2.01","C436.01","Explain Fog",1,{"$f":"SUM(COUNTIF(WeekNights!$D$39:$AV$50,'EO Validation'!T80),COUNTIF('Weekend Training'!$D$39:$Y$51,'EO Validation'!T80))","v":0}]
["130.2.01","C130.01","Participate in a Walk-Around Aircraft Inspection",1,{"$f":"SUM(COUNTIF(WeekNights!$D$3:$AV$14,'EO Validation'!B81),COUNTIF('Weekend Training'!$D$4:$Y$15,'EO Validation'!B81))","v":1},null,"230.2.03","C230.03","Discuss Significant Canadian Historical Events Relative to Aviation",1,{"$f":"SUM(COUNTIF(WeekNights!$D$15:$AV$26,'EO Validation'!H81),COUNTIF('Weekend Training'!$D$15:$Y$26,'EO Validation'!H81))","v":1},null,"331.2.05","C331.05","Participate in a Presentation Given by a Guest Speaker From the Local Aviation Community",2,{"$f":"SUM(COUNTIF(WeekNights!$D$27:$AV$38,'EO Validation'!N81),COUNTIF('Weekend Training'!$D$27:$Y$38,'EO Validation'!N81))","v":0},null,"436.2.02","C436.02","Describe Severe Weather Conditions",1,{"$f":"SUM(COUNTIF(WeekNights!$D$39:$AV$50,'EO Validation'!T81),COUNTIF('Weekend Training'!$D$39:$Y$51,'EO Validation'!T81))","v":1}]
["130.2.02","C130.02","Identify International Aircraft",1,{"$f":"SUM(COUNTIF(WeekNights!$D$3:$AV$14,'EO Validation'!B82),COUNTIF('Weekend Training'!$D$4:$Y$15,'EO Validation'!B82))","v":0},null,"231.2.01","C231.01","Operate an Experimental Wing",2,{"$f":"SUM(COUNTIF(WeekNights!$D$15:$AV$26,'EO Validation'!H82),COUNTIF('Weekend Training'!$D$15:$Y$26,'EO Validation'!H82))","v":0},null,"336.2.01","C336.01","Read an Aviation Routine Weather Report (METAR)",2,{"$f":"SUM(COUNTIF(WeekNights!$D$27:$AV$38,'EO Validation'!N82),COUNTIF('Weekend Training'!$D$27:$Y$38,'EO Validation'!N82))","v":0},null,"436.2.03","C436.03","Analyze Weather Information",3,{"$f":"SUM(COUNTIF(WeekNights!$D$39:$AV$50,'EO Validation'!T82),COUNTIF('Weekend Training'!$D$39:$Y$51,'EO Validation'!T82))","v":0}]
["130.2.03","C130.03","Watch On Canadian Wings Video",8,{"$f":"SUM(COUNTIF(WeekNights!$D$3:$AV$14,'EO Validation'!B83),COUNTIF('Weekend Training'!$D$4:$Y$15,'EO Validation'!B83))","v":0},null,"231.2.02","C231.02","Fly a Paper Colditz Glider",2,{"$f":"SUM(COUNTIF(WeekNights!$D$15:$AV$26,'EO Validation'!H83),COUNTIF('Weekend Training'!$D$15:$Y$26,'EO Validation'!H83))","v":2},null,"336.2.02","C336.02","Tour a Meteorological Facility",3,{"$f":"SUM(COUNTIF(WeekNights!$D$27:$AV$38,'EO Validation'!N83),COUNTIF('Weekend Training'!$D$27:$Y$38,'EO Validation'!N83))","v":0},null,"437.2.01","C437.01","Solve Navigation Problems with a Manual Flight Computer",2,{"$f":"SUM(COUNTIF(WeekNights!$D$39:$AV$50,'EO Validation'!T83),COUNTIF('Weekend Training'!$D$39:$Y$51,'EO Validation'!T83))","v":0}]
["130.2.04","C130.04","Tour a Local Aviation Museum",3,{"$f":"SUM(COUNTIF(WeekNights!$D$3:$AV$14,'EO Validation'!B84),COUNTIF('Weekend Training'!$D$4:$Y$15,'EO Validation'!B84))","v":0},null,"231.2.03","C231.03","Tour a Flight School",3,{"$f":"SUM(COUNTIF(WeekNights!$D$15:$AV$26,'EO Validation'!H84),COUNTIF('Weekend Training'!$D$15:$Y$26,'EO Validation'!H84))","v":0},null,"336.2.03","C336.03","Participate in a Presentation Given by an Flight Services Specialist",2,{"$f":"SUM(COUNTIF(WeekNights!$D$27:$AV$38,'EO Validation'!N84),COUNTIF('Weekend Training'!$D$27:$Y$38,'EO Validation'!N84))","v":0},null,"437.2.02","C437.02","Use a Visual Flight Rules (VFR) Navigation Chart (VNC)",2,{"$f":"SUM(COUNTIF(WeekNights!$D$39:$AV$50,'EO Validation'!T84),COUNTIF('Weekend Training'!$D$39:$Y$51,'EO Validation'!T84))","v":0}]
["130.2.05","C130.05","Attend a Local Air Show",6,{"$f":"SUM(COUNTIF(WeekNights!$D$3:$AV$14,'EO Validation'!B85),COUNTIF('Weekend Training'!$D$4:$Y$15,'EO Validation'!B85))","v":0},null,"231.2.04","C231.04","Participate in a Presentation Given by a Guest Speaker from the Local Aviation Community",2,{"$f":"SUM(COUNTIF(WeekNights!$D$15:$AV$26,'EO Validation'!H85),COUNTIF('Weekend Training'!$D$15:$Y$26,'EO Validation'!H85))","v":0},null,"337.2.01","C337.01","Operate a Radio for Aviation Transmission",1,{"$f":"SUM(COUNTIF(WeekNights!$D$27:$AV$38,'EO Validation'!N85),COUNTIF('Weekend Training'!$D$27:$Y$38,'EO Validation'!N85))","v":0},null,"440.2.01","C440.01","Describe Model Rocketry",2,{"$f":"SUM(COUNTIF(WeekNights!$D$39:$AV$50,'EO Validation'!T85),COUNTIF('Weekend Training'!$D$39:$Y$51,'EO Validation'!T85))","v":0}]
["140.2.01","C140.01","Launch a Foam Rocket",2,{"$f":"SUM(COUNTIF(WeekNights!$D$3:$AV$14,'EO Validation'!B86),COUNTIF('Weekend Training'!$D$4:$Y$15,'EO Validation'!B86))","v":0},null,"231.2.05","C231.05","Tour a Flight Simulator",3,{"$f":"SUM(COUNTIF(WeekNights!$D$15:$AV$26,'EO Validation'!H86),COUNTIF('Weekend Training'!$D$15:$Y$26,'EO Validation'!H86))","v":0},null,"337.2.02","C337.02","Practice Air Navigation Skills",1,{"$f":"SUM(COUNTIF(WeekNights!$D$27:$AV$38,'EO Validation'!N86),COUNTIF('Weekend Training'!$D$27:$Y$38,'EO Validation'!N86))","v":0},null,"440.2.02","C440.02","Launch a Small Model Rocket",3,{"$f":"SUM(COUNTIF(WeekNights!$D$39:$AV$50,'EO Validation'!T86),COUNTIF('Weekend Training'!$D$39:$Y$51,'EO Validation'!T86))","v":0}]
["140.2.02","C140.02","Discuss Sleep Patterns in Space",2,{"$f":"SUM(COUNTIF(WeekNights!$D$3:$AV$14,'EO Validation'!B87),COUNTIF('Weekend Training'!$D$4:$Y$15,'EO Validation'!B87))","v":2},null,"231.2.06","C231.06","Tour a Local Air Show",6,{"$f":"SUM(COUNTIF(WeekNights!$D$15:$AV$26,'EO Validation'!H87),COUNTIF('Weekend Training'!$D$15:$Y$26,'EO Validation'!H87))","v":0},null,"340.2.01","C340.01","Identify Canadian Astronauts",2,{"$f":"SUM(COUNTIF(WeekNights!$D$27:$AV$38,'EO Validation'!N87),COUNTIF('Weekend Training'!$D$27:$Y$38,'EO Validation'!N87))","v":0},null,"440.2.03","C440.03","Discuss Characteristics of the Planets in the Solar System",2,{"$f":"SUM(COUNTIF(WeekNights!$D$39:$AV$50,'EO Validation'!T87),COUNTIF('Weekend Training'!$D$39:$Y$51,'EO Validation'!T87))","v":0}]
["160.2.01","C160.01","Tour a Local Aerodrome",3,{"$f":"SUM(COUNTIF(WeekNights!$D$3:$AV$14,'EO Validation'!B88),COUNTIF('Weekend Training'!$D$4:$Y$15,'EO Validation'!B88))","v":0},null,"232.2.01","C232.01","Identify the Characteristics of Gas Turbine Engines",2,{"$f":"SUM(COUNTIF(WeekNights!$D$15:$AV$26,'EO Validation'!H88),COUNTIF('Weekend Training'!$D$15:$Y$26,'EO Validation'!H88))","v":0},null,"340.2.02","C340.02","Discuss the Canadian Space Program",1,{"$f":"SUM(COUNTIF(WeekNights!$D$27:$AV$38,'EO Validation'!N88),COUNTIF('Weekend Training'!$D$27:$Y$38,'EO Validation'!N88))","v":0},null,"440.2.04","C440.04","Apply the Material Science of Trusses",3,{"$f":"SUM(COUNTIF(WeekNights!$D$39:$AV$50,'EO Validation'!T88),COUNTIF('Weekend Training'!$D$39:$Y$51,'EO Validation'!T88))","v":0}]
["170.2.01","C170.01","Watch How It’s Made Segments",2,{"$f":"SUM(COUNTIF(WeekNights!$D$3:$AV$14,'EO Validation'!B89),COUNTIF('Weekend Training'!$D$4:$Y$15,'EO Validation'!B89))","v":2},null,"232.2.02","C232.02","Identify the Characteristics of Gas Turbine Engines",2,{"$f":"SUM(COUNTIF(WeekNights!$D$15:$AV$26,'EO Validation'!H89),COUNTIF('Weekend Training'!$D$15:$Y$26,'EO Validation'!H89))","v":0},null,"340.2.03","C340.03","Discuss Unmanned Space Exploration",2,{"$f":"SUM(COUNTIF(WeekNights!$D$27:$AV$38,'EO Validation'!N89),COUNTIF('Weekend Training'!$D$27:$Y$38,'EO Validation'!N89))","v":0},null,"440.2.05","C440.05","Describe Robotics",1,{"$f":"SUM(COUNTIF(WeekNights!$D$39:$AV$50,'EO Validation'!T89),COUNTIF('Weekend Training'!$D$39:$Y$51,'EO Validation'!T89))","v":0}]
["170.2.02","C170.02","Tour a Local Aviation Maintenance Facility",3,{"$f":"SUM(COUNTIF(WeekNights!$D$3:$AV$14,'EO Validation'!B90),COUNTIF('Weekend Training'!$D$4:$Y$15,'EO Validation'!B90))","v":0},null,"232.2.03","C232.03","Identify the Characteristics of Helicopter Engines",2,{"$f":"SUM(COUNTIF(WeekNights!$D$15:$AV$26,'EO Validation'!H90),COUNTIF('Weekend Training'!$D$15:$Y$26,'EO Validation'!H90))","v":2},null,"340.2.04","C340.04","Describe Elements of the Night Sky",1,{"$f":"SUM(COUNTIF(WeekNights!$D$27:$AV$38,'EO Validation'!N90),COUNTIF('Weekend Training'!$D$27:$Y$38,'EO Validation'!N90))","v":0},null,"440.2.06","C440.06","Use Star Charts",2,{"$f":"SUM(COUNTIF(WeekNights!$D$39:$AV$50,'EO Validation'!T90),COUNTIF('Weekend Training'!$D$39:$Y$51,'EO Validation'!T90))","v":0}]
["190.2.01","C190.01","Participate in a Presentation Given by a Member of a Survival Organization / Search and Rescue (SAR) Community",2,{"$f":"SUM(COUNTIF(WeekNights!$D$3:$AV$14,'EO Validation'!B91),COUNTIF('Weekend Training'!$D$4:$Y$15,'EO Validation'!B91))","v":0},null,"240.2.01","C240.01","Participate in a Non-Verbal Communication Activity",1,{"$f":"SUM(COUNTIF(WeekNights!$D$15:$AV$26,'EO Validation'!H91),COUNTIF('Weekend Training'!$D$15:$Y$26,'EO Validation'!H91))","v":0},null,"340.2.05","C340.05","Simulate Life in Space",3,{"$f":"SUM(COUNTIF(WeekNights!$D$27:$AV$38,'EO Validation'!N91),COUNTIF('Weekend Training'!$D$27:$Y$38,'EO Validation'!N91))","v":0},null,"440.2.07","C440.07","Operate a Telescope",2,{"$f":"SUM(COUNTIF(WeekNights!$D$39:$AV$50,'EO Validation'!T91),COUNTIF('Weekend Training'!$D$39:$Y$51,'EO Validation'!T91))","v":0}]
["190.2.02","C190.02","Tie Knots and Lashings",2,{"$f":"SUM(COUNTIF(WeekNights!$D$3:$AV$14,'EO Validation'!B92),COUNTIF('Weekend Training'!$D$4:$Y$15,'EO Validation'!B92))","v":2},null,"240.2.02","C240.02","Invent a Communication System for Space",2,{"$f":"SUM(COUNTIF(WeekNights!$D$15:$AV$26,'EO Validation'!H92),COUNTIF('Weekend Training'!$D$15:$Y$26,'EO Validation'!H92))","v":0},null,"340.2.06","C340.06","Launch a Water Rocket",3,{"$f":"SUM(COUNTIF(WeekNights!$D$27:$AV$38,'EO Validation'!N92),COUNTIF('Weekend Training'!$D$27:$Y$38,'EO Validation'!N92))","v":0},null,"440.2.08","C440.08","Watch BLAST! (Balloon-Borne Large Aperture Sub-Millimetre Telescope)",3,{"$f":"SUM(COUNTIF(WeekNights!$D$39:$AV$50,'EO Validation'!T92),COUNTIF('Weekend Training'!$D$39:$Y$51,'EO Validation'!T92))","v":0}]
["190.2.03","C190.03","Construct a Hootchie-Style Shelter",3,{"$f":"SUM(COUNTIF(WeekNights!$D$3:$AV$14,'EO Validation'!B93),COUNTIF('Weekend Training'!$D$4:$Y$15,'EO Validation'!B93))","v":0},null,"240.2.03","C240.03","Identify Parts of a Rocket",1,{"$f":"SUM(COUNTIF(WeekNights!$D$15:$AV$26,'EO Validation'!H93),COUNTIF('Weekend Training'!$D$15:$Y$26,'EO Validation'!H93))","v":1},null,"340.2.07","C340.07","Identify Global Position System (GPS) Components",2,{"$f":"SUM(COUNTIF(WeekNights!$D$27:$AV$38,'EO Validation'!N93),COUNTIF('Weekend Training'!$D$27:$Y$38,'EO Validation'!N93))","v":0},null,"440.2.09","C440.09","Describe the Relationship Between Gravity and Space-Time",2,{"$f":"SUM(COUNTIF(WeekNights!$D$39:$AV$50,'EO Validation'!T93),COUNTIF('Weekend Training'!$D$39:$Y$51,'EO Validation'!T93))","v":0}]
["190.2.04","C190.04","Collect Drinking Water in the Field",2,{"$f":"SUM(COUNTIF(WeekNights!$D$3:$AV$14,'EO Validation'!B94),COUNTIF('Weekend Training'!$D$4:$Y$15,'EO Validation'!B94))","v":2},null,"240.2.04","C240.04","Navigate with a Global Positioning System (GPS)",3,{"$f":"SUM(COUNTIF(WeekNights!$D$15:$AV$26,'EO Validation'!H94),COUNTIF('Weekend Training'!$D$15:$Y$26,'EO Validation'!H94))","v":0},null,"340.2.08","C340.08","Describe Aspects of the International Space Station (ISS)",1,{"$f":"SUM(COUNTIF(WeekNights!$D$27:$AV$38,'EO Validation'!N94),COUNTIF('Weekend Training'!$D$27:$Y$38,'EO Validation'!N94))","v":0},null,"440.2.10","C440.10","Discuss Kinetic and Potential Energy",1,{"$f":"SUM(COUNTIF(WeekNights!$D$39:$AV$50,'EO Validation'!T94),COUNTIF('Weekend Training'!$D$39:$Y$51,'EO Validation'!T94))","v":0}]
["190.2.05","C190.05","Identify Environmental Injuries",1,{"$f":"SUM(COUNTIF(WeekNights!$D$3:$AV$14,'EO Validation'!B95),COUNTIF('Weekend Training'!$D$4:$Y$15,'EO Validation'!B95))","v":1},null,"240.2.05","C240.05","Simulate Survival in Space",2,{"$f":"SUM(COUNTIF(WeekNights!$D$15:$AV$26,'EO Validation'!H95),COUNTIF('Weekend Training'!$D$15:$Y$26,'EO Validation'!H95))","v":2},null,"340.2.09","C340.09","Participate in a Presentation Given by a Guest Speaker from the Astronomy Community or Aerospace Industry",2,{"$f":"SUM(COUNTIF(WeekNights!$D$27:$AV$38,'EO Validation'!N95),COUNTIF('Weekend Training'!$D$27:$Y$38,'EO Validation'!N95))","v":0},null,"440.2.11","C440.11","Watch Einstein's Big Idea",5,{"$f":"SUM(COUNTIF(WeekNights!$D$39:$AV$50,'EO Validation'!T95),COUNTIF('Weekend Training'!$D$39:$Y$51,'EO Validation'!T95))","v":0}]
["190.2.06","C190.06","Respect the Environment in the Field",1,{"$f":"SUM(COUNTIF(WeekNights!$D$3:$AV$14,'EO Validation'!B96),COUNTIF('Weekend Training'!$D$4:$Y$15,'EO Validation'!B96))","v":1},null,"240.2.06","C240.06","Determine Direction Using Constellations on a Field Exercise",1,{"$f":"SUM(COUNTIF(WeekNights!$D$15:$AV$26,'EO Validation'!H96),COUNTIF('Weekend Training'!$D$15:$Y$26,'EO Validation'!H96))","v":0},null,"340.2.10","C340.10","Identify Online Stargazing Programs",1,{"$f":"SUM(COUNTIF(WeekNights!$D$27:$AV$38,'EO Validation'!N96),COUNTIF('Weekend Training'!$D$27:$Y$38,'EO Validation'!N96))","v":0},null,"460.2.01","C460.01","Describe Aerodrome Operations Career Opportunities",1,{"$f":"SUM(COUNTIF(WeekNights!$D$39:$AV$50,'EO Validation'!T96),COUNTIF('Weekend Training'!$D$39:$Y$51,'EO Validation'!T96))","v":0}]
["190.2.07","C190.07","Identify Habitats of Animals and Insects",1,{"$f":"SUM(COUNTIF(WeekNights!$D$3:$AV$14,'EO Validation'!B97),COUNTIF('Weekend Training'!$D$4:$Y$15,'EO Validation'!B97))","v":0},null,"260.2.01","C260.01","Tour an Aerodrome Security Facility",3,{"$f":"SUM(COUNTIF(WeekNights!$D$15:$AV$26,'EO Validation'!H97),COUNTIF('Weekend Training'!$D$15:$Y$26,'EO Validation'!H97))","v":0},null,"360.2.01","C360.01","Identify Types of Aerodromes",1,{"$f":"SUM(COUNTIF(WeekNights!$D$27:$AV$38,'EO Validation'!N97),COUNTIF('Weekend Training'!$D$27:$Y$38,'EO Validation'!N97))","v":0},null,"460.2.02","C460.02","Describe Air Traffic Control (ATC) Career Opportunities",1,{"$f":"SUM(COUNTIF(WeekNights!$D$39:$AV$50,'EO Validation'!T97),COUNTIF('Weekend Training'!$D$39:$Y$51,'EO Validation'!T97))","v":0}]
[{"$nulls":6},"260.2.02","C260.02","Tour an Air Traffic Control (ATC) Tower",3,{"$f":"SUM(COUNTIF(WeekNights!$D$15:$AV$26,'EO Validation'!H98),COUNTIF('Weekend Training'!$D$15:$Y$26,'EO Validation'!H98))","v":0},null,"360.2.02","C360.02","Explain Aspects of Aerodrome Lighting",1,{"$f":"SUM(COUNTIF(WeekNights!$D$27:$AV$38,'EO Validation'!N98),COUNTIF('Weekend Training'!$D$27:$Y$38,'EO Validation'!N98))","v":0},null,"460.2.03","C460.03","Describe Airport Security Career Opportunities",1,{"$f":"SUM(COUNTIF(WeekNights!$D$39:$AV$50,'EO Validation'!T98),COUNTIF('Weekend Training'!$D$39:$Y$51,'EO Validation'!T98))","v":0}]
[{"$nulls":6},"260.2.03","C260.03","Participate in a Presentation Given by an Employee of an Aerodrome",2,{"$f":"SUM(COUNTIF(WeekNights!$D$15:$AV$26,'EO Validation'!H99),COUNTIF('Weekend Training'!$D$15:$Y$26,'EO Validation'!H99))","v":0},null,"360.2.03","C360.03","Construct a Model of the Airspace at an Aerodrome",3,{"$f":"SUM(COUNTIF(WeekNights!$D$27:$AV$38,'EO Validation'!N99),COUNTIF('Weekend Training'!$D$27:$Y$38,'EO Validation'!N99))","v":0},null,"470.2.01","C470.01","Discuss Aircraft Manufacturers",1,{"$f":"SUM(COUNTIF(WeekNights!$D$39:$AV$50,'EO Validation'!T99),COUNTIF('Weekend Training'!$D$39:$Y$51,'EO Validation'!T99))","v":0}]
[{"$nulls":6},"260.2.04","C260.04","Perform Marshalling",1,{"$f":"SUM(COUNTIF(WeekNights!$D$15:$AV$26,'EO Validation'!H100),COUNTIF('Weekend Training'!$D$15:$Y$26,'EO Validation'!H100))","v":1},null,"360.2.04","C360.04","Identify How Equipment is Used at an Aerodrome",1,{"$f":"SUM(COUNTIF(WeekNights!$D$27:$AV$38,'EO Validation'!N100),COUNTIF('Weekend Training'!$D$27:$Y$38,'EO Validation'!N100))","v":0},null,"470.2.02","C470.02","Discuss Aircraft Assembly",1,{"$f":"SUM(COUNTIF(WeekNights!$D$39:$AV$50,'EO Validation'!T100),COUNTIF('Weekend Training'!$D$39:$Y$51,'EO Validation'!T100))","v":0}]
[{"$nulls":6},"260.2.05","C260.05","Tour an Aerodrome",3,{"$f":"SUM(COUNTIF(WeekNights!$D$15:$AV$26,'EO Validation'!H101),COUNTIF('Weekend Training'!$D$15:$Y$26,'EO Validation'!H101))","v":0},null,"360.2.05","C360.05","Identify Aspects of Emergency Response and Aerodrome Security",1,{"$f":"SUM(COUNTIF(WeekNights!$D$27:$AV$38,'EO Validation'!N101),COUNTIF('Weekend Training'!$D$27:$Y$38,'EO Validation'!N101))","v":0},null,"470.2.03","C470.03","Identify Aviation Hardware",1,{"$f":"SUM(COUNTIF(WeekNights!$D$39:$AV$50,'EO Validation'!T101),COUNTIF('Weekend Training'!$D$39:$Y$51,'EO Validation'!T101))","v":0}]
[{"$nulls":6},"270.2.01","C270.01","Participate in a Presentation Given by an Employee in the Aircraft Manufacturing or Maintenance Industry",2,{"$f":"SUM(COUNTIF(WeekNights!$D$15:$AV$26,'EO Validation'!H102),COUNTIF('Weekend Training'!$D$15:$Y$26,'EO Validation'!H102))","v":0},null,"360.2.06","C360.06","Explain Aspects of Air Traffic Services (ATS)",1,{"$f":"SUM(COUNTIF(WeekNights!$D$27:$AV$38,'EO Validation'!N102),COUNTIF('Weekend Training'!$D$27:$Y$38,'EO Validation'!N102))","v":0},null,"470.2.04","C470.04","Disassemble and Reassemble a Small Engine",3,{"$f":"SUM(COUNTIF(WeekNights!$D$39:$AV$50,'EO Validation'!T102),COUNTIF('Weekend Training'!$D$39:$Y$51,'EO Validation'!T102))","v":0}]
[{"$nulls":6},"270.2.02","C270.02","Identify Canadian Aviation Maintenance Council (CAMC) Interactive Multimedia Learning Tool (IMLT) Activities",1,{"$f":"SUM(COUNTIF(WeekNights!$D$15:$AV$26,'EO Validation'!H103),COUNTIF('Weekend Training'!$D$15:$Y$26,'EO Validation'!H103))","v":0},null,"370.2.01","C370.01","Identify Tasks Required to Maintain Aircraft",1,{"$f":"SUM(COUNTIF(WeekNights!$D$27:$AV$38,'EO Validation'!N103),COUNTIF('Weekend Training'!$D$27:$Y$38,'EO Validation'!N103))","v":0},null,"490.2.01","C490.01","Describe Climatic and Seasonal Concerns",1,{"$f":"SUM(COUNTIF(WeekNights!$D$39:$AV$50,'EO Validation'!T103),COUNTIF('Weekend Training'!$D$39:$Y$51,'EO Validation'!T103))","v":0}]
[{"$nulls":6},"270.2.03","C270.03","Tour an Aircraft Manufacturing or Maintenance Facility",3,{"$f":"SUM(COUNTIF(WeekNights!$D$15:$AV$26,'EO Validation'!H104),COUNTIF('Weekend Training'!$D$15:$Y$26,'EO Validation'!H104))","v":0},null,"370.2.02","C370.02","Describe Materials Used in Aircraft Construction",1,{"$f":"SUM(COUNTIF(WeekNights!$D$27:$AV$38,'EO Validation'!N104),COUNTIF('Weekend Training'!$D$27:$Y$38,'EO Validation'!N104))","v":0},null,"490.2.02","C490.02","Improvise Tools for Use in a Survival Situation",2,{"$f":"SUM(COUNTIF(WeekNights!$D$39:$AV$50,'EO Validation'!T104),COUNTIF('Weekend Training'!$D$39:$Y$51,'EO Validation'!T104))","v":0}]
[{"$nulls":6},"270.2.04","C270.04","Watch World’s Biggest Airliner: The Airbus A380 – Coming Together",2,{"$f":"SUM(COUNTIF(WeekNights!$D$15:$AV$26,'EO Validation'!H105),COUNTIF('Weekend Training'!$D$15:$Y$26,'EO Validation'!H105))","v":0},null,"370.2.03","C370.03","Identify Basic Power Tools Used in Aircraft Manufacturing and Maintenance",1,{"$f":"SUM(COUNTIF(WeekNights!$D$27:$AV$38,'EO Validation'!N105),COUNTIF('Weekend Training'!$D$27:$Y$38,'EO Validation'!N105))","v":0},null,"490.2.03","C490.03","Move a Casualty to Shelter",3,{"$f":"SUM(COUNTIF(WeekNights!$D$39:$AV$50,'EO Validation'!T105),COUNTIF('Weekend Training'!$D$39:$Y$51,'EO Validation'!T105))","v":0}]
[{"$nulls":6},"290.2.01","C290.01","Participate in a Presentation Given by a Member of a Survival Organization",2,{"$f":"SUM(COUNTIF(WeekNights!$D$15:$AV$26,'EO Validation'!H106),COUNTIF('Weekend Training'!$D$15:$Y$26,'EO Validation'!H106))","v":0},null,"370.2.04","C370.04","Construct an Aluminium Model Biplane",12,{"$f":"SUM(COUNTIF(WeekNights!$D$27:$AV$38,'EO Validation'!N106),COUNTIF('Weekend Training'!$D$27:$Y$38,'EO Validation'!N106))","v":0},null,"490.2.04","C490.04","Practice Safe Toolcraft",3,{"$f":"SUM(COUNTIF(WeekNights!$D$39:$AV$50,'EO Validation'!T106),COUNTIF('Weekend Training'!$D$39:$Y$51,'EO Validation'!T106))","v":0}]
[{"$nulls":6},"290.2.02","C290.02","Discuss Skinning and Cooking a Small Animal",1,{"$f":"SUM(COUNTIF(WeekNights!$D$15:$AV$26,'EO Validation'!H107),COUNTIF('Weekend Training'!$D$15:$Y$26,'EO Validation'!H107))","v":0},null,"370.2.05","C370.05","Tour an Aircraft Restoration Project",3,{"$f":"SUM(COUNTIF(WeekNights!$D$27:$AV$38,'EO Validation'!N107),COUNTIF('Weekend Training'!$D$27:$Y$38,'EO Validation'!N107))","v":0},null,"490.2.05","C490.05","Navigate a Route Using a Map and Compass",4,{"$f":"SUM(COUNTIF(WeekNights!$D$39:$AV$50,'EO Validation'!T107),COUNTIF('Weekend Training'!$D$39:$Y$51,'EO Validation'!T107))","v":0}]
[{"$nulls":6},"290.2.03","C290.03","Construct a Snow Cave",3,{"$f":"SUM(COUNTIF(WeekNights!$D$15:$AV$26,'EO Validation'!H108),COUNTIF('Weekend Training'!$D$15:$Y$26,'EO Validation'!H108))","v":0},null,"390.2.01","C390.01","Identify Types of Maps",1,{"$f":"SUM(COUNTIF(WeekNights!$D$27:$AV$38,'EO Validation'!N108),COUNTIF('Weekend Training'!$D$27:$Y$38,'EO Validation'!N108))","v":0},null,"490.2.06","C490.06","Erect, Tear Down and Pack Tents",4,{"$f":"SUM(COUNTIF(WeekNights!$D$39:$AV$50,'EO Validation'!T108),COUNTIF('Weekend Training'!$D$39:$Y$51,'EO Validation'!T108))","v":0}]
[{"$nulls":6},"290.2.04","C290.04","Collect Drinking Water Using a Solar Still",2,{"$f":"SUM(COUNTIF(WeekNights!$D$15:$AV$26,'EO Validation'!H109),COUNTIF('Weekend Training'!$D$15:$Y$26,'EO Validation'!H109))","v":0},null,"390.2.02","C390.02","Interpret Contour Lines",1,{"$f":"SUM(COUNTIF(WeekNights!$D$27:$AV$38,'EO Validation'!N109),COUNTIF('Weekend Training'!$D$27:$Y$38,'EO Validation'!N109))","v":0},null,"490.2.07","C490.07","Construct a Hootchie or Lean-to-Style Shelter",3,{"$f":"SUM(COUNTIF(WeekNights!$D$39:$AV$50,'EO Validation'!T109),COUNTIF('Weekend Training'!$D$39:$Y$51,'EO Validation'!T109))","v":0}]
[{"$nulls":6},"290.2.05","C290.05","Participate in a Hike",6,{"$f":"SUM(COUNTIF(WeekNights!$D$15:$AV$26,'EO Validation'!H110),COUNTIF('Weekend Training'!$D$15:$Y$26,'EO Validation'!H110))","v":0},null,"390.2.03","C390.03","Orient a Map by Inspection",1,{"$f":"SUM(COUNTIF(WeekNights!$D$27:$AV$38,'EO Validation'!N110),COUNTIF('Weekend Training'!$D$27:$Y$38,'EO Validation'!N110))","v":0}]
[{"$nulls":12},"390.2.04","C390.04","Orient a Map Using a Compass",1,{"$f":"SUM(COUNTIF(WeekNights!$D$27:$AV$38,'EO Validation'!N111),COUNTIF('Weekend Training'!$D$27:$Y$38,'EO Validation'!N111))","v":0}]
[{"$nulls":12},"390.2.05","C390.05","Calculate Magnetic Declination",2,{"$f":"SUM(COUNTIF(WeekNights!$D$27:$AV$38,'EO Validation'!N112),COUNTIF('Weekend Training'!$D$27:$Y$38,'EO Validation'!N112))","v":0}]
[{"$nulls":12},"390.2.06","C390.06","Determine Direction Using the Sun",1,{"$f":"SUM(COUNTIF(WeekNights!$D$27:$AV$38,'EO Validation'!N113),COUNTIF('Weekend Training'!$D$27:$Y$38,'EO Validation'!N113))","v":0}]
[{"$nulls":12},"390.2.07","C390.07","Determine Direction at Night",1,{"$f":"SUM(COUNTIF(WeekNights!$D$27:$AV$38,'EO Validation'!N114),COUNTIF('Weekend Training'!$D$27:$Y$38,'EO Validation'!N114))","v":0}]
[{"$nulls":12},"390.2.08","C390.08","Use Blazing Techniques",1,{"$f":"SUM(COUNTIF(WeekNights!$D$27:$AV$38,'EO Validation'!N115),COUNTIF('Weekend Training'!$D$27:$Y$38,'EO Validation'!N115))","v":0}]
[{"$nulls":12},"390.2.09","C390.09","Identify Elements of the Night Sky",4,{"$f":"SUM(COUNTIF(WeekNights!$D$27:$AV$38,'EO Validation'!N116),COUNTIF('Weekend Training'!$D$27:$Y$38,'EO Validation'!N116))","v":0}]
[{"$nulls":12},"390.2.10","C390.10","Identify Methods of Preparing and Cooking a Small Animal or Fish",2,{"$f":"SUM(COUNTIF(WeekNights!$D$27:$AV$38,'EO Validation'!N117),COUNTIF('Weekend Training'!$D$27:$Y$38,'EO Validation'!N117))","v":0}]
[{"$nulls":12},"390.2.11","C390.11","Construct Camp Crafts",4,{"$f":"SUM(COUNTIF(WeekNights!$D$27:$AV$38,'EO Validation'!N118),COUNTIF('Weekend Training'!$D$27:$Y$38,'EO Validation'!N118))","v":0}]
[{"$nulls":12},"390.2.12","C390.12","Perform Minor First Aid in a Field Setting",4,{"$f":"SUM(COUNTIF(WeekNights!$D$27:$AV$38,'EO Validation'!N119),COUNTIF('Weekend Training'!$D$27:$Y$38,'EO Validation'!N119))","v":0}]
[{"$nulls":12},"390.2.13","C390.13","Act as a Member of a Ground Search and Rescue (SAR) Party",4,{"$f":"SUM(COUNTIF(WeekNights!$D$27:$AV$38,'EO Validation'!N120),COUNTIF('Weekend Training'!$D$27:$Y$38,'EO Validation'!N120))","v":0}]
[{"$nulls":12},"390.2.14","C390.14","Participate in a Presentation Given by a Guest Speaker from the Search and Rescue (SAR) Community",2,{"$f":"SUM(COUNTIF(WeekNights!$D$27:$AV$38,'EO Validation'!N121),COUNTIF('Weekend Training'!$D$27:$Y$38,'EO Validation'!N121))","v":0}]
{"$rows_empty":19}
[null,"MX01.01A","Participate in a Citizenship Tour"]
[null,"MX01.01B","Attend a Presentation by a Community Organization"]
[null,"MX01.01C","Attend a Presentation by a Citizen-of-Interest"]
[null,"MX01.01D","Participate in the Canadian Citizenship Challenge"]
[null,"MX01.01E","Host a Citizenship Ceremony"]
[null,"MX01.01F","Participate in an Election"]
[null,"MX01.01G","Participate in Heritage Minutes Video Activities"]
[null,"MX01.01H","Participate in Citizenship Learning Stations"]
[]
[null,"MX20.01A","Participate in a CAF Activity"]
[null,"MX20.01B","Participate in a CAF Familiarization Tour"]
[null,"MX20.01C","Fire the C7 Rifle"]
[null,"MX20.01D","Participate in a Mess Dinner"]
[null,"MX20.01E","Attend a CAF Presentation"]
[null,"MX20.01F","Attend a CAF Commemorative Ceremony"]
[null,"MX20.01G","Participate in CAF Video Activities"]
[null,"MX20.01H","Participate in CAF Learning Stations"]

{"sheet":"WRO3","index":9,"n_rows":88,"n_cols":31,"rows_kept":88,"hidden":true,"merged":[[0,1,0,2],[0,3,0,4],[0,20,0,21],[1,7,1,14],[2,5,2,16],[2,23,2,24],[3,8,3,13],[5,2,5,9],[5,12,5,19],[7,2,7,5],[7,6,7,7],[7,8,7,9],[7,12,7,15],[7,16,7,19],[8,2,8,5],[8,6,8,7],[8,8,8,9],[8,12,8,15],[8,16,8,19],[9,2,9,5],[9,6,9,7],[9,8,9,9],[9,12,9,15],[9,16,9,19],[10,2,10,5],[10,6,10,7],[10,8,10,9],[10,12,10,15],[10,16,10,19],[11,2,11,5],[11,6,11,7],[11,8,11,9],[12,2,12,5],[12,6,12,7],[12,8,12,9],[12,12,12,19],[13,2,13,5],[13,6,13,7],[13,8,13,9],[14,2,14,5],[14,6,14,9],[14,12,14,15],[14,16,14,19],[15,2,15,5],[15,6,15,7],[15,8,15,9],[15,12,15,15],[15,16,15,19],[20,0,20,3],[20,4,20,9],[20,10,20,15],[20,16,20,21],[21,0,21,3],[21,4,21,5],[21,6,21,7],[21,8,21,9],[21,10,21,11],[21,12,21,13],[21,14,21,15],[21,16,21,17],[21,18,21,19],[21,20,21,21],[22,0,25,1],[22,4,22,9],[22,10,22,15],[22,16,22,21],[23,4,23,9],[23,10,23,15],[23,16,23,21],[24,4,24,9],[24,10,24,15],[24,16,24,21],[25,4,25,9],[25,10,25,15],[25,16,25,21],[26,0,29,1],[26,4,26,9],[26,10,26,15],[26,16,26,21],[27,4,27,9],[27,10,27,15],[27,16,27,21],[28,4,28,9],[28,10,28,15],[28,16,28,21],[29,4,29,9],[29,10,29,15],[29,16,29,21],[30,0,33,1],[30,4,30,9],[30,10,30,15],[30,16,30,21],[31,4,31,9],[31,10,31,15],[31,16,31,21],[32,4,32,9],[32,10,32,15],[32,16,32,21],[33,4,33,9],[33,10,33,15],[33,16,33,21],[34,0,37,1],[34,4,34,9],[34,10,34,15],[34,16,34,21],[35,4,35,9],[35,10,35,15],[35,16,35,21],[36,4,36,9],[36,10,36,15],[36,16,36,21],[37,4,37,9],[37,10,37,15],[37,16,37,21],[38,0,41,1],[38,4,38,9],[38,10,38,15],[38,16,38,21],[39,4,39,9],[39,10,39,15],[39,16,39,21],[40,4,40,9],[40,10,40,15],[40,16,40,21],[41,4,41,9],[41,10,41,15],[41,16,41,21],[43,4,43,5],[43,6,43,7],[44,4,44,5],[44,6,44,7],[45,4,45,5],[45,6,45,7],[46,4,46,5],[46,6,46,7],[47,0,50,1],[47,2,50,3],[47,4,47,5],[47,6,47,7],[48,4,48,5],[48,6,48,7],[49,4,49,5],[49,6,49,7],[50,4,50,5],[50,6,50,7],[51,0,54,1],[51,2,54,3],[51,4,51,5],[51,6,51,7],[52,4,52,5],[52,6,52,7],[53,4,53,5],[53,6,53,7],[54,4,54,5],[54,6,54,7],[55,0,58,1],[55,2,58,3],[55,4,55,5],[55,6,55,7],[56,4,56,5],[56,6,56,7],[57,4,57,5],[57,6,57,7],[58,4,58,5],[58,6,58,7],[59,0,62,1],[59,2,62,3],[59,4,59,5],[59,6,59,7],[60,4,60,5],[60,6,60,7],[61,4,61,5],[61,6,61,7],[62,4,62,5],[62,6,62,7],[63,0,66,1],[63,2,66,3],[63,4,63,5],[63,6,63,7],[64,4,64,5],[64,6,64,7],[65,4,65,5],[65,6,65,7],[66,4,66,5],[66,6,66,7],[67,0,70,1],[67,2,70,3],[67,4,67,5],[67,6,67,7],[68,4,68,5],[68,6,68,7],[69,4,69,5],[69,6,69,7],[70,4,70,5],[70,6,70,7],[74,0,74,21],[75,0,81,21]]}
["Date:",{"$f":"TEXT(X3,\"dddd\")","v":"Tuesday"},null,{"$f":"X3","v":"2021-09-07"},{"$nulls":15},"RO No.",{"$f":"IF(LOOKUP(X3,AC1:AC40)=X3,LOOKUP(X3,AC1:AC40,AD1:AD40))","v":1},{"$nulls":7},{"$f":"WeekNights!$D$2","v":"2021-09-07"},1]
[{"$nulls":7},"Weekly Routine Orders",{"$nulls":15},"Choose a Date;",{"$nulls":4},{"$f":"AC1+7","v":"2021-09-14"},2]
[{"$nulls":5},{"$f":"'Unit Info'!$B$1","v":"364 Lancaster"},{"$nulls":17},"2021-09-07",null,null,"<---- STEP 1",null,{"$f":"AC2+7","v":"2021-09-21"},3,"Choose a Date"]
[{"$nulls":28},"2021-09-28",4]
[{"$nulls":26},"<---- STEP 2",null,"2021-10-05",5,"Click to Update WRO"]
[null,null,"EVENING SCHEDULE",{"$nulls":9},"DUTY",{"$nulls":15},"2021-10-12",6]
[{"$nulls":28},"2021-10-19",7]
[null,null,"Activity",{"$nulls":3},"Start",null,"Finish",{"$nulls":3},{"$f":"'Unit Info'!G9","v":"Duty Officer"},{"$nulls":3},{"$f":"'Unit Info'!G10","v":"Duty Sr NCO"},{"$nulls":11},"2021-10-26",8]
[null,null," Fall-In/Inspection",{"$nulls":3},{"$f":"'Unit Info'!B4","v":"18:30:00"},null,{"$f":"'Unit Info'!C4","v":"18:55:00"},{"$nulls":19},"2021-11-02",9]
[null,null," Period 1",{"$nulls":3},{"$f":"'Unit Info'!B5","v":"19:00:00"},null,{"$f":"'Unit Info'!C5","v":"19:30:00"},{"$nulls":3},{"$f":"'Unit Info'!G11","v":"Duty Jr NCO"},{"$nulls":3},{"$f":"'Unit Info'!G12","v":"Duty Flight"},{"$nulls":11},"2021-11-09",10]
[null,null," Period 2",{"$nulls":3},{"$f":"'Unit Info'!B6","v":"19:35:00"},null,{"$f":"'Unit Info'!C6","v":"20:05:00"},{"$nulls":19},"2021-11-16",11]
[null,null," Break",{"$nulls":3},{"$f":"'Unit Info'!B7","v":"20:10:00"},null,{"$f":"'Unit Info'!C7","v":"20:30:00"},{"$nulls":19},"2021-11-23",12]
[null,null," Period 3",{"$nulls":3},{"$f":"'Unit Info'!B8","v":"20:25:00"},null,{"$f":"'Unit Info'!C8","v":"20:55:00"},{"$nulls":3},"DRESS",{"$nulls":15},"2021-11-30",13]
[null,null," Fall-In/Announcements",{"$nulls":3},{"$f":"'Unit Info'!B9","v":"21:00:00"},null,{"$f":"'Unit Info'!C9","v":"21:20:00"},{"$nulls":19},"2021-12-07",14]
[null,null," Dismissal Time",{"$nulls":3},{"$f":"'Unit Info'!B10","v":"21:20:00"},{"$nulls":5},"Officers Dress",{"$nulls":3},"Cadet Dress",{"$nulls":11},"2021-12-14",15]
[null,null," Other Duties",{"$nulls":3},{"$f":"'Unit Info'!B11","v":"21:20:00"},null,{"$f":"'Unit Info'!C11","v":"21:30:00"},{"$nulls":19},"2021-12-21",16]
[{"$nulls":28},"2021-12-28",17]
[]
[]
[{"$nulls":4},"TBD",{"$nulls":5},"TBD",{"$nulls":5},"TBD",{"$nulls":11},{"$f":"AC17+7","v":"2022-01-04"},18]
["Period",{"$nulls":3},"TBD",{"$nulls":5},"TBD",{"$nulls":5},"TBD",{"$nulls":11},{"$f":"#REF!+7","v":{"$error":"#REF!"}},21]
["Timings",{"$nulls":3},"TBD",{"$nulls":5},"TBD",{"$nulls":5},"TBD",{"$nulls":11},{"$error":"#REF!"},22]
[{"$f":"'Unit Info'!G2","v":"Level 1"},null,"PO/EO",null,"Admin Night",{"$nulls":23},{"$error":"#REF!"},23]
[null,null,"Subject",null,"TBD",{"$nulls":5},"TBD",{"$nulls":5},"TBD",{"$nulls":11},{"$error":"#REF!"},24]
[null,null,"Instructor",{"$nulls":25},{"$error":"#REF!"},25]
[null,null,"Location",{"$nulls":25},{"$error":"#REF!"},26]
[{"$f":"'Unit Info'!G3","v":"Level 2"},null,"PO/EO",null,"Admin Night",{"$nulls":23},{"$error":"#REF!"},27]
[null,null,"Subject",null,"TBD",{"$nulls":5},"TBD",{"$nulls":5},"TBD",{"$nulls":11},{"$error":"#REF!"},28]
[null,null,"Instructor",{"$nulls":25},{"$error":"#REF!"},29]
[null,null,"Location",{"$nulls":25},{"$error":"#REF!"},30]
[{"$f":"'Unit Info'!G4","v":"Level 3"},null,"PO/EO",null,"Admin Night",{"$nulls":23},{"$error":"#REF!"},31]
[null,null,"Subject",null,"TBD",{"$nulls":5},"TBD",{"$nulls":5},"TBD",{"$nulls":11},{"$error":"#REF!"},32]
[null,null,"Instructor",{"$nulls":25},{"$error":"#REF!"},33]
[null,null,"Location",{"$nulls":25},{"$error":"#REF!"},34]
[{"$f":"'Unit Info'!G5","v":"Level 4"},null,"PO/EO",null,"Admin Night",{"$nulls":23},{"$error":"#REF!"},35]
[null,null,"Subject",null,"TBD",{"$nulls":5},"TBD",{"$nulls":5},"TBD",{"$nulls":11},{"$error":"#REF!"},36]
[null,null,"Instructor",{"$nulls":25},{"$error":"#REF!"},37]
[null,null,"Location",{"$nulls":25},{"$error":"#REF!"},38]
[{"$f":"'Unit Info'!G6","v":"Level 5"},null,"PO/EO",null,"Admin Night",{"$nulls":23},{"$error":"#REF!"},39]
[null,null,"Subject",null,"TBD",{"$nulls":5},"TBD",{"$nulls":5},"TBD",{"$nulls":11},{"$error":"#REF!"},40]
[null,null,"Instructor",{"$nulls":25},{"$error":"#REF!"},41]
[null,null,"Location",{"$nulls":25},{"$error":"#REF!"},42]
[{"$nulls":28},{"$error":"#REF!"},43]
[{"$nulls":28},{"$error":"#REF!"},44]
[]
[]
[]
[{"$f":"TEXT(C48,\"ddd\")","v":"Wed"},null,{"$f":"X3+1","v":"2021-09-08"}]
[]
[]
[]
[{"$f":"TEXT(C52,\"ddd\")","v":"Thu"},null,{"$f":"C48+1","v":"2021-09-09"}]
[]
[]
[]
[{"$f":"TEXT(C56,\"ddd\")","v":"Fri"},null,{"$f":"C52+1","v":"2021-09-10"}]
[]
[]
[]
[{"$f":"TEXT(C60,\"ddd\")","v":"Sat"},null,{"$f":"C56+1","v":"2021-09-11"}]
[]
[]
[]
[{"$f":"TEXT(C64,\"ddd\")","v":"Sun"},null,{"$f":"C60+1","v":"2021-09-12"}]
[]
[]
[]
[{"$f":"TEXT(C68,\"ddd\")","v":"Mon"},null,{"$f":"C64+1","v":"2021-09-13"}]
{"$rows_empty":17}
[{"$f":"'Unit Info'!$B$17","v":"Craig Mackenzie-Haines"},{"$nulls":17},{"$f":"'Unit Info'!$B$21","v":"Matthieu St-Jean"}]
[{"$f":"'Unit Info'!$B$18","v":"Captain"},{"$nulls":17},{"$f":"'Unit Info'!$B$22","v":"Captain"}]
["Commanding Officer",{"$nulls":17},"Training Officer "]

{"sheet":"EO Val. (GREEN)","index":10,"n_rows":141,"n_cols":5,"rows_kept":141,"hidden":true,"merged":[[0,0,0,3],[1,0,1,3],[100,0,100,3],[117,0,117,3],[126,0,126,3]]}
["GREEN STAR PROGRAM"]
[]
[]
[null,"PO 100 - Positive Social Relationships "]
["M100.01","What We Expect From You as a Cadet",2,{"$f":"SUM(COUNTIF(WeekNights!$D$3:$AV$14,A5),COUNTIF('Weekend Training'!$D$4:$Y$15,A5))","v":2}]
["M100.02","What Can Happen When Behaviours Exceed or Do Not Meet Expectations",1,{"$f":"SUM(COUNTIF(WeekNights!$D$3:$AV$14,A6),COUNTIF('Weekend Training'!$D$4:$Y$15,A6))","v":1}]
["M100.03","What Harassment, Criminal Offences and Child Abuse Are and Where You Can Go for Help",1,{"$f":"SUM(COUNTIF(WeekNights!$D$3:$AV$14,A7),COUNTIF('Weekend Training'!$D$4:$Y$15,A7))","v":1}]
["M100.04","What Conflict Is and How You Can Deal With It",2,{"$f":"SUM(COUNTIF(WeekNights!$D$3:$AV$14,A8),COUNTIF('Weekend Training'!$D$4:$Y$15,A8))","v":2},"RO #"]
[]
[null,"PO X01 - Participate in Citizenship Activities"]
["MX01.01A","Participate in a Citizenship Tour","-",{"$f":"SUM(COUNTIF(WeekNights!$D$3:$AV$14,A11),COUNTIF('Weekend Training'!$D$4:$Y$15,A11))","v":0}]
["MX01.01B","Attend a Presentation by a Community Organization","-",{"$f":"SUM(COUNTIF(WeekNights!$D$3:$AV$14,A12),COUNTIF('Weekend Training'!$D$4:$Y$15,A12))","v":0}]
["MX01.01C","Attend a Presentation by a Citizen-of-Interest","-",{"$f":"SUM(COUNTIF(WeekNights!$D$3:$AV$14,A13),COUNTIF('Weekend Training'!$D$4:$Y$15,A13))","v":0}]
["MX01.01D","Participate in the Canadian Citizenship Challenge","-",{"$f":"SUM(COUNTIF(WeekNights!$D$3:$AV$14,A14),COUNTIF('Weekend Training'!$D$4:$Y$15,A14))","v":0}]
["MX01.01E","Host a Citizenship Ceremony -","-",{"$f":"SUM(COUNTIF(WeekNights!$D$3:$AV$14,A15),COUNTIF('Weekend Training'!$D$4:$Y$15,A15))","v":0}]
["MX01.01F","Participate in an Election -","-",{"$f":"SUM(COUNTIF(WeekNights!$D$3:$AV$14,A16),COUNTIF('Weekend Training'!$D$4:$Y$15,A16))","v":0}]
["MX01.01G","Participate in Heritage Minutes Video Activities -","-",{"$f":"SUM(COUNTIF(WeekNights!$D$3:$AV$14,A17),COUNTIF('Weekend Training'!$D$4:$Y$15,A17))","v":0}]
["MX01.01H","Participate in Citizenship Learning Stations -","-",{"$f":"SUM(COUNTIF(WeekNights!$D$3:$AV$14,A18),COUNTIF('Weekend Training'!$D$4:$Y$15,A18))","v":0}]
["CX01.01","Participate in Citizenship Activities 18",18,{"$f":"SUM(COUNTIF(WeekNights!$D$3:$AV$14,A19),COUNTIF('Weekend Training'!$D$4:$Y$15,A19))","v":0}]
[]
[null,"PO X02 - Perform Community Service"]
["MX02.01","Perform Community Service",9,{"$f":"SUM(COUNTIF(WeekNights!$D$3:$AV$14,A22),COUNTIF('Weekend Training'!$D$4:$Y$15,A22))","v":9}]
["CX02.01","Perform Community Service",18,{"$f":"SUM(COUNTIF(WeekNights!$D$3:$AV$14,A23),COUNTIF('Weekend Training'!$D$4:$Y$15,A23))","v":0}]
[]
[null,"PO 103 - Leadership"]
["M103.01","Identify the Responsibilities of a Follower in a Team",1,{"$f":"SUM(COUNTIF(WeekNights!$D$3:$AV$14,A26),COUNTIF('Weekend Training'!$D$4:$Y$15,A26))","v":1}]
["M103.02","Map Personal Goals for the Training Year",1,{"$f":"SUM(COUNTIF(WeekNights!$D$3:$AV$14,A27),COUNTIF('Weekend Training'!$D$4:$Y$15,A27))","v":1}]
["M103.03","Participate in Teambuilding Activities",2,{"$f":"SUM(COUNTIF(WeekNights!$D$3:$AV$14,A28),COUNTIF('Weekend Training'!$D$4:$Y$15,A28))","v":2}]
["C103.01","Participate in Icebreaker Activities",1,{"$f":"SUM(COUNTIF(WeekNights!$D$3:$AV$14,A29),COUNTIF('Weekend Training'!$D$4:$Y$15,A29))","v":0}]
["C103.02","Participate in Self-Introductions",1,{"$f":"SUM(COUNTIF(WeekNights!$D$3:$AV$14,A30),COUNTIF('Weekend Training'!$D$4:$Y$15,A30))","v":0}]
["C103.03","Participate in Teambuilding Activities",1,{"$f":"SUM(COUNTIF(WeekNights!$D$3:$AV$14,A31),COUNTIF('Weekend Training'!$D$4:$Y$15,A31))","v":0}]
[]
[null,"PO X04 - Track Participation in Physical Activities"]
["MX04.01 ","Participate in 60 Minutes of Moderate- to Vigorous-Intensity Physical Activity (MVPA) and Track Participation in Physical Activities",3,{"$f":"SUM(COUNTIF(WeekNights!$D$3:$AV$14,A34),COUNTIF('Weekend Training'!$D$4:$Y$15,A34))","v":0}]
["MX04.02 ","Identify Strategies to Improve Participation in Physical Activities and Participate in the Cadet Fitness Assessment (CFA)",3,{"$f":"SUM(COUNTIF(WeekNights!$D$3:$AV$14,A35),COUNTIF('Weekend Training'!$D$4:$Y$15,A35))","v":0}]
["MX04.03 ","Participate in the CFA and Identify Strategies for Improving Personal Physical Fitness",3,{"$f":"SUM(COUNTIF(WeekNights!$D$3:$AV$14,A36),COUNTIF('Weekend Training'!$D$4:$Y$15,A36))","v":0}]
["CX04.01 ","Participate in the CFA and Identify Strategies for Improving Personal Physical Fitness",3,{"$f":"SUM(COUNTIF(WeekNights!$D$3:$AV$14,A37),COUNTIF('Weekend Training'!$D$4:$Y$15,A37))","v":0}]
["CX04.02 ","Participate in Activities that Reinforce the Three Components of Physical Fitness",3,{"$f":"SUM(COUNTIF(WeekNights!$D$3:$AV$14,A38),COUNTIF('Weekend Training'!$D$4:$Y$15,A38))","v":0}]
["CX04.03 ","Participate in a Cooking Class",3,{"$f":"SUM(COUNTIF(WeekNights!$D$3:$AV$14,A39),COUNTIF('Weekend Training'!$D$4:$Y$15,A39))","v":0}]
["CX04.04 ","Attend a Personal Fitness and Healthy Living Presentation",3,{"$f":"SUM(COUNTIF(WeekNights!$D$3:$AV$14,A40),COUNTIF('Weekend Training'!$D$4:$Y$15,A40))","v":0}]
["CX04.05 ","Attend a Local Amateur Sporting Event",3,{"$f":"SUM(COUNTIF(WeekNights!$D$3:$AV$14,A41),COUNTIF('Weekend Training'!$D$4:$Y$15,A41))","v":0}]
[]
[null,"PO X05 - Participate in Physical Activities"]
["M105.01","Participate in Physical Activities",9,{"$f":"SUM(COUNTIF(WeekNights!$D$3:$AV$14,A44),COUNTIF('Weekend Training'!$D$4:$Y$15,A44))","v":0}]
["CX05.01 ","Participate in Physical Activities",9,{"$f":"SUM(COUNTIF(WeekNights!$D$3:$AV$14,A45),COUNTIF('Weekend Training'!$D$4:$Y$15,A45))","v":0}]
["CX05.02 ","Participate in a Tournament",9,{"$f":"SUM(COUNTIF(WeekNights!$D$3:$AV$14,A46),COUNTIF('Weekend Training'!$D$4:$Y$15,A46))","v":0}]
[]
[null,"PO M106 - Fire the Cadet Air Rifle"]
["M106.01","Identify the Parts and Characteristics of the Daisy 853C Air Rifle",1,{"$f":"SUM(COUNTIF(WeekNights!$D$3:$AV$14,A49),COUNTIF('Weekend Training'!$D$4:$Y$15,A49))","v":1}]
["M106.02","Carry out Safety Precautions on the Cadet Air Rifle",1,{"$f":"SUM(COUNTIF(WeekNights!$D$3:$AV$14,A50),COUNTIF('Weekend Training'!$D$4:$Y$15,A50))","v":1}]
["M106.03","Apply Basic Marksmanship Techniques",2,{"$f":"SUM(COUNTIF(WeekNights!$D$3:$AV$14,A51),COUNTIF('Weekend Training'!$D$4:$Y$15,A51))","v":2}]
["M106.04","Follow Rules and Commands on an Air Rifle Range",1,{"$f":"SUM(COUNTIF(WeekNights!$D$3:$AV$14,A52),COUNTIF('Weekend Training'!$D$4:$Y$15,A52))","v":1}]
["M106.05","Participate in Marksmanship Familiarization Using the Cadet Air Rifle",3,{"$f":"SUM(COUNTIF(WeekNights!$D$3:$AV$14,A53),COUNTIF('Weekend Training'!$D$4:$Y$15,A53))","v":0}]
["C106.01","Participate in a Recreational Marksmanship Activity",6,{"$f":"SUM(COUNTIF(WeekNights!$D$3:$AV$14,A54),COUNTIF('Weekend Training'!$D$4:$Y$15,A54))","v":0}]
["C106.02","Clean and Store the Cadet Air Rifle",1,{"$f":"SUM(COUNTIF(WeekNights!$D$3:$AV$14,A55),COUNTIF('Weekend Training'!$D$4:$Y$15,A55))","v":0}]
[]
[null,"PO 107 - Serve in an Army Cadet Corp"]
["M107.01","Participate in Discussion on Year One Training",1,{"$f":"SUM(COUNTIF(WeekNights!$D$3:$AV$14,A58),COUNTIF('Weekend Training'!$D$4:$Y$15,A58))","v":1}]
["M107.02","Identify Army Cadet Ranks and Officer Ranks",1,{"$f":"SUM(COUNTIF(WeekNights!$D$3:$AV$14,A59),COUNTIF('Weekend Training'!$D$4:$Y$15,A59))","v":1}]
["M107.03","Observe Rules and Procedures for the Paying of Compliments",1,{"$f":"SUM(COUNTIF(WeekNights!$D$3:$AV$14,A60),COUNTIF('Weekend Training'!$D$4:$Y$15,A60))","v":1}]
["M107.04","State the Aims and Motto of the Army Cadet Program",1,{"$f":"SUM(COUNTIF(WeekNights!$D$3:$AV$14,A61),COUNTIF('Weekend Training'!$D$4:$Y$15,A61))","v":1}]
["M107.05","Wear the Army Cadet Uniform",2,{"$f":"SUM(COUNTIF(WeekNights!$D$3:$AV$14,A62),COUNTIF('Weekend Training'!$D$4:$Y$15,A62))","v":2}]
["M107.06","Participate in a Discussion on Year One Summer Training Opportunities",1,{"$f":"SUM(COUNTIF(WeekNights!$D$3:$AV$14,A63),COUNTIF('Weekend Training'!$D$4:$Y$15,A63))","v":1}]
["C107.01","Maintain the Army Cadet Uniform",2,{"$f":"SUM(COUNTIF(WeekNights!$D$3:$AV$14,A64),COUNTIF('Weekend Training'!$D$4:$Y$15,A64))","v":2}]
["C107.02","Participate in a Tour of the Cadet Corps",1,{"$f":"SUM(COUNTIF(WeekNights!$D$3:$AV$14,A65),COUNTIF('Weekend Training'!$D$4:$Y$15,A65))","v":1}]
["C107.03","Participate in an Activity on the History of the Cadet Corps",2,{"$f":"SUM(COUNTIF(WeekNights!$D$3:$AV$14,A66),COUNTIF('Weekend Training'!$D$4:$Y$15,A66))","v":0}]
[]
[null,"PO 108 - Perform Drill Movements During an Annual Ceremonial Review"]
["M108.01","Adopt the Positions of Attention, Stand at Ease, and Stand Easy",1,{"$f":"SUM(COUNTIF(WeekNights!$D$3:$AV$14,A69),COUNTIF('Weekend Training'!$D$4:$Y$15,A69))","v":1}]
["M108.02","Execute a Salute at the Halt Without Arms",1,{"$f":"SUM(COUNTIF(WeekNights!$D$3:$AV$14,A70),COUNTIF('Weekend Training'!$D$4:$Y$15,A70))","v":1}]
["M108.03","Execute Turns at the Halt",1,{"$f":"SUM(COUNTIF(WeekNights!$D$3:$AV$14,A71),COUNTIF('Weekend Training'!$D$4:$Y$15,A71))","v":1}]
["M108.04","Close to the Right and Left",1,{"$f":"SUM(COUNTIF(WeekNights!$D$3:$AV$14,A72),COUNTIF('Weekend Training'!$D$4:$Y$15,A72))","v":1}]
["M108.05","Execute Paces Forward and to the Rear",1,{"$f":"SUM(COUNTIF(WeekNights!$D$3:$AV$14,A73),COUNTIF('Weekend Training'!$D$4:$Y$15,A73))","v":1}]
["M108.06","Execute the Movements Required for a Right Dress",1,{"$f":"SUM(COUNTIF(WeekNights!$D$3:$AV$14,A74),COUNTIF('Weekend Training'!$D$4:$Y$15,A74))","v":1}]
["M108.07","Execute an Open Order and Close Order March",1,{"$f":"SUM(COUNTIF(WeekNights!$D$3:$AV$14,A75),COUNTIF('Weekend Training'!$D$4:$Y$15,A75))","v":1}]
["M108.08","March and Halt in Quick Time",1,{"$f":"SUM(COUNTIF(WeekNights!$D$3:$AV$14,A76),COUNTIF('Weekend Training'!$D$4:$Y$15,A76))","v":1}]
["M108.09","Execute Marking Time, Forward, and Halting in Quick Time",1,{"$f":"SUM(COUNTIF(WeekNights!$D$3:$AV$14,A77),COUNTIF('Weekend Training'!$D$4:$Y$15,A77))","v":1}]
["M108.10","Execute a Salute on the March",1,{"$f":"SUM(COUNTIF(WeekNights!$D$3:$AV$14,A78),COUNTIF('Weekend Training'!$D$4:$Y$15,A78))","v":1}]
["M108.11","Pay Compliments with a Squad on the March",1,{"$f":"SUM(COUNTIF(WeekNights!$D$3:$AV$14,A79),COUNTIF('Weekend Training'!$D$4:$Y$15,A79))","v":1}]
["M108.12","Perform Drill Movements During Annual Ceremonial Review",3,{"$f":"SUM(COUNTIF(WeekNights!$D$3:$AV$14,A80),COUNTIF('Weekend Training'!$D$4:$Y$15,A80))","v":3}]
["C108.01","Execute Supplementary Drill Movements",6,{"$f":"SUM(COUNTIF(WeekNights!$D$3:$AV$14,A81),COUNTIF('Weekend Training'!$D$4:$Y$15,A81))","v":0}]
["C108.02","Participate in a Drill Competition",3,{"$f":"SUM(COUNTIF(WeekNights!$D$3:$AV$14,A82),COUNTIF('Weekend Training'!$D$4:$Y$15,A82))","v":0}]
[]
[null,"PO 111 - Biathlon Famil"]
["C111.01","Participate in a Biathlon Briefing",1,{"$f":"SUM(COUNTIF(WeekNights!$D$3:$AV$14,A85),COUNTIF('Weekend Training'!$D$4:$Y$15,A85))","v":0}]
["C111.02","Run Wind Sprints",1,{"$f":"SUM(COUNTIF(WeekNights!$D$3:$AV$14,A86),COUNTIF('Weekend Training'!$D$4:$Y$15,A86))","v":0}]
["C111.03","Simulate Firing the Cadet Air Rifle Following Physical Activity",1,{"$f":"SUM(COUNTIF(WeekNights!$D$3:$AV$14,A87),COUNTIF('Weekend Training'!$D$4:$Y$15,A87))","v":0}]
["C111.04","Participate in a Recreational Summer Biathlon Activity",6,{"$f":"SUM(COUNTIF(WeekNights!$D$3:$AV$14,A88),COUNTIF('Weekend Training'!$D$4:$Y$15,A88))","v":0}]
[]
[null,"PO X20 - Participate in Canadian Forces (CF) Familiarization Activities"]
["MX20.01A","Participate in a CAF Activity","-",{"$f":"SUM(COUNTIF(WeekNights!$D$3:$AV$14,A91),COUNTIF('Weekend Training'!$D$4:$Y$15,A91))","v":0}]
["MX20.01B","Participate in a CAF Familiarization Tour","-",{"$f":"SUM(COUNTIF(WeekNights!$D$3:$AV$14,A92),COUNTIF('Weekend Training'!$D$4:$Y$15,A92))","v":3}]
["MX20.01C","Fire the C7 Rifle","-",{"$f":"SUM(COUNTIF(WeekNights!$D$3:$AV$14,A93),COUNTIF('Weekend Training'!$D$4:$Y$15,A93))","v":0}]
["MX20.01D","Participate in a Mess Dinner","-",{"$f":"SUM(COUNTIF(WeekNights!$D$3:$AV$14,A94),COUNTIF('Weekend Training'!$D$4:$Y$15,A94))","v":3}]
["MX20.01E","Attend a CAF Presentation","-",{"$f":"SUM(COUNTIF(WeekNights!$D$3:$AV$14,A95),COUNTIF('Weekend Training'!$D$4:$Y$15,A95))","v":0}]
["MX20.01F","Attend a CAF Commemorative Ceremony","-",{"$f":"SUM(COUNTIF(WeekNights!$D$3:$AV$14,A96),COUNTIF('Weekend Training'!$D$4:$Y$15,A96))","v":3}]
["MX20.01G","Participate in CAF Video Activities","-",{"$f":"SUM(COUNTIF(WeekNights!$D$3:$AV$14,A97),COUNTIF('Weekend Training'!$D$4:$Y$15,A97))","v":0}]
["MX20.01H","Participate in CAF Learning Stations","-",{"$f":"SUM(COUNTIF(WeekNights!$D$3:$AV$14,A98),COUNTIF('Weekend Training'!$D$4:$Y$15,A98))","v":0}]
["CX20.01","Participate in CAF Familiarization Activities 18",18,{"$f":"SUM(COUNTIF(WeekNights!$D$3:$AV$14,A99),COUNTIF('Weekend Training'!$D$4:$Y$15,A99))","v":0}]
[]
["PO 121 - Participate as a Member of a Group During a Weekend Bivouac Exercise"]
["M121.01","Select Personal Equipment",2,{"$f":"SUM(COUNTIF(WeekNights!$D$3:$AV$14,A102),COUNTIF('Weekend Training'!$D$4:$Y$15,A102))","v":1}]
["M121.02","Transport Personal Equipment",1,{"$f":"SUM(COUNTIF(WeekNights!$D$3:$AV$14,A103),COUNTIF('Weekend Training'!$D$4:$Y$15,A103))","v":0}]
["M121.03","Tie Knots and Lashings",2,{"$f":"SUM(COUNTIF(WeekNights!$D$3:$AV$14,A104),COUNTIF('Weekend Training'!$D$4:$Y$15,A104))","v":0}]
["M121.04","Assemble a Survival Kit",1,{"$f":"SUM(COUNTIF(WeekNights!$D$3:$AV$14,A105),COUNTIF('Weekend Training'!$D$4:$Y$15,A105))","v":0}]
["M121.05","Recognize Environmental Hazards",1,{"$f":"SUM(COUNTIF(WeekNights!$D$3:$AV$14,A106),COUNTIF('Weekend Training'!$D$4:$Y$15,A106))","v":0}]
["M121.06","Identify Environmental Injuries",1,{"$f":"SUM(COUNTIF(WeekNights!$D$3:$AV$14,A107),COUNTIF('Weekend Training'!$D$4:$Y$15,A107))","v":0}]
["M121.07","Erect a Group Tent",2,{"$f":"SUM(COUNTIF(WeekNights!$D$3:$AV$14,A108),COUNTIF('Weekend Training'!$D$4:$Y$15,A108))","v":0}]
["M121.08","Apply “Leave No Trace” Camping",1,{"$f":"SUM(COUNTIF(WeekNights!$D$3:$AV$14,A109),COUNTIF('Weekend Training'!$D$4:$Y$15,A109))","v":0}]
["M121.09","Follow Camp Routine",2,{"$f":"SUM(COUNTIF(WeekNights!$D$3:$AV$14,A110),COUNTIF('Weekend Training'!$D$4:$Y$15,A110))","v":0}]
["M121.CA","Participate as a Member of a Group During a Weekend Bivouac Exercise",13,{"$f":"SUM(COUNTIF(WeekNights!$D$3:$AV$14,A111),COUNTIF('Weekend Training'!$D$4:$Y$15,A111))","v":0}]
["C121.01","Construct Field Amenities",2,{"$f":"SUM(COUNTIF(WeekNights!$D$3:$AV$14,A112),COUNTIF('Weekend Training'!$D$4:$Y$15,A112))","v":0}]
["C121.02","Participate in a Discussion on Cold Climate Exposure",1,{"$f":"SUM(COUNTIF(WeekNights!$D$3:$AV$14,A113),COUNTIF('Weekend Training'!$D$4:$Y$15,A113))","v":0}]
["C121.03","Select Cold Weather Clothing",1,{"$f":"SUM(COUNTIF(WeekNights!$D$3:$AV$14,A114),COUNTIF('Weekend Training'!$D$4:$Y$15,A114))","v":0}]
["C121.04","Recognize the Effects of Cold Weather",2,{"$f":"SUM(COUNTIF(WeekNights!$D$3:$AV$14,A115),COUNTIF('Weekend Training'!$D$4:$Y$15,A115))","v":0}]
["C121.05","Participate in Cold Weather Training",18,{"$f":"SUM(COUNTIF(WeekNights!$D$3:$AV$14,A116),COUNTIF('Weekend Training'!$D$4:$Y$15,A116))","v":0}]
[]
["PO 122 - Identify Location Using a Map"]
["M122.01","Identify Types of Maps",1,{"$f":"SUM(COUNTIF(WeekNights!$D$3:$AV$14,A119),COUNTIF('Weekend Training'!$D$4:$Y$15,A119))","v":0}]
["M122.02","Identify Marginal Information and Conventional Signs",2,{"$f":"SUM(COUNTIF(WeekNights!$D$3:$AV$14,A120),COUNTIF('Weekend Training'!$D$4:$Y$15,A120))","v":0}]
["M122.03","Interpret Contour Lines",1,{"$f":"SUM(COUNTIF(WeekNights!$D$3:$AV$14,A121),COUNTIF('Weekend Training'!$D$4:$Y$15,A121))","v":0}]
["M122.04","Orient a Map by Inspection",1,{"$f":"SUM(COUNTIF(WeekNights!$D$3:$AV$14,A122),COUNTIF('Weekend Training'!$D$4:$Y$15,A122))","v":0}]
["M122.05","Determine a Grid Reference",2,{"$f":"SUM(COUNTIF(WeekNights!$D$3:$AV$14,A123),COUNTIF('Weekend Training'!$D$4:$Y$15,A123))","v":0}]
["M122.CA","Follow a Route Led by a Section Commander",9,{"$f":"SUM(COUNTIF(WeekNights!$D$3:$AV$14,A124),COUNTIF('Weekend Training'!$D$4:$Y$15,A124))","v":0}]
["C122.01","Practice Navigation as a Member of a Small Group",9,{"$f":"SUM(COUNTIF(WeekNights!$D$3:$AV$14,A125),COUNTIF('Weekend Training'!$D$4:$Y$15,A125))","v":0}]
[]
["PO 123 - Participate in a Day Hike"]
["M123.01","Select Trekking Gear",1,{"$f":"SUM(COUNTIF(WeekNights!$D$3:$AV$14,A128),COUNTIF('Weekend Training'!$D$4:$Y$15,A128))","v":0}]
["M123.02","Participate in a Day Hike",9,{"$f":"SUM(COUNTIF(WeekNights!$D$3:$AV$14,A129),COUNTIF('Weekend Training'!$D$4:$Y$15,A129))","v":0}]
["C123.01","Participate in Adventure Training",18,{"$f":"SUM(COUNTIF(WeekNights!$D$3:$AV$14,A130),COUNTIF('Weekend Training'!$D$4:$Y$15,A130))","v":0}]
["C123.02","Adhere to Snowshoe March Discipline",1,{"$f":"SUM(COUNTIF(WeekNights!$D$3:$AV$14,A131),COUNTIF('Weekend Training'!$D$4:$Y$15,A131))","v":0}]
["C123.03","Participate in Snowshoeing",9,{"$f":"SUM(COUNTIF(WeekNights!$D$3:$AV$14,A132),COUNTIF('Weekend Training'!$D$4:$Y$15,A132))","v":0}]
[]
["NOTES"]
[1,"60 periods of mandatory training must be scheduled for weekly training nights"]
[2,"18 periods of mandatory training must be scheduled for two weekend training days (9 each)"]
[3,"18 periods of mandatory training must be scheduled for the Biv FTX"]
[4,"18 periods of mandatory training must be scheduled for the Nav/Trek FTX"]
[5,"30 periods of complimentary training must be scheduled for weekly training nights"]
[6,"18 periods of complimentary training must be scheduled for two weekend training days (9 each)"]
[7,"18 periods of complimentary training must be scheduled for a weekend FTX (CW or ADV)"]

{"sheet":"EO Val. (RED)","index":11,"n_rows":151,"n_cols":4,"rows_kept":151,"hidden":true,"merged":[[0,0,0,3],[1,0,1,3],[95,0,95,3],[114,0,114,3],[124,0,124,3],[133,0,133,3]]}
["RED STAR PROGRAM"]
[]
[]
[null,"PO X01 - Participate in Citizenship Activities"]
["MX01.01A","Participate in a Citizenship Tour","-",{"$f":"SUM(COUNTIF(WeekNights!$D$15:$AV$26,A5),COUNTIF('Weekend Training'!$D$15:$Y$26,A5))","v":0}]
["MX01.01B","Attend a Presentation by a Community Organization","-",{"$f":"SUM(COUNTIF(WeekNights!$D$15:$AV$26,A6),COUNTIF('Weekend Training'!$D$15:$Y$26,A6))","v":0}]
["MX01.01C","Attend a Presentation by a Citizen-of-Interest","-",{"$f":"SUM(COUNTIF(WeekNights!$D$15:$AV$26,A7),COUNTIF('Weekend Training'!$D$15:$Y$26,A7))","v":0}]
["MX01.01D","Participate in the Canadian Citizenship Challenge","-",{"$f":"SUM(COUNTIF(WeekNights!$D$15:$AV$26,A8),COUNTIF('Weekend Training'!$D$15:$Y$26,A8))","v":0}]
["MX01.01E","Host a Citizenship Ceremony -","-",{"$f":"SUM(COUNTIF(WeekNights!$D$15:$AV$26,A9),COUNTIF('Weekend Training'!$D$15:$Y$26,A9))","v":0}]
["MX01.01F","Participate in an Election -","-",{"$f":"SUM(COUNTIF(WeekNights!$D$15:$AV$26,A10),COUNTIF('Weekend Training'!$D$15:$Y$26,A10))","v":0}]
["MX01.01G","Participate in Heritage Minutes Video Activities -","-",{"$f":"SUM(COUNTIF(WeekNights!$D$15:$AV$26,A11),COUNTIF('Weekend Training'!$D$15:$Y$26,A11))","v":0}]
["MX01.01H","Participate in Citizenship Learning Stations -","-",{"$f":"SUM(COUNTIF(WeekNights!$D$15:$AV$26,A12),COUNTIF('Weekend Training'!$D$15:$Y$26,A12))","v":0}]
["CX01.01","Participate in Citizenship Activities 18",18,{"$f":"SUM(COUNTIF(WeekNights!$D$15:$AV$26,A13),COUNTIF('Weekend Training'!$D$15:$Y$26,A13))","v":0}]
[]
[null,"PO X02 - Perform Community Service"]
["MX02.01","Perform Community Service",9,{"$f":"SUM(COUNTIF(WeekNights!$D$15:$AV$26,A16),COUNTIF('Weekend Training'!$D$15:$Y$26,A16))","v":9}]
["CX02.01","Perform Community Service",18,{"$f":"SUM(COUNTIF(WeekNights!$D$15:$AV$26,A17),COUNTIF('Weekend Training'!$D$15:$Y$26,A17))","v":0}]
[]
[null,"PO 203 - Demonstrate Leadership Attributes Within a Peer Setting"]
["M203.01","Discuss Leadership Within a Peer Setting",1,{"$f":"SUM(COUNTIF(WeekNights!$D$15:$AV$26,A20),COUNTIF('Weekend Training'!$D$15:$Y$26,A20))","v":1}]
["M203.02","Discuss the Principles of Leadership",1,{"$f":"SUM(COUNTIF(WeekNights!$D$15:$AV$26,A21),COUNTIF('Weekend Training'!$D$15:$Y$26,A21))","v":1}]
["M203.03","Discuss Effective Communication in a Peer Setting",1,{"$f":"SUM(COUNTIF(WeekNights!$D$15:$AV$26,A22),COUNTIF('Weekend Training'!$D$15:$Y$26,A22))","v":1}]
["M203.04","Demonstrate Positive Group Dynamics",2,{"$f":"SUM(COUNTIF(WeekNights!$D$15:$AV$26,A23),COUNTIF('Weekend Training'!$D$15:$Y$26,A23))","v":2}]
["M203.05","Discuss Influence Behaviours",1,{"$f":"SUM(COUNTIF(WeekNights!$D$15:$AV$26,A24),COUNTIF('Weekend Training'!$D$15:$Y$26,A24))","v":1}]
["M203.06","Employ Problem Solving",2,{"$f":"SUM(COUNTIF(WeekNights!$D$15:$AV$26,A25),COUNTIF('Weekend Training'!$D$15:$Y$26,A25))","v":2}]
["M203.07","Discuss Personal Integrity as a Quality of Leadership",1,{"$f":"SUM(COUNTIF(WeekNights!$D$15:$AV$26,A26),COUNTIF('Weekend Training'!$D$15:$Y$26,A26))","v":1}]
["M203.08","Participate in Team-Building Activities",1,{"$f":"SUM(COUNTIF(WeekNights!$D$15:$AV$26,A27),COUNTIF('Weekend Training'!$D$15:$Y$26,A27))","v":1}]
["C203.01","Record Entries in a Reflective Journal",3,{"$f":"SUM(COUNTIF(WeekNights!$D$15:$AV$26,A28),COUNTIF('Weekend Training'!$D$15:$Y$26,A28))","v":0}]
["C203.02","Employ Problem Solving",2,{"$f":"SUM(COUNTIF(WeekNights!$D$15:$AV$26,A29),COUNTIF('Weekend Training'!$D$15:$Y$26,A29))","v":0}]
["C203.03","Discuss Characteristics of a Leader",2,{"$f":"SUM(COUNTIF(WeekNights!$D$15:$AV$26,A30),COUNTIF('Weekend Training'!$D$15:$Y$26,A30))","v":2}]
["C203.04","Participate in a Presentation Given by a Leader",2,{"$f":"SUM(COUNTIF(WeekNights!$D$15:$AV$26,A31),COUNTIF('Weekend Training'!$D$15:$Y$26,A31))","v":0}]
["C203.05","Participate in Trust-Building Activities",1,{"$f":"SUM(COUNTIF(WeekNights!$D$15:$AV$26,A32),COUNTIF('Weekend Training'!$D$15:$Y$26,A32))","v":1}]
["C203.06","Participate in Problem-Solving Activities",2,{"$f":"SUM(COUNTIF(WeekNights!$D$15:$AV$26,A33),COUNTIF('Weekend Training'!$D$15:$Y$26,A33))","v":2}]
[]
[null,"PO X04 - Track Participation in Physical Activities"]
["MX04.01 ","Participate in 60 Minutes of Moderate- to Vigorous-Intensity Physical Activity (MVPA) and Track Participation in Physical Activities",3,{"$f":"SUM(COUNTIF(WeekNights!$D$15:$AV$26,A36),COUNTIF('Weekend Training'!$D$15:$Y$26,A36))","v":0}]
["MX04.02 ","Identify Strategies to Improve Participation in Physical Activities and Participate in the Cadet Fitness Assessment (CFA)",3,{"$f":"SUM(COUNTIF(WeekNights!$D$15:$AV$26,A37),COUNTIF('Weekend Training'!$D$15:$Y$26,A37))","v":0}]
["MX04.03 ","Participate in the CFA and Identify Strategies for Improving Personal Physical Fitness",3,{"$f":"SUM(COUNTIF(WeekNights!$D$15:$AV$26,A38),COUNTIF('Weekend Training'!$D$15:$Y$26,A38))","v":0}]
["CX04.01 ","Participate in the CFA and Identify Strategies for Improving Personal Physical Fitness",3,{"$f":"SUM(COUNTIF(WeekNights!$D$15:$AV$26,A39),COUNTIF('Weekend Training'!$D$15:$Y$26,A39))","v":0}]
["CX04.02 ","Participate in Activities that Reinforce the Three Components of Physical Fitness",3,{"$f":"SUM(COUNTIF(WeekNights!$D$15:$AV$26,A40),COUNTIF('Weekend Training'!$D$15:$Y$26,A40))","v":0}]
["CX04.03 ","Participate in a Cooking Class",3,{"$f":"SUM(COUNTIF(WeekNights!$D$15:$AV$26,A41),COUNTIF('Weekend Training'!$D$15:$Y$26,A41))","v":0}]
["CX04.04 ","Attend a Personal Fitness and Healthy Living Presentation",3,{"$f":"SUM(COUNTIF(WeekNights!$D$15:$AV$26,A42),COUNTIF('Weekend Training'!$D$15:$Y$26,A42))","v":0}]
["CX04.05 ","Attend a Local Amateur Sporting Event",3,{"$f":"SUM(COUNTIF(WeekNights!$D$15:$AV$26,A43),COUNTIF('Weekend Training'!$D$15:$Y$26,A43))","v":0}]
[]
[null,"PO X05 -Participate in Physical Activities"]
["MX05.01","Participate in Physical Activities",9,{"$f":"SUM(COUNTIF(WeekNights!$D$15:$AV$26,A46),COUNTIF('Weekend Training'!$D$15:$Y$26,A46))","v":6}]
["CX05.01 ","Participate in Physical Activities",9,{"$f":"SUM(COUNTIF(WeekNights!$D$15:$AV$26,A47),COUNTIF('Weekend Training'!$D$15:$Y$26,A47))","v":0}]
["CX05.02 ","Participate in a Tournament",9,{"$f":"SUM(COUNTIF(WeekNights!$D$15:$AV$26,A48),COUNTIF('Weekend Training'!$D$15:$Y$26,A48))","v":0}]
[]
[null,"PO 206 - Fire the Cadet Air Rifle During Recreational Marksmanship"]
["M206.01","Participate in a Recreational Marksmanship Activity",3,{"$f":"SUM(COUNTIF(WeekNights!$D$15:$AV$26,A51),COUNTIF('Weekend Training'!$D$15:$Y$26,A51))","v":0}]
["C106.01","Participate in a Recreational Marksmanship Activity",6,{"$f":"SUM(COUNTIF(WeekNights!$D$15:$AV$26,A52),COUNTIF('Weekend Training'!$D$15:$Y$26,A52))","v":0}]
["C206.01","Practice Holding Techniques",1,{"$f":"SUM(COUNTIF(WeekNights!$D$15:$AV$26,A53),COUNTIF('Weekend Training'!$D$15:$Y$26,A53))","v":0}]
["C206.02","Practice Aiming Techniques",2,{"$f":"SUM(COUNTIF(WeekNights!$D$15:$AV$26,A54),COUNTIF('Weekend Training'!$D$15:$Y$26,A54))","v":0}]
["C206.03","Practice Firing Techniques",1,{"$f":"SUM(COUNTIF(WeekNights!$D$15:$AV$26,A55),COUNTIF('Weekend Training'!$D$15:$Y$26,A55))","v":0}]
[]
[null,"PO 207 - Serve in a Army Cadet Corps"]
["M207.01","Identify Proficiency Level Two Training Opportunities",1,{"$f":"SUM(COUNTIF(WeekNights!$D$15:$AV$26,A58),COUNTIF('Weekend Training'!$D$15:$Y$26,A58))","v":1}]
["M207.02","Recognize Historical Aspects of the Royal Canadian Air Cadets (RCAC)",1,{"$f":"SUM(COUNTIF(WeekNights!$D$15:$AV$26,A59),COUNTIF('Weekend Training'!$D$15:$Y$26,A59))","v":1}]
["M207.03","Recognize the Role and Responsibilities of the Local Sponsor",1,{"$f":"SUM(COUNTIF(WeekNights!$D$15:$AV$26,A60),COUNTIF('Weekend Training'!$D$15:$Y$26,A60))","v":1}]
["M207.04","Identify Year Two CSTC Training Opportunities",1,{"$f":"SUM(COUNTIF(WeekNights!$D$15:$AV$26,A61),COUNTIF('Weekend Training'!$D$15:$Y$26,A61))","v":1}]
["C107.03","Participate in an Activity about the History of the Corps 1",1,{"$f":"SUM(COUNTIF(WeekNights!$D$15:$AV$26,A62),COUNTIF('Weekend Training'!$D$15:$Y$26,A62))","v":0}]
["C207.01","Identify the Rank Structure of the Royal Canadian Army and Air Cadets",1,{"$f":"SUM(COUNTIF(WeekNights!$D$15:$AV$26,A63),COUNTIF('Weekend Training'!$D$15:$Y$26,A63))","v":1}]
["C207.02","Visit a Royal Canadian Army / Army Cadet Corps or an Air Cadet Squadron",3,{"$f":"SUM(COUNTIF(WeekNights!$D$15:$AV$26,A64),COUNTIF('Weekend Training'!$D$15:$Y$26,A64))","v":0}]
["C207.03","Describe the Affiliated Unit",1,{"$f":"SUM(COUNTIF(WeekNights!$D$15:$AV$26,A65),COUNTIF('Weekend Training'!$D$15:$Y$26,A65))","v":0}]
["C207.04","Tour the Affiliated Unit",3,{"$f":"SUM(COUNTIF(WeekNights!$D$15:$AV$26,A66),COUNTIF('Weekend Training'!$D$15:$Y$26,A66))","v":0}]
[]
[null,"PO 208 - Execute Drill as a Member of a Squad"]
["M208.01","Execute Left and Right Turns on the March",2,{"$f":"SUM(COUNTIF(WeekNights!$D$15:$AV$26,A69),COUNTIF('Weekend Training'!$D$15:$Y$26,A69))","v":2}]
["M208.02","Form Single File From the Halt",1,{"$f":"SUM(COUNTIF(WeekNights!$D$15:$AV$26,A70),COUNTIF('Weekend Training'!$D$15:$Y$26,A70))","v":1}]
["C108.01","Execute Supplementary Drill Movements",6,{"$f":"SUM(COUNTIF(WeekNights!$D$15:$AV$26,A71),COUNTIF('Weekend Training'!$D$15:$Y$26,A71))","v":0}]
["C208.01","Practice Ceremonial Drill as a Review",2,{"$f":"SUM(COUNTIF(WeekNights!$D$15:$AV$26,A72),COUNTIF('Weekend Training'!$D$15:$Y$26,A72))","v":2}]
["C208.02","Execute Drill With Arms",8,{"$f":"SUM(COUNTIF(WeekNights!$D$15:$AV$26,A73),COUNTIF('Weekend Training'!$D$15:$Y$26,A73))","v":0}]
[]
[null,"PO 211 - Participate in Recreational Summer Biathlon Activities"]
["C111.01","Participate in a Biathlon Briefing",1,{"$f":"SUM(COUNTIF(WeekNights!$D$15:$AV$26,A76),COUNTIF('Weekend Training'!$D$15:$Y$26,A76))","v":0}]
["C111.02","Run Wind Sprints",1,{"$f":"SUM(COUNTIF(WeekNights!$D$15:$AV$26,A77),COUNTIF('Weekend Training'!$D$15:$Y$26,A77))","v":0}]
["C111.03","Simulate Firing the Cadet Air Rifle Following Physical Activity",1,{"$f":"SUM(COUNTIF(WeekNights!$D$15:$AV$26,A78),COUNTIF('Weekend Training'!$D$15:$Y$26,A78))","v":0}]
["C111.04","Participate in a Recreational Summer Biathlon Activity",6,{"$f":"SUM(COUNTIF(WeekNights!$D$15:$AV$26,A79),COUNTIF('Weekend Training'!$D$15:$Y$26,A79))","v":0}]
["C211.01","Identify Civilian Biathlon Opportunities",1,{"$f":"SUM(COUNTIF(WeekNights!$D$15:$AV$26,A80),COUNTIF('Weekend Training'!$D$15:$Y$26,A80))","v":0}]
["C211.02","Run on Alternate Terrain",1,{"$f":"SUM(COUNTIF(WeekNights!$D$15:$AV$26,A81),COUNTIF('Weekend Training'!$D$15:$Y$26,A81))","v":0}]
["C211.03","Fire the Cadet Air Rifle using a Sling Following Physical Activity",1,{"$f":"SUM(COUNTIF(WeekNights!$D$15:$AV$26,A82),COUNTIF('Weekend Training'!$D$15:$Y$26,A82))","v":0}]
["C211.04","Participate in a Competitive Summer Biathlon Activity",6,{"$f":"SUM(COUNTIF(WeekNights!$D$15:$AV$26,A83),COUNTIF('Weekend Training'!$D$15:$Y$26,A83))","v":0}]
[]
[null,"PO X20 - Participate in Canadian Forces (CF) Familiarization Activities"]
["MX20.01A","Participate in a CAF Activity","-",{"$f":"SUM(COUNTIF(WeekNights!$D$15:$AV$26,A86),COUNTIF('Weekend Training'!$D$15:$Y$26,A86))","v":0}]
["MX20.01B","Participate in a CAF Familiarization Tour","-",{"$f":"SUM(COUNTIF(WeekNights!$D$15:$AV$26,A87),COUNTIF('Weekend Training'!$D$15:$Y$26,A87))","v":3}]
["MX20.01C","Fire the C7 Rifle","-",{"$f":"SUM(COUNTIF(WeekNights!$D$15:$AV$26,A88),COUNTIF('Weekend Training'!$D$15:$Y$26,A88))","v":0}]
["MX20.01D","Participate in a Mess Dinner","-",{"$f":"SUM(COUNTIF(WeekNights!$D$15:$AV$26,A89),COUNTIF('Weekend Training'!$D$15:$Y$26,A89))","v":3}]
["MX20.01E","Attend a CAF Presentation","-",{"$f":"SUM(COUNTIF(WeekNights!$D$15:$AV$26,A90),COUNTIF('Weekend Training'!$D$15:$Y$26,A90))","v":0}]
["MX20.01F","Attend a CAF Commemorative Ceremony","-",{"$f":"SUM(COUNTIF(WeekNights!$D$15:$AV$26,A91),COUNTIF('Weekend Training'!$D$15:$Y$26,A91))","v":3}]
["MX20.01G","Participate in CAF Video Activities","-",{"$f":"SUM(COUNTIF(WeekNights!$D$15:$AV$26,A92),COUNTIF('Weekend Training'!$D$15:$Y$26,A92))","v":0}]
["MX20.01H","Participate in CAF Learning Stations","-",{"$f":"SUM(COUNTIF(WeekNights!$D$15:$AV$26,A93),COUNTIF('Weekend Training'!$D$15:$Y$26,A93))","v":0}]
["CX20.01","Participate in CAF Familiarization Activities 18",18,{"$f":"SUM(COUNTIF(WeekNights!$D$15:$AV$26,A94),COUNTIF('Weekend Training'!$D$15:$Y$26,A94))","v":0}]
[]
["PO 221 - Perform the Duties of a Section Member During a Weekend Bivouac Exercise"]
["M221.01","Perform the Duties of a Section Member in the Field",1,{"$f":"SUM(COUNTIF(WeekNights!$D$15:$AV$26,A97),COUNTIF('Weekend Training'!$D$15:$Y$26,A97))","v":0}]
["M221.02","Identify Section Equipment",2,{"$f":"SUM(COUNTIF(WeekNights!$D$15:$AV$26,A98),COUNTIF('Weekend Training'!$D$15:$Y$26,A98))","v":0}]
["M221.03","Identify Provincial/Territorial Wildlife",2,{"$f":"SUM(COUNTIF(WeekNights!$D$15:$AV$26,A99),COUNTIF('Weekend Training'!$D$15:$Y$26,A99))","v":0}]
["M221.04","Perform Basic First Aid",1,{"$f":"SUM(COUNTIF(WeekNights!$D$15:$AV$26,A100),COUNTIF('Weekend Training'!$D$15:$Y$26,A100))","v":0}]
["M221.05","Tie Knots",3,{"$f":"SUM(COUNTIF(WeekNights!$D$15:$AV$26,A101),COUNTIF('Weekend Training'!$D$15:$Y$26,A101))","v":0}]
["M221.06","Construct a Hoochie Shelter",3,{"$f":"SUM(COUNTIF(WeekNights!$D$15:$AV$26,A102),COUNTIF('Weekend Training'!$D$15:$Y$26,A102))","v":0}]
["M221.07","Use Section Equipment",2,{"$f":"SUM(COUNTIF(WeekNights!$D$15:$AV$26,A103),COUNTIF('Weekend Training'!$D$15:$Y$26,A103))","v":0}]
["M221.08","Prepare an Individual Meal Package (IMP)",1,{"$f":"SUM(COUNTIF(WeekNights!$D$15:$AV$26,A104),COUNTIF('Weekend Training'!$D$15:$Y$26,A104))","v":0}]
["M221.09","Maintain Section Equipment Following a Field Training Exercise (FTX)",2,{"$f":"SUM(COUNTIF(WeekNights!$D$15:$AV$26,A105),COUNTIF('Weekend Training'!$D$15:$Y$26,A105))","v":0}]
["M221.CA","Weekend Bivouac FTX",5,{"$f":"SUM(COUNTIF(WeekNights!$D$15:$AV$26,A106),COUNTIF('Weekend Training'!$D$15:$Y$26,A106))","v":0}]
["C221.01","Participate in a Discussion on Canada’s Wilderness Conservation Efforts",2,{"$f":"SUM(COUNTIF(WeekNights!$D$15:$AV$26,A107),COUNTIF('Weekend Training'!$D$15:$Y$26,A107))","v":0}]
["C221.02","Construct Field Amenities",6,{"$f":"SUM(COUNTIF(WeekNights!$D$15:$AV$26,A108),COUNTIF('Weekend Training'!$D$15:$Y$26,A108))","v":0}]
["C221.03","Identify Species of Trees",2,{"$f":"SUM(COUNTIF(WeekNights!$D$15:$AV$26,A109),COUNTIF('Weekend Training'!$D$15:$Y$26,A109))","v":0}]
["C121.02","Participate in a Discussion on Cold Climate Exposure",1,{"$f":"SUM(COUNTIF(WeekNights!$D$15:$AV$26,A110),COUNTIF('Weekend Training'!$D$15:$Y$26,A110))","v":0}]
["C121.03","Select Cold Weather Clothing",1,{"$f":"SUM(COUNTIF(WeekNights!$D$15:$AV$26,A111),COUNTIF('Weekend Training'!$D$15:$Y$26,A111))","v":0}]
["C121.04","Recognize the Effects of Cold Weather",2,{"$f":"SUM(COUNTIF(WeekNights!$D$15:$AV$26,A112),COUNTIF('Weekend Training'!$D$15:$Y$26,A112))","v":0}]
["C121.05","Participate in Cold Weather Training",18,{"$f":"SUM(COUNTIF(WeekNights!$D$15:$AV$26,A113),COUNTIF('Weekend Training'!$D$15:$Y$26,A113))","v":0}]
[]
["PO 222 - Navigate Along a Route Using a Map and Compass"]
["M222.01","Review Green Star Navigation",2,{"$f":"SUM(COUNTIF(WeekNights!$D$15:$AV$26,A116),COUNTIF('Weekend Training'!$D$15:$Y$26,A116))","v":0}]
["M222.02","Describe Bearings",2,{"$f":"SUM(COUNTIF(WeekNights!$D$15:$AV$26,A117),COUNTIF('Weekend Training'!$D$15:$Y$26,A117))","v":0}]
["M222.03","Identify Compass Parts",1,{"$f":"SUM(COUNTIF(WeekNights!$D$15:$AV$26,A118),COUNTIF('Weekend Training'!$D$15:$Y$26,A118))","v":0}]
["M222.04","Determine Distance Along a Route",3,{"$f":"SUM(COUNTIF(WeekNights!$D$15:$AV$26,A119),COUNTIF('Weekend Training'!$D$15:$Y$26,A119))","v":0}]
["M222.05","Orient a Map Using a Compass",1,{"$f":"SUM(COUNTIF(WeekNights!$D$15:$AV$26,A120),COUNTIF('Weekend Training'!$D$15:$Y$26,A120))","v":0}]
["M222.06","Follow a Magnetic Bearing Point to Point",2,{"$f":"SUM(COUNTIF(WeekNights!$D$15:$AV$26,A121),COUNTIF('Weekend Training'!$D$15:$Y$26,A121))","v":0}]
["M222.CA","Weekend Navigation/Trekking FTX",3,{"$f":"SUM(COUNTIF(WeekNights!$D$15:$AV$26,A122),COUNTIF('Weekend Training'!$D$15:$Y$26,A122))","v":0}]
["C222.01","Practice Navigation Using a Map and Compass",9,{"$f":"SUM(COUNTIF(WeekNights!$D$15:$AV$26,A123),COUNTIF('Weekend Training'!$D$15:$Y$26,A123))","v":0}]
[]
["PO 223 - Hike Along a Route as Part of an Overnight Exercise"]
["M223.01","Prepare for Trekking",2,{"$f":"SUM(COUNTIF(WeekNights!$D$15:$AV$26,A126),COUNTIF('Weekend Training'!$D$15:$Y$26,A126))","v":0}]
["M223.02","Identify Hiking/Trekking Associations",1,{"$f":"SUM(COUNTIF(WeekNights!$D$15:$AV$26,A127),COUNTIF('Weekend Training'!$D$15:$Y$26,A127))","v":0}]
["M223.03","Participate in a Discussion on Crossing Obstacles While Trekking",2,{"$f":"SUM(COUNTIF(WeekNights!$D$15:$AV$26,A128),COUNTIF('Weekend Training'!$D$15:$Y$26,A128))","v":0}]
["M223.CA","Weekend Navigation/Trekking FTX",9,{"$f":"SUM(COUNTIF(WeekNights!$D$15:$AV$26,A129),COUNTIF('Weekend Training'!$D$15:$Y$26,A129))","v":0}]
["C123.01","Participate in Adventure Training",18,{"$f":"SUM(COUNTIF(WeekNights!$D$15:$AV$26,A130),COUNTIF('Weekend Training'!$D$15:$Y$26,A130))","v":0}]
["C123.02","Adhere to Snowshoe March Discipline",1,{"$f":"SUM(COUNTIF(WeekNights!$D$15:$AV$26,A131),COUNTIF('Weekend Training'!$D$15:$Y$26,A131))","v":0}]
["C123.03","Participate in Snowshoeing",9,{"$f":"SUM(COUNTIF(WeekNights!$D$15:$AV$26,A132),COUNTIF('Weekend Training'!$D$15:$Y$26,A132))","v":0}]
[]
["PO 224 - Identify Immediate Actions to Take When Lost"]
["M224.01","Describe Immediate Actions to Take When Lost",2,{"$f":"SUM(COUNTIF(WeekNights!$D$15:$AV$26,A135),COUNTIF('Weekend Training'!$D$15:$Y$26,A135))","v":0}]
["M224.02","Identify the Seven Enemies of Survival",1,{"$f":"SUM(COUNTIF(WeekNights!$D$15:$AV$26,A136),COUNTIF('Weekend Training'!$D$15:$Y$26,A136))","v":0}]
["M224.03","Predict Weather Using Cloud Formations",1,{"$f":"SUM(COUNTIF(WeekNights!$D$15:$AV$26,A137),COUNTIF('Weekend Training'!$D$15:$Y$26,A137))","v":0}]
["M224.04","Identify Emergency Shelters",2,{"$f":"SUM(COUNTIF(WeekNights!$D$15:$AV$26,A138),COUNTIF('Weekend Training'!$D$15:$Y$26,A138))","v":0}]
["M224.05","Prepare, Light, Maintain and Extinguish a Fire",3,{"$f":"SUM(COUNTIF(WeekNights!$D$15:$AV$26,A139),COUNTIF('Weekend Training'!$D$15:$Y$26,A139))","v":0}]
["M224.06","Identify Methods of Signalling",3,{"$f":"SUM(COUNTIF(WeekNights!$D$15:$AV$26,A140),COUNTIF('Weekend Training'!$D$15:$Y$26,A140))","v":0}]
["C224.01","Cook in the Field",2,{"$f":"SUM(COUNTIF(WeekNights!$D$15:$AV$26,A141),COUNTIF('Weekend Training'!$D$15:$Y$26,A141))","v":0}]
["C224.02","Prepare a Signal Fire",2,{"$f":"SUM(COUNTIF(WeekNights!$D$15:$AV$26,A142),COUNTIF('Weekend Training'!$D$15:$Y$26,A142))","v":0}]
[]
["NOTES"]
[1,"60 periods of mandatory training must be scheduled for weekly training nights"]
[2,"18 periods of mandatory training must be scheduled for two weekend training days (9 each)"]
[3,"18 periods of mandatory training must be scheduled for the Biv FTX"]
[4,"18 periods of mandatory training must be scheduled for the Nav/Trek FTX"]
[5,"30 periods of complimentary training must be scheduled for weekly training nights"]
[6,"18 periods of complimentary training must be scheduled for two weekend training days (9 each)"]
[7,"18 periods of complimentary training must be scheduled for a weekend FTX (CW or ADV)"]

{"sheet":"EO Val. (SILVER)","index":12,"n_rows":182,"n_cols":4,"rows_kept":182,"hidden":true,"merged":[[0,0,0,3],[1,0,1,3],[112,0,112,3],[123,0,123,3],[136,0,136,3],[141,0,141,3],[155,0,155,3],[162,0,162,3]]}
["SILVER STAR PROGRAM"]
[]
[]
[null,"PO X01 - Participate in Citizenship Activities"]
["MX01.01A","Participate in a Citizenship Tour","-",{"$f":"SUM(COUNTIF(WeekNights!$D$27:$AV$38,A5),COUNTIF('Weekend Training'!$D$27:$Y$38,A5))","v":0}]
["MX01.01B","Attend a Presentation by a Community Organization","-",{"$f":"SUM(COUNTIF(WeekNights!$D$27:$AV$38,A6),COUNTIF('Weekend Training'!$D$27:$Y$38,A6))","v":0}]
["MX01.01C","Attend a Presentation by a Citizen-of-Interest","-",{"$f":"SUM(COUNTIF(WeekNights!$D$27:$AV$38,A7),COUNTIF('Weekend Training'!$D$27:$Y$38,A7))","v":0}]
["MX01.01D","Participate in the Canadian Citizenship Challenge","-",{"$f":"SUM(COUNTIF(WeekNights!$D$27:$AV$38,A8),COUNTIF('Weekend Training'!$D$27:$Y$38,A8))","v":0}]
["MX01.01E","Host a Citizenship Ceremony -","-",{"$f":"SUM(COUNTIF(WeekNights!$D$27:$AV$38,A9),COUNTIF('Weekend Training'!$D$27:$Y$38,A9))","v":0}]
["MX01.01F","Participate in an Election -","-",{"$f":"SUM(COUNTIF(WeekNights!$D$27:$AV$38,A10),COUNTIF('Weekend Training'!$D$27:$Y$38,A10))","v":0}]
["MX01.01G","Participate in Heritage Minutes Video Activities -","-",{"$f":"SUM(COUNTIF(WeekNights!$D$27:$AV$38,A11),COUNTIF('Weekend Training'!$D$27:$Y$38,A11))","v":0}]
["MX01.01H","Participate in Citizenship Learning Stations -","-",{"$f":"SUM(COUNTIF(WeekNights!$D$27:$AV$38,A12),COUNTIF('Weekend Training'!$D$27:$Y$38,A12))","v":0}]
["CX01.01","Participate in Citizenship Activities 18",18,{"$f":"SUM(COUNTIF(WeekNights!$D$27:$AV$38,A13),COUNTIF('Weekend Training'!$D$27:$Y$38,A13))","v":0}]
[]
[null,"PO X02 - Perform Community Service"]
["MX02.01","Perform Community Service",9,{"$f":"SUM(COUNTIF(WeekNights!$D$27:$AV$38,A16),COUNTIF('Weekend Training'!$D$27:$Y$38,A16))","v":9}]
["CX02.01","Perform Community Service",18,{"$f":"SUM(COUNTIF(WeekNights!$D$27:$AV$38,A17),COUNTIF('Weekend Training'!$D$27:$Y$38,A17))","v":0}]
[]
[null,"PO 303 - Perform the Role of a Team Leader"]
["M303.01","Define the Role of a Team Leader",2,{"$f":"SUM(COUNTIF(WeekNights!$D$27:$AV$38,A20),COUNTIF('Weekend Training'!$D$27:$Y$38,A20))","v":2}]
["M303.02","Participate in a Mentoring Relationship",1,{"$f":"SUM(COUNTIF(WeekNights!$D$27:$AV$38,A21),COUNTIF('Weekend Training'!$D$27:$Y$38,A21))","v":1}]
["M303.03","Practice Self-Assessment",1,{"$f":"SUM(COUNTIF(WeekNights!$D$27:$AV$38,A22),COUNTIF('Weekend Training'!$D$27:$Y$38,A22))","v":1}]
["M303.04","Communicate as a Team Leader",2,{"$f":"SUM(COUNTIF(WeekNights!$D$27:$AV$38,A23),COUNTIF('Weekend Training'!$D$27:$Y$38,A23))","v":2}]
["M303.05","Supervise Cadets",2,{"$f":"SUM(COUNTIF(WeekNights!$D$27:$AV$38,A24),COUNTIF('Weekend Training'!$D$27:$Y$38,A24))","v":2}]
["M303.06","Solve Problems",2,{"$f":"SUM(COUNTIF(WeekNights!$D$27:$AV$38,A25),COUNTIF('Weekend Training'!$D$27:$Y$38,A25))","v":2}]
["M303.07","Lead Cadets Through a Leadership Assignment",2,{"$f":"SUM(COUNTIF(WeekNights!$D$27:$AV$38,A26),COUNTIF('Weekend Training'!$D$27:$Y$38,A26))","v":2}]
["M303.PC","Performance Check","-",{"$f":"SUM(COUNTIF(WeekNights!$D$27:$AV$38,A27),COUNTIF('Weekend Training'!$D$27:$Y$38,A27))","v":0}]
["C303.01","Lead Team-Building Activities",3,{"$f":"SUM(COUNTIF(WeekNights!$D$27:$AV$38,A28),COUNTIF('Weekend Training'!$D$27:$Y$38,A28))","v":0}]
["C303.02","Deliver a Presentation About a Leader",2,{"$f":"SUM(COUNTIF(WeekNights!$D$27:$AV$38,A29),COUNTIF('Weekend Training'!$D$27:$Y$38,A29))","v":0}]
[]
[null,"PO X04 -Track Participation in Physical Activities"]
["MX04.01 ","Participate in 60 Minutes of Moderate- to Vigorous-Intensity Physical Activity (MVPA) and Track Participation in Physical Activities",3,{"$f":"SUM(COUNTIF(WeekNights!$D$27:$AV$38,A32),COUNTIF('Weekend Training'!$D$27:$Y$38,A32))","v":0}]
["MX04.02 ","Identify Strategies to Improve Participation in Physical Activities and Participate in the Cadet Fitness Assessment (CFA)",3,{"$f":"SUM(COUNTIF(WeekNights!$D$27:$AV$38,A33),COUNTIF('Weekend Training'!$D$27:$Y$38,A33))","v":0}]
["MX04.03 ","Participate in the CFA and Identify Strategies for Improving Personal Physical Fitness",3,{"$f":"SUM(COUNTIF(WeekNights!$D$27:$AV$38,A34),COUNTIF('Weekend Training'!$D$27:$Y$38,A34))","v":0}]
["CX04.01 ","Participate in the CFA and Identify Strategies for Improving Personal Physical Fitness",3,{"$f":"SUM(COUNTIF(WeekNights!$D$27:$AV$38,A35),COUNTIF('Weekend Training'!$D$27:$Y$38,A35))","v":0}]
["CX04.02 ","Participate in Activities that Reinforce the Three Components of Physical Fitness",3,{"$f":"SUM(COUNTIF(WeekNights!$D$27:$AV$38,A36),COUNTIF('Weekend Training'!$D$27:$Y$38,A36))","v":0}]
["CX04.03 ","Participate in a Cooking Class",3,{"$f":"SUM(COUNTIF(WeekNights!$D$27:$AV$38,A37),COUNTIF('Weekend Training'!$D$27:$Y$38,A37))","v":0}]
["CX04.04 ","Attend a Personal Fitness and Healthy Living Presentation",3,{"$f":"SUM(COUNTIF(WeekNights!$D$27:$AV$38,A38),COUNTIF('Weekend Training'!$D$27:$Y$38,A38))","v":0}]
["CX04.05 ","Attend a Local Amateur Sporting Event",3,{"$f":"SUM(COUNTIF(WeekNights!$D$27:$AV$38,A39),COUNTIF('Weekend Training'!$D$27:$Y$38,A39))","v":0}]
[]
[null,"PO X05 - Participate in Physical Activities"]
["M105.01","Participate in Physical Activities",9,{"$f":"SUM(COUNTIF(WeekNights!$D$27:$AV$38,A42),COUNTIF('Weekend Training'!$D$27:$Y$38,A42))","v":0}]
["CX05.01 ","Participate in Physical Activities",9,{"$f":"SUM(COUNTIF(WeekNights!$D$27:$AV$38,A43),COUNTIF('Weekend Training'!$D$27:$Y$38,A43))","v":0}]
["CX05.02 ","Participate in a Tournament",9,{"$f":"SUM(COUNTIF(WeekNights!$D$27:$AV$38,A44),COUNTIF('Weekend Training'!$D$27:$Y$38,A44))","v":0}]
[]
[null,"PO 306 - Fire the Cadet Air Rifle During Recreational Marksmanship"]
["M306.01","Participate in a Recreational Marksmanship Activity",3,{"$f":"SUM(COUNTIF(WeekNights!$D$27:$AV$38,A47),COUNTIF('Weekend Training'!$D$27:$Y$38,A47))","v":0}]
["C106.01","Participate in a Recreational Marksmanship Activity",6,{"$f":"SUM(COUNTIF(WeekNights!$D$27:$AV$38,A48),COUNTIF('Weekend Training'!$D$27:$Y$38,A48))","v":0}]
["C206.01","Practice Holding Techniques",1,{"$f":"SUM(COUNTIF(WeekNights!$D$27:$AV$38,A49),COUNTIF('Weekend Training'!$D$27:$Y$38,A49))","v":0}]
["C206.02","Practice Aiming Techniques",2,{"$f":"SUM(COUNTIF(WeekNights!$D$27:$AV$38,A50),COUNTIF('Weekend Training'!$D$27:$Y$38,A50))","v":0}]
["C206.03","Practice Firing Techniques",1,{"$f":"SUM(COUNTIF(WeekNights!$D$27:$AV$38,A51),COUNTIF('Weekend Training'!$D$27:$Y$38,A51))","v":0}]
["C306.01","Identify Civilian Marksmanship Organizations",1,{"$f":"SUM(COUNTIF(WeekNights!$D$27:$AV$38,A52),COUNTIF('Weekend Training'!$D$27:$Y$38,A52))","v":0}]
["C306.02","Correct Marksmanship Error",2,{"$f":"SUM(COUNTIF(WeekNights!$D$27:$AV$38,A53),COUNTIF('Weekend Training'!$D$27:$Y$38,A53))","v":0}]
["C306.03","Fire the Cadet Air Rifle from the Standing Position",2,{"$f":"SUM(COUNTIF(WeekNights!$D$27:$AV$38,A54),COUNTIF('Weekend Training'!$D$27:$Y$38,A54))","v":0}]
[]
[null,"PO 307 - Serve in a Army Cadet Corps"]
["M307.01","Identify Phase 3 Training Opportunities",1,{"$f":"SUM(COUNTIF(WeekNights!$D$27:$AV$38,A57),COUNTIF('Weekend Training'!$D$27:$Y$38,A57))","v":1}]
["M307.02","Identify Year Three CSTC Training Opportunities",1,{"$f":"SUM(COUNTIF(WeekNights!$D$27:$AV$38,A58),COUNTIF('Weekend Training'!$D$27:$Y$38,A58))","v":1}]
["M307.03","Recognize the Partnership Between the Army Cadet League of Canada and the Department of National Defence",1,{"$f":"SUM(COUNTIF(WeekNights!$D$27:$AV$38,A59),COUNTIF('Weekend Training'!$D$27:$Y$38,A59))","v":1}]
["C307.01","Participate in a Presentation Given by a Guest Speaker From the RCSU",2,{"$f":"SUM(COUNTIF(WeekNights!$D$27:$AV$38,A60),COUNTIF('Weekend Training'!$D$27:$Y$38,A60))","v":0}]
["C307.02","Participate in a Presentation Given by the Cadet Liaison Officer",2,{"$f":"SUM(COUNTIF(WeekNights!$D$27:$AV$38,A61),COUNTIF('Weekend Training'!$D$27:$Y$38,A61))","v":0}]
["C307.03","Participate in a Presentation Given by a Guest Speaker from the Army Cadet League of Canada",2,{"$f":"SUM(COUNTIF(WeekNights!$D$27:$AV$38,A62),COUNTIF('Weekend Training'!$D$27:$Y$38,A62))","v":0}]
["C307.04","Participate in a Presentation on the Duke of Edinburgh Award Program",1,{"$f":"SUM(COUNTIF(WeekNights!$D$27:$AV$38,A63),COUNTIF('Weekend Training'!$D$27:$Y$38,A63))","v":0}]
[]
[null,"PO 308 - Direct a Squad Prior to a Parade"]
["M308.01","Prepare a Squad for Parade",3,{"$f":"SUM(COUNTIF(WeekNights!$D$27:$AV$38,A66),COUNTIF('Weekend Training'!$D$27:$Y$38,A66))","v":2}]
["M308.02","Deliver Words of Command",1,{"$f":"SUM(COUNTIF(WeekNights!$D$27:$AV$38,A67),COUNTIF('Weekend Training'!$D$27:$Y$38,A67))","v":1}]
["M308.PC","Performance Check","-",{"$f":"SUM(COUNTIF(WeekNights!$D$27:$AV$38,A68),COUNTIF('Weekend Training'!$D$27:$Y$38,A68))","v":0}]
["C208.01","Practice Ceremonial Drill as a Review",2,{"$f":"SUM(COUNTIF(WeekNights!$D$27:$AV$38,A69),COUNTIF('Weekend Training'!$D$27:$Y$38,A69))","v":4}]
["C208.02","Execute Drill With Arms",8,{"$f":"SUM(COUNTIF(WeekNights!$D$27:$AV$38,A70),COUNTIF('Weekend Training'!$D$27:$Y$38,A70))","v":0}]
["C308.01","Execute Flag Party Drill",4,{"$f":"SUM(COUNTIF(WeekNights!$D$27:$AV$38,A71),COUNTIF('Weekend Training'!$D$27:$Y$38,A71))","v":0}]
["C308.02","Deliver Words of Command",2,{"$f":"SUM(COUNTIF(WeekNights!$D$27:$AV$38,A72),COUNTIF('Weekend Training'!$D$27:$Y$38,A72))","v":0}]
[]
[null,"PO 309 - Instruct a Lesson"]
["M309.01","Explain Principles of Instruction",2,{"$f":"SUM(COUNTIF(WeekNights!$D$27:$AV$38,A75),COUNTIF('Weekend Training'!$D$27:$Y$38,A75))","v":2}]
["M309.02","Identify Methods of Instruction",2,{"$f":"SUM(COUNTIF(WeekNights!$D$27:$AV$38,A76),COUNTIF('Weekend Training'!$D$27:$Y$38,A76))","v":2}]
["M309.03","Describe Effective Speaking Techniques",1,{"$f":"SUM(COUNTIF(WeekNights!$D$27:$AV$38,A77),COUNTIF('Weekend Training'!$D$27:$Y$38,A77))","v":1}]
["M309.04","Describe Questioning Techniques",1,{"$f":"SUM(COUNTIF(WeekNights!$D$27:$AV$38,A78),COUNTIF('Weekend Training'!$D$27:$Y$38,A78))","v":1}]
["M309.05","Select Appropriate Instructional Aids",2,{"$f":"SUM(COUNTIF(WeekNights!$D$27:$AV$38,A79),COUNTIF('Weekend Training'!$D$27:$Y$38,A79))","v":2}]
["M309.06","Plan a Lesson",2,{"$f":"SUM(COUNTIF(WeekNights!$D$27:$AV$38,A80),COUNTIF('Weekend Training'!$D$27:$Y$38,A80))","v":2}]
["M309.07","Instruct a 15-Minute Lesson",3,{"$f":"SUM(COUNTIF(WeekNights!$D$27:$AV$38,A81),COUNTIF('Weekend Training'!$D$27:$Y$38,A81))","v":3}]
["M309.PC","Performance Check","-",{"$f":"SUM(COUNTIF(WeekNights!$D$27:$AV$38,A82),COUNTIF('Weekend Training'!$D$27:$Y$38,A82))","v":8}]
["C309.01","Deliver a One-Minute Verbal Presentation",2,{"$f":"SUM(COUNTIF(WeekNights!$D$27:$AV$38,A83),COUNTIF('Weekend Training'!$D$27:$Y$38,A83))","v":1}]
["C309.02","Plan a Lesson",2,{"$f":"SUM(COUNTIF(WeekNights!$D$27:$AV$38,A84),COUNTIF('Weekend Training'!$D$27:$Y$38,A84))","v":0}]
["C309.03","Instruct a 15-Minute Lesson",3,{"$f":"SUM(COUNTIF(WeekNights!$D$27:$AV$38,A85),COUNTIF('Weekend Training'!$D$27:$Y$38,A85))","v":0}]
["C309.04","Identify Formations for Drill Instruction",1,{"$f":"SUM(COUNTIF(WeekNights!$D$27:$AV$38,A86),COUNTIF('Weekend Training'!$D$27:$Y$38,A86))","v":1}]
["C309.05","Plan a Drill Lesson",2,{"$f":"SUM(COUNTIF(WeekNights!$D$27:$AV$38,A87),COUNTIF('Weekend Training'!$D$27:$Y$38,A87))","v":0}]
["C309.06","Instruct a 15-Minute Drill Lesson",3,{"$f":"SUM(COUNTIF(WeekNights!$D$27:$AV$38,A88),COUNTIF('Weekend Training'!$D$27:$Y$38,A88))","v":0}]
[]
[null,"PO 311 - Participate in Recreational Summer Biathlon Activities"]
["C111.01","Participate in a Biathlon Briefing",1,{"$f":"SUM(COUNTIF(WeekNights!$D$27:$AV$38,A91),COUNTIF('Weekend Training'!$D$27:$Y$38,A91))","v":0}]
["C111.02","Run Wind Sprints",1,{"$f":"SUM(COUNTIF(WeekNights!$D$27:$AV$38,A92),COUNTIF('Weekend Training'!$D$27:$Y$38,A92))","v":0}]
["C111.03","Simulate Firing the Cadet Air Rifle Following Physical Activity",1,{"$f":"SUM(COUNTIF(WeekNights!$D$27:$AV$38,A93),COUNTIF('Weekend Training'!$D$27:$Y$38,A93))","v":0}]
["C111.04","Participate in a Recreational Summer Biathlon Activity",6,{"$f":"SUM(COUNTIF(WeekNights!$D$27:$AV$38,A94),COUNTIF('Weekend Training'!$D$27:$Y$38,A94))","v":0}]
["C211.01","Identify Civilian Biathlon Opportunities",1,{"$f":"SUM(COUNTIF(WeekNights!$D$27:$AV$38,A95),COUNTIF('Weekend Training'!$D$27:$Y$38,A95))","v":0}]
["C211.02","Run on Alternate Terrain",1,{"$f":"SUM(COUNTIF(WeekNights!$D$27:$AV$38,A96),COUNTIF('Weekend Training'!$D$27:$Y$38,A96))","v":0}]
["C211.03","Fire the Cadet Air Rifle using a Sling Following Physical Activity",1,{"$f":"SUM(COUNTIF(WeekNights!$D$27:$AV$38,A97),COUNTIF('Weekend Training'!$D$27:$Y$38,A97))","v":0}]
["C211.04","Participate in a Competitive Summer Biathlon Activity",6,{"$f":"SUM(COUNTIF(WeekNights!$D$27:$AV$38,A98),COUNTIF('Weekend Training'!$D$27:$Y$38,A98))","v":0}]
["C311.01","Practice Aiming and Firing the Cadet Air Rifle Following Physical Activity",3,{"$f":"SUM(COUNTIF(WeekNights!$D$27:$AV$38,A99),COUNTIF('Weekend Training'!$D$27:$Y$38,A99))","v":0}]
["C311.02","Participate in a Recreational Summer Biathlon Activity",6,{"$f":"SUM(COUNTIF(WeekNights!$D$27:$AV$38,A100),COUNTIF('Weekend Training'!$D$27:$Y$38,A100))","v":0}]
[]
[null,"PO X20 - Participate in Canadian Forces (CF) Familiarization Activities"]
["MX20.01A","Participate in a CAF Activity","-",{"$f":"SUM(COUNTIF(WeekNights!$D$27:$AV$38,A103),COUNTIF('Weekend Training'!$D$27:$Y$38,A103))","v":0}]
["MX20.01B","Participate in a CAF Familiarization Tour","-",{"$f":"SUM(COUNTIF(WeekNights!$D$27:$AV$38,A104),COUNTIF('Weekend Training'!$D$27:$Y$38,A104))","v":3}]
["MX20.01C","Fire the C7 Rifle","-",{"$f":"SUM(COUNTIF(WeekNights!$D$27:$AV$38,A105),COUNTIF('Weekend Training'!$D$27:$Y$38,A105))","v":0}]
["MX20.01D","Participate in a Mess Dinner","-",{"$f":"SUM(COUNTIF(WeekNights!$D$27:$AV$38,A106),COUNTIF('Weekend Training'!$D$27:$Y$38,A106))","v":3}]
["MX20.01E","Attend a CAF Presentation","-",{"$f":"SUM(COUNTIF(WeekNights!$D$27:$AV$38,A107),COUNTIF('Weekend Training'!$D$27:$Y$38,A107))","v":0}]
["MX20.01F","Attend a CAF Commemorative Ceremony","-",{"$f":"SUM(COUNTIF(WeekNights!$D$27:$AV$38,A108),COUNTIF('Weekend Training'!$D$27:$Y$38,A108))","v":3}]
["MX20.01G","Participate in CAF Video Activities","-",{"$f":"SUM(COUNTIF(WeekNights!$D$27:$AV$38,A109),COUNTIF('Weekend Training'!$D$27:$Y$38,A109))","v":0}]
["MX20.01H","Participate in CAF Learning Stations","-",{"$f":"SUM(COUNTIF(WeekNights!$D$27:$AV$38,A110),COUNTIF('Weekend Training'!$D$27:$Y$38,A110))","v":0}]
["CX20.01","Participate in CAF Familiarization Activities 18",18,{"$f":"SUM(COUNTIF(WeekNights!$D$27:$AV$38,A111),COUNTIF('Weekend Training'!$D$27:$Y$38,A111))","v":0}]
[]
["PO 321 - Perform the Duties of a Team Leader During a Weekend Bivouac Exercise"]
["M321.01","Perform the Duties of a Team Leader in the Field",1,{"$f":"SUM(COUNTIF(WeekNights!$D$27:$AV$38,A114),COUNTIF('Weekend Training'!$D$27:$Y$38,A114))","v":0}]
["M321.02","Construct Components of a Bivouac Site",3,{"$f":"SUM(COUNTIF(WeekNights!$D$27:$AV$38,A115),COUNTIF('Weekend Training'!$D$27:$Y$38,A115))","v":0}]
["C321.01","Identify Methods of Waste Disposal in the Field",1,{"$f":"SUM(COUNTIF(WeekNights!$D$27:$AV$38,A116),COUNTIF('Weekend Training'!$D$27:$Y$38,A116))","v":0}]
["C321.02","Identify Safety Considerations When Travelling Over Snow and Ice",2,{"$f":"SUM(COUNTIF(WeekNights!$D$27:$AV$38,A117),COUNTIF('Weekend Training'!$D$27:$Y$38,A117))","v":0}]
["C321.03","Construct Field Amenities",6,{"$f":"SUM(COUNTIF(WeekNights!$D$27:$AV$38,A118),COUNTIF('Weekend Training'!$D$27:$Y$38,A118))","v":0}]
["C121.02","Participate in a Discussion on Cold Climate Exposure",1,{"$f":"SUM(COUNTIF(WeekNights!$D$27:$AV$38,A119),COUNTIF('Weekend Training'!$D$27:$Y$38,A119))","v":0}]
["C121.03","Select Cold Weather Clothing",1,{"$f":"SUM(COUNTIF(WeekNights!$D$27:$AV$38,A120),COUNTIF('Weekend Training'!$D$27:$Y$38,A120))","v":0}]
["C121.04","Recognize the Effects of Cold Weather",2,{"$f":"SUM(COUNTIF(WeekNights!$D$27:$AV$38,A121),COUNTIF('Weekend Training'!$D$27:$Y$38,A121))","v":0}]
["C121.05","Participate in Cold Weather Training",18,{"$f":"SUM(COUNTIF(WeekNights!$D$27:$AV$38,A122),COUNTIF('Weekend Training'!$D$27:$Y$38,A122))","v":0}]
[]
["PO 322 - Plot Location on a Topographical Map using a Global Positioning System Receiver"]
["M322.01","Review Red Star Navigation",1,{"$f":"SUM(COUNTIF(WeekNights!$D$27:$AV$38,A125),COUNTIF('Weekend Training'!$D$27:$Y$38,A125))","v":0}]
["M322.02","Calculate Magnetic Declination",2,{"$f":"SUM(COUNTIF(WeekNights!$D$27:$AV$38,A126),COUNTIF('Weekend Training'!$D$27:$Y$38,A126))","v":0}]
["M322.03","Identify Components of a Global Positioning System",1,{"$f":"SUM(COUNTIF(WeekNights!$D$27:$AV$38,A127),COUNTIF('Weekend Training'!$D$27:$Y$38,A127))","v":0}]
["M322.04","Identify Features of a Global Positioning System Receiver",1,{"$f":"SUM(COUNTIF(WeekNights!$D$27:$AV$38,A128),COUNTIF('Weekend Training'!$D$27:$Y$38,A128))","v":0}]
["M322.05","Set a Map Datum on a Global Positioning System Receiver",2,{"$f":"SUM(COUNTIF(WeekNights!$D$27:$AV$38,A129),COUNTIF('Weekend Training'!$D$27:$Y$38,A129))","v":0}]
["M322.06","Identify Location Using a Global Positioning System Receiver",4,{"$f":"SUM(COUNTIF(WeekNights!$D$27:$AV$38,A130),COUNTIF('Weekend Training'!$D$27:$Y$38,A130))","v":0}]
["M322.PC","Performance Check",0,{"$f":"SUM(COUNTIF(WeekNights!$D$27:$AV$38,A131),COUNTIF('Weekend Training'!$D$27:$Y$38,A131))","v":0}]
["C322.01","Practice Navigation as a Member of a Small Group",9,{"$f":"SUM(COUNTIF(WeekNights!$D$27:$AV$38,A132),COUNTIF('Weekend Training'!$D$27:$Y$38,A132))","v":0}]
["C322.02","Identify Factors that Impact Navigation in the Winter",4,{"$f":"SUM(COUNTIF(WeekNights!$D$27:$AV$38,A133),COUNTIF('Weekend Training'!$D$27:$Y$38,A133))","v":0}]
["C322.03","Identify the Principles of Map-Making",1,{"$f":"SUM(COUNTIF(WeekNights!$D$27:$AV$38,A134),COUNTIF('Weekend Training'!$D$27:$Y$38,A134))","v":0}]
["C322.04","Draw a Map of an Area in the Local Training Facility",1,{"$f":"SUM(COUNTIF(WeekNights!$D$27:$AV$38,A135),COUNTIF('Weekend Training'!$D$27:$Y$38,A135))","v":0}]
[]
["PO 323 - Trekking (Complimentary Only)"]
["C123.01","Participate in Adventure Training",18,{"$f":"SUM(COUNTIF(WeekNights!$D$27:$AV$38,A138),COUNTIF('Weekend Training'!$D$27:$Y$38,A138))","v":0}]
["C123.02","Adhere to March Discipline",1,{"$f":"SUM(COUNTIF(WeekNights!$D$27:$AV$38,A139),COUNTIF('Weekend Training'!$D$27:$Y$38,A139))","v":0}]
["C123.03","Participate in Snowshoeing",9,{"$f":"SUM(COUNTIF(WeekNights!$D$27:$AV$38,A140),COUNTIF('Weekend Training'!$D$27:$Y$38,A140))","v":0}]
[]
["PO 324 - Survive When Lost"]
["M324.01","Construct an Improvised Shelter",3,{"$f":"SUM(COUNTIF(WeekNights!$D$27:$AV$38,A143),COUNTIF('Weekend Training'!$D$27:$Y$38,A143))","v":0}]
["M324.02","Collect Drinking Water",1,{"$f":"SUM(COUNTIF(WeekNights!$D$27:$AV$38,A144),COUNTIF('Weekend Training'!$D$27:$Y$38,A144))","v":0}]
["M324.03","Light a Fire Without Matches",4,{"$f":"SUM(COUNTIF(WeekNights!$D$27:$AV$38,A145),COUNTIF('Weekend Training'!$D$27:$Y$38,A145))","v":0}]
["M324.04","Predict Weather",1,{"$f":"SUM(COUNTIF(WeekNights!$D$27:$AV$38,A146),COUNTIF('Weekend Training'!$D$27:$Y$38,A146))","v":0}]
["M324.05","Determine When to Self-Rescue",1,{"$f":"SUM(COUNTIF(WeekNights!$D$27:$AV$38,A147),COUNTIF('Weekend Training'!$D$27:$Y$38,A147))","v":0}]
["C324.01","Identify Animal and Insect Food Sources",2,{"$f":"SUM(COUNTIF(WeekNights!$D$27:$AV$38,A148),COUNTIF('Weekend Training'!$D$27:$Y$38,A148))","v":0}]
["C324.02","Construct Snares",4,{"$f":"SUM(COUNTIF(WeekNights!$D$27:$AV$38,A149),COUNTIF('Weekend Training'!$D$27:$Y$38,A149))","v":0}]
["C324.03","Catch a Fish",3,{"$f":"SUM(COUNTIF(WeekNights!$D$27:$AV$38,A150),COUNTIF('Weekend Training'!$D$27:$Y$38,A150))","v":0}]
["C324.03","Collect Edible Plants",4,{"$f":"SUM(COUNTIF(WeekNights!$D$27:$AV$38,A151),COUNTIF('Weekend Training'!$D$27:$Y$38,A151))","v":0}]
["C324.05","Prepare a Meal From Field Food Sources",3,{"$f":"SUM(COUNTIF(WeekNights!$D$27:$AV$38,A152),COUNTIF('Weekend Training'!$D$27:$Y$38,A152))","v":0}]
["C224.01","Cook in the Field",2,{"$f":"SUM(COUNTIF(WeekNights!$D$27:$AV$38,A153),COUNTIF('Weekend Training'!$D$27:$Y$38,A153))","v":0}]
["C224.02","Prepare a Signal Fire",2,{"$f":"SUM(COUNTIF(WeekNights!$D$27:$AV$38,A154),COUNTIF('Weekend Training'!$D$27:$Y$38,A154))","v":0}]
[]
["PO 325 - Identify the Competencies of an Outdoor Leader"]
["M325.01","Participate in a Discussion on Army Cadet Expedition Training",1,{"$f":"SUM(COUNTIF(WeekNights!$D$27:$AV$38,A157),COUNTIF('Weekend Training'!$D$27:$Y$38,A157))","v":0}]
["M325.02","List the Competencies of an Outdoor Leader",2,{"$f":"SUM(COUNTIF(WeekNights!$D$27:$AV$38,A158),COUNTIF('Weekend Training'!$D$27:$Y$38,A158))","v":0}]
["M325.03","Discuss Self-Awareness and Professional Conduct as a Competency of an Outdoor Leader",1,{"$f":"SUM(COUNTIF(WeekNights!$D$27:$AV$38,A159),COUNTIF('Weekend Training'!$D$27:$Y$38,A159))","v":0}]
["C325.01","Communicate During an Expedition",6,{"$f":"SUM(COUNTIF(WeekNights!$D$27:$AV$38,A160),COUNTIF('Weekend Training'!$D$27:$Y$38,A160))","v":0}]
["C325.02","Participate in a Presentation on the Duke of Edinburgh Award Program",1,{"$f":"SUM(COUNTIF(WeekNights!$D$27:$AV$38,A161),COUNTIF('Weekend Training'!$D$27:$Y$38,A161))","v":0}]
[]
["PO 326 - Perform Expedition Skills"]
["M326.01","Prepare for Expedition Training",1,{"$f":"SUM(COUNTIF(WeekNights!$D$27:$AV$38,A164),COUNTIF('Weekend Training'!$D$27:$Y$38,A164))","v":0}]
["M326.02A","Paddle a Canoe",5.5,{"$f":"SUM(COUNTIF(WeekNights!$D$27:$AV$38,A165),COUNTIF('Weekend Training'!$D$27:$Y$38,A165))","v":0}]
["M326.02B","Ride a Mountain Bike",5.5,{"$f":"SUM(COUNTIF(WeekNights!$D$27:$AV$38,A166),COUNTIF('Weekend Training'!$D$27:$Y$38,A166))","v":0}]
["M326.02C","Hike Along a Route",5.5,{"$f":"SUM(COUNTIF(WeekNights!$D$27:$AV$38,A167),COUNTIF('Weekend Training'!$D$27:$Y$38,A167))","v":0}]
["M326.03","Practice Environmental Stewardship as a Team Leader",1,{"$f":"SUM(COUNTIF(WeekNights!$D$27:$AV$38,A168),COUNTIF('Weekend Training'!$D$27:$Y$38,A168))","v":0}]
["M326.04","Navigate Along a Route Using a Map and Compass",2,{"$f":"SUM(COUNTIF(WeekNights!$D$27:$AV$38,A169),COUNTIF('Weekend Training'!$D$27:$Y$38,A169))","v":0}]
["M326.05","Use Expedition Equipment",2,{"$f":"SUM(COUNTIF(WeekNights!$D$27:$AV$38,A170),COUNTIF('Weekend Training'!$D$27:$Y$38,A170))","v":0}]
["M326.06","Follow Daily Routine",1,{"$f":"SUM(COUNTIF(WeekNights!$D$27:$AV$38,A171),COUNTIF('Weekend Training'!$D$27:$Y$38,A171))","v":0}]
["M326.07","Record Entries in a Journal",1,{"$f":"SUM(COUNTIF(WeekNights!$D$27:$AV$38,A172),COUNTIF('Weekend Training'!$D$27:$Y$38,A172))","v":0}]
["M326.PC","Performance Check","-",{"$f":"SUM(COUNTIF(WeekNights!$D$27:$AV$38,A173),COUNTIF('Weekend Training'!$D$27:$Y$38,A173))","v":0}]
[]
["NOTES"]
[1,"60 periods of mandatory training must be scheduled for weekly training nights"]
[2,"18 periods of mandatory training must be scheduled for two weekend training days (9 each)"]
[3,"18 periods of mandatory training must be scheduled for the Biv FTX"]
[4,"18 periods of mandatory training must be scheduled for the Nav/Trek FTX"]
[5,"30 periods of complimentary training must be scheduled for weekly training nights"]
[6,"18 periods of complimentary training must be scheduled for two weekend training days (9 each)"]
[7,"18 periods of complimentary training must be scheduled for a weekend FTX (CW or ADV)"]

{"sheet":"EO Val. (GOLD)","index":13,"n_rows":185,"n_cols":4,"rows_kept":185,"hidden":true,"merged":[[0,0,0,3],[1,0,1,3],[121,0,121,3],[127,0,127,3],[139,0,139,3],[144,0,144,3],[158,0,158,3],[168,0,168,3]]}
["GOLD STAR PROGRAM"]
[]
[]
[null,"PO 400 - Positive Social Relationships "]
["M400.01","Your Responsibility as a Leader to Influence Positive Social Relations",2,{"$f":"SUM(COUNTIF(WeekNights!$D$39:$AV$50,A5),COUNTIF('Weekend Training'!$D$39:$Y$51,A5))","v":2}]
["M400.02","What Complaints and Consent are and how to Practice Risk Reduction",2,{"$f":"SUM(COUNTIF(WeekNights!$D$39:$AV$50,A6),COUNTIF('Weekend Training'!$D$39:$Y$51,A6))","v":2}]
["M400.03","Your responsibility as a leader to help manage conflict",2,{"$f":"SUM(COUNTIF(WeekNights!$D$39:$AV$50,A7),COUNTIF('Weekend Training'!$D$39:$Y$51,A7))","v":2}]
[]
[null," PO X01 - Participate in Citizenship Activities"]
["MX01.01A","Participate in a Citizenship Tour","-",{"$f":"SUM(COUNTIF(WeekNights!$D$39:$AV$50,A10),COUNTIF('Weekend Training'!$D$39:$Y$51,A10))","v":0}]
["MX01.01B","Attend a Presentation by a Community Organization","-",{"$f":"SUM(COUNTIF(WeekNights!$D$39:$AV$50,A11),COUNTIF('Weekend Training'!$D$39:$Y$51,A11))","v":0}]
["MX01.01C","Attend a Presentation by a Citizen-of-Interest","-",{"$f":"SUM(COUNTIF(WeekNights!$D$39:$AV$50,A12),COUNTIF('Weekend Training'!$D$39:$Y$51,A12))","v":0}]
["MX01.01D","Participate in the Canadian Citizenship Challenge","-",{"$f":"SUM(COUNTIF(WeekNights!$D$39:$AV$50,A13),COUNTIF('Weekend Training'!$D$39:$Y$51,A13))","v":0}]
["MX01.01E","Host a Citizenship Ceremony -","-",{"$f":"SUM(COUNTIF(WeekNights!$D$39:$AV$50,A14),COUNTIF('Weekend Training'!$D$39:$Y$51,A14))","v":0}]
["MX01.01F","Participate in an Election -","-",{"$f":"SUM(COUNTIF(WeekNights!$D$39:$AV$50,A15),COUNTIF('Weekend Training'!$D$39:$Y$51,A15))","v":0}]
["MX01.01G","Participate in Heritage Minutes Video Activities -","-",{"$f":"SUM(COUNTIF(WeekNights!$D$39:$AV$50,A16),COUNTIF('Weekend Training'!$D$39:$Y$51,A16))","v":0}]
["MX01.01H","Participate in Citizenship Learning Stations -","-",{"$f":"SUM(COUNTIF(WeekNights!$D$39:$AV$50,A17),COUNTIF('Weekend Training'!$D$39:$Y$51,A17))","v":0}]
["CX01.01","Participate in Citizenship Activities 18",18,{"$f":"SUM(COUNTIF(WeekNights!$D$39:$AV$50,A18),COUNTIF('Weekend Training'!$D$39:$Y$51,A18))","v":0}]
[]
[null," PO X02 - Perform Community Service"]
["MX02.01","Perform Community Service",9,{"$f":"SUM(COUNTIF(WeekNights!$D$39:$AV$50,A21),COUNTIF('Weekend Training'!$D$39:$Y$51,A21))","v":9}]
["CX02.01","Perform Community Service",18,{"$f":"SUM(COUNTIF(WeekNights!$D$39:$AV$50,A22),COUNTIF('Weekend Training'!$D$39:$Y$51,A22))","v":0}]
[]
[null,"PO 403 - Act as a Team Leader"]
["M403.01","Describe Needs and Expectations of Team Members",1,{"$f":"SUM(COUNTIF(WeekNights!$D$39:$AV$50,A25),COUNTIF('Weekend Training'!$D$39:$Y$51,A25))","v":1}]
["M403.02","Select a Leadership Approach",2,{"$f":"SUM(COUNTIF(WeekNights!$D$39:$AV$50,A26),COUNTIF('Weekend Training'!$D$39:$Y$51,A26))","v":2}]
["M403.03","Motivate Team Members",2,{"$f":"SUM(COUNTIF(WeekNights!$D$39:$AV$50,A27),COUNTIF('Weekend Training'!$D$39:$Y$51,A27))","v":2}]
["M403.04","Provide Feedback to Team Members",2,{"$f":"SUM(COUNTIF(WeekNights!$D$39:$AV$50,A28),COUNTIF('Weekend Training'!$D$39:$Y$51,A28))","v":2}]
["M403.05","Participate in a Mentoring Relationship",2,{"$f":"SUM(COUNTIF(WeekNights!$D$39:$AV$50,A29),COUNTIF('Weekend Training'!$D$39:$Y$51,A29))","v":2}]
["M403.06","Act as a Team Leader During a Leadership Appointment",1,{"$f":"SUM(COUNTIF(WeekNights!$D$39:$AV$50,A30),COUNTIF('Weekend Training'!$D$39:$Y$51,A30))","v":1}]
["M403.P1","Performance Check - Part 1","-",{"$f":"SUM(COUNTIF(WeekNights!$D$39:$AV$50,A31),COUNTIF('Weekend Training'!$D$39:$Y$51,A31))","v":0}]
["M403.P2","Performance Check - Part 2","-",{"$f":"SUM(COUNTIF(WeekNights!$D$39:$AV$50,A32),COUNTIF('Weekend Training'!$D$39:$Y$51,A32))","v":0}]
["C403.01","Self-Assess Leadership Skills",1,{"$f":"SUM(COUNTIF(WeekNights!$D$39:$AV$50,A33),COUNTIF('Weekend Training'!$D$39:$Y$51,A33))","v":0}]
["C403.02","Participate in a Leadership Seminar (4x3 periods)",12,{"$f":"SUM(COUNTIF(WeekNights!$D$39:$AV$50,A34),COUNTIF('Weekend Training'!$D$39:$Y$51,A34))","v":0}]
[]
[null,"PO X04 - Track Participation in Physical Activities"]
["MX04.01 ","Participate in 60 Minutes of Moderate- to Vigorous-Intensity Physical Activity (MVPA) and Track Participation in Physical Activities",3,{"$f":"SUM(COUNTIF(WeekNights!$D$39:$AV$50,A37),COUNTIF('Weekend Training'!$D$39:$Y$51,A37))","v":0}]
["MX04.02 ","Identify Strategies to Improve Participation in Physical Activities and Participate in the Cadet Fitness Assessment (CFA)",3,{"$f":"SUM(COUNTIF(WeekNights!$D$39:$AV$50,A38),COUNTIF('Weekend Training'!$D$39:$Y$51,A38))","v":0}]
["MX04.03 ","Participate in the CFA and Identify Strategies for Improving Personal Physical Fitness",3,{"$f":"SUM(COUNTIF(WeekNights!$D$39:$AV$50,A39),COUNTIF('Weekend Training'!$D$39:$Y$51,A39))","v":0}]
["CX04.01 ","Participate in the CFA and Identify Strategies for Improving Personal Physical Fitness",3,{"$f":"SUM(COUNTIF(WeekNights!$D$39:$AV$50,A40),COUNTIF('Weekend Training'!$D$39:$Y$51,A40))","v":0}]
["CX04.02 ","Participate in Activities that Reinforce the Three Components of Physical Fitness",3,{"$f":"SUM(COUNTIF(WeekNights!$D$39:$AV$50,A41),COUNTIF('Weekend Training'!$D$39:$Y$51,A41))","v":0}]
["CX04.03 ","Participate in a Cooking Class",3,{"$f":"SUM(COUNTIF(WeekNights!$D$39:$AV$50,A42),COUNTIF('Weekend Training'!$D$39:$Y$51,A42))","v":0}]
["CX04.04 ","Attend a Personal Fitness and Healthy Living Presentation",3,{"$f":"SUM(COUNTIF(WeekNights!$D$39:$AV$50,A43),COUNTIF('Weekend Training'!$D$39:$Y$51,A43))","v":0}]
["CX04.05 ","Attend a Local Amateur Sporting Event",3,{"$f":"SUM(COUNTIF(WeekNights!$D$39:$AV$50,A44),COUNTIF('Weekend Training'!$D$39:$Y$51,A44))","v":0}]
[]
[null,"PO X05 - Participate in Physical Activities"]
["MX05.01","Participate in Physical Activities",9,{"$f":"SUM(COUNTIF(WeekNights!$D$39:$AV$50,A47),COUNTIF('Weekend Training'!$D$39:$Y$51,A47))","v":6}]
["CX05.01 ","Participate in Physical Activities",9,{"$f":"SUM(COUNTIF(WeekNights!$D$39:$AV$50,A48),COUNTIF('Weekend Training'!$D$39:$Y$51,A48))","v":0}]
["CX05.02 ","Participate in a Tournament",9,{"$f":"SUM(COUNTIF(WeekNights!$D$39:$AV$50,A49),COUNTIF('Weekend Training'!$D$39:$Y$51,A49))","v":0}]
[]
[null,"PO 406 - Fire the Cadet Air Rifle During Recreational Marksmanship"]
["M406.01","Participate in a Recreational Marksmanship Activity",3,{"$f":"SUM(COUNTIF(WeekNights!$D$39:$AV$50,A52),COUNTIF('Weekend Training'!$D$39:$Y$51,A52))","v":0}]
["C106.01","Participate in a Recreational Marksmanship Activity",6,{"$f":"SUM(COUNTIF(WeekNights!$D$39:$AV$50,A53),COUNTIF('Weekend Training'!$D$39:$Y$51,A53))","v":0}]
["C306.01","Identify Civilian Marksmanship Organizations",1,{"$f":"SUM(COUNTIF(WeekNights!$D$39:$AV$50,A54),COUNTIF('Weekend Training'!$D$39:$Y$51,A54))","v":0}]
["C306.02","Correct Marksmanship Error",2,{"$f":"SUM(COUNTIF(WeekNights!$D$39:$AV$50,A55),COUNTIF('Weekend Training'!$D$39:$Y$51,A55))","v":0}]
["C306.03","Fire the Cadet Air Rifle from the Standing Position",2,{"$f":"SUM(COUNTIF(WeekNights!$D$39:$AV$50,A56),COUNTIF('Weekend Training'!$D$39:$Y$51,A56))","v":0}]
["C406.01","Assist the Range Safety Officer (RSO)",1,{"$f":"SUM(COUNTIF(WeekNights!$D$39:$AV$50,A57),COUNTIF('Weekend Training'!$D$39:$Y$51,A57))","v":0}]
["C406.02","Score Air Rifle Marksmanship Targets",1,{"$f":"SUM(COUNTIF(WeekNights!$D$39:$AV$50,A58),COUNTIF('Weekend Training'!$D$39:$Y$51,A58))","v":0}]
[]
[null,"PO 407 - Serve in a Army Cadet Corps"]
["M407.01","Discuss Proficiency Level Four Training Opportunities",1,{"$f":"SUM(COUNTIF(WeekNights!$D$39:$AV$50,A61),COUNTIF('Weekend Training'!$D$39:$Y$51,A61))","v":1}]
["M407.02","Identify Year Four CSTC Training Opportunities",1,{"$f":"SUM(COUNTIF(WeekNights!$D$39:$AV$50,A62),COUNTIF('Weekend Training'!$D$39:$Y$51,A62))","v":1}]
["C307.01","Participate in a Presentation Given by a Guest Speaker From the RCSU",2,{"$f":"SUM(COUNTIF(WeekNights!$D$39:$AV$50,A63),COUNTIF('Weekend Training'!$D$39:$Y$51,A63))","v":0}]
["C307.02","Participate in a Presentation Given by the Cadet Liaison Officer",2,{"$f":"SUM(COUNTIF(WeekNights!$D$39:$AV$50,A64),COUNTIF('Weekend Training'!$D$39:$Y$51,A64))","v":0}]
["C307.03","Participate in a Presentation Given by a Guest Speaker from the Army Cadet League of Canada",2,{"$f":"SUM(COUNTIF(WeekNights!$D$39:$AV$50,A65),COUNTIF('Weekend Training'!$D$39:$Y$51,A65))","v":0}]
["C407.01","Prepare for a Merit Review Board",3,{"$f":"SUM(COUNTIF(WeekNights!$D$39:$AV$50,A66),COUNTIF('Weekend Training'!$D$39:$Y$51,A66))","v":0}]
[]
[null,"PO 408 - Command a Division on Parade"]
["M408.01","Discuss Commanding a Division on Parade",1,{"$f":"SUM(COUNTIF(WeekNights!$D$39:$AV$50,A69),COUNTIF('Weekend Training'!$D$39:$Y$51,A69))","v":1}]
["M408.02","Identify Parade Sequence",1,{"$f":"SUM(COUNTIF(WeekNights!$D$39:$AV$50,A70),COUNTIF('Weekend Training'!$D$39:$Y$51,A70))","v":1}]
["M408.03","Command a Squad",1,{"$f":"SUM(COUNTIF(WeekNights!$D$39:$AV$50,A71),COUNTIF('Weekend Training'!$D$39:$Y$51,A71))","v":1}]
["M408.04","Inspect a Cadet on Parade",2,{"$f":"SUM(COUNTIF(WeekNights!$D$39:$AV$50,A72),COUNTIF('Weekend Training'!$D$39:$Y$51,A72))","v":2}]
["M408.PC","Performance Check","-",{"$f":"SUM(COUNTIF(WeekNights!$D$39:$AV$50,A73),COUNTIF('Weekend Training'!$D$39:$Y$51,A73))","v":0}]
["C208.01","Practice Ceremonial Drill as a Review",2,{"$f":"SUM(COUNTIF(WeekNights!$D$39:$AV$50,A74),COUNTIF('Weekend Training'!$D$39:$Y$51,A74))","v":2}]
["C208.02","Execute Drill With Arms",8,{"$f":"SUM(COUNTIF(WeekNights!$D$39:$AV$50,A75),COUNTIF('Weekend Training'!$D$39:$Y$51,A75))","v":0}]
["C308.01","Execute Flag Party Drill",4,{"$f":"SUM(COUNTIF(WeekNights!$D$39:$AV$50,A76),COUNTIF('Weekend Training'!$D$39:$Y$51,A76))","v":0}]
["C308.02","Deliver Words of Command",2,{"$f":"SUM(COUNTIF(WeekNights!$D$39:$AV$50,A77),COUNTIF('Weekend Training'!$D$39:$Y$51,A77))","v":0}]
["C308.03","Practice Voice Commands",2,{"$f":"SUM(COUNTIF(WeekNights!$D$39:$AV$50,A78),COUNTIF('Weekend Training'!$D$39:$Y$51,A78))","v":0}]
["C408.01","Discuss the History of Drill",1,{"$f":"SUM(COUNTIF(WeekNights!$D$39:$AV$50,A79),COUNTIF('Weekend Training'!$D$39:$Y$51,A79))","v":0}]
["C408.02","View a Re-Enactment That Demonstrates the Historical Use of Drill",3,{"$f":"SUM(COUNTIF(WeekNights!$D$39:$AV$50,A80),COUNTIF('Weekend Training'!$D$39:$Y$51,A80))","v":0}]
[]
[null,"PO 409 - Instruct a Lesson"]
["M409.01","Identify Methods of Instruction",2,{"$f":"SUM(COUNTIF(WeekNights!$D$39:$AV$50,A83),COUNTIF('Weekend Training'!$D$39:$Y$51,A83))","v":2}]
["M409.02","Identify Elements of a Positive Learning Environment",2,{"$f":"SUM(COUNTIF(WeekNights!$D$39:$AV$50,A84),COUNTIF('Weekend Training'!$D$39:$Y$51,A84))","v":2}]
["M409.03","Describe Learner Needs",2,{"$f":"SUM(COUNTIF(WeekNights!$D$39:$AV$50,A85),COUNTIF('Weekend Training'!$D$39:$Y$51,A85))","v":2}]
["M409.04","Explain Assessment",1,{"$f":"SUM(COUNTIF(WeekNights!$D$39:$AV$50,A86),COUNTIF('Weekend Training'!$D$39:$Y$51,A86))","v":1}]
["M409.05","Instruct a 30-Minute Lesson",3,{"$f":"SUM(COUNTIF(WeekNights!$D$39:$AV$50,A87),COUNTIF('Weekend Training'!$D$39:$Y$51,A87))","v":3}]
["M409.PC","Performance Check",3,{"$f":"SUM(COUNTIF(WeekNights!$D$39:$AV$50,A88),COUNTIF('Weekend Training'!$D$39:$Y$51,A88))","v":0}]
["C309.04","Identify Formations for Drill Instruction",1,{"$f":"SUM(COUNTIF(WeekNights!$D$39:$AV$50,A89),COUNTIF('Weekend Training'!$D$39:$Y$51,A89))","v":0}]
["C309.05","Plan a Drill Lesson",2,{"$f":"SUM(COUNTIF(WeekNights!$D$39:$AV$50,A90),COUNTIF('Weekend Training'!$D$39:$Y$51,A90))","v":2}]
["C309.06","Instruct a 15-Minute Drill Lesson",3,{"$f":"SUM(COUNTIF(WeekNights!$D$39:$AV$50,A91),COUNTIF('Weekend Training'!$D$39:$Y$51,A91))","v":0}]
["C409.01","Plan a Lesson",2,{"$f":"SUM(COUNTIF(WeekNights!$D$39:$AV$50,A92),COUNTIF('Weekend Training'!$D$39:$Y$51,A92))","v":0}]
["C409.02","Instruct a 30-Minute Lesson",3,{"$f":"SUM(COUNTIF(WeekNights!$D$39:$AV$50,A93),COUNTIF('Weekend Training'!$D$39:$Y$51,A93))","v":0}]
["C409.03","Act as an Assistant Instructor",3,{"$f":"SUM(COUNTIF(WeekNights!$D$39:$AV$50,A94),COUNTIF('Weekend Training'!$D$39:$Y$51,A94))","v":0}]
["C409.04","Participate in a Creative Lesson- Planning Workshop",3,{"$f":"SUM(COUNTIF(WeekNights!$D$39:$AV$50,A95),COUNTIF('Weekend Training'!$D$39:$Y$51,A95))","v":0}]
["C409.05","Act as an Assistant Drill Instructor",3,{"$f":"SUM(COUNTIF(WeekNights!$D$39:$AV$50,A96),COUNTIF('Weekend Training'!$D$39:$Y$51,A96))","v":0}]
["C409.06","Instruct a 30-Minute Drill Lesson",3,{"$f":"SUM(COUNTIF(WeekNights!$D$39:$AV$50,A97),COUNTIF('Weekend Training'!$D$39:$Y$51,A97))","v":0}]
[]
[null,"PO 411 - Participate in Recreational Summer Biathlon Activities"]
["C111.01","Participate in a Biathlon Briefing",1,{"$f":"SUM(COUNTIF(WeekNights!$D$39:$AV$50,A100),COUNTIF('Weekend Training'!$D$39:$Y$51,A100))","v":0}]
["C111.02","Run Wind Sprints",1,{"$f":"SUM(COUNTIF(WeekNights!$D$39:$AV$50,A101),COUNTIF('Weekend Training'!$D$39:$Y$51,A101))","v":0}]
["C111.03","Simulate Firing the Cadet Air Rifle Following Physical Activity",1,{"$f":"SUM(COUNTIF(WeekNights!$D$39:$AV$50,A102),COUNTIF('Weekend Training'!$D$39:$Y$51,A102))","v":0}]
["C111.04","Participate in a Recreational Summer Biathlon Activity",6,{"$f":"SUM(COUNTIF(WeekNights!$D$39:$AV$50,A103),COUNTIF('Weekend Training'!$D$39:$Y$51,A103))","v":0}]
["C211.01","Identify Civilian Biathlon Opportunities",1,{"$f":"SUM(COUNTIF(WeekNights!$D$39:$AV$50,A104),COUNTIF('Weekend Training'!$D$39:$Y$51,A104))","v":0}]
["C211.02","Run on Alternate Terrain",1,{"$f":"SUM(COUNTIF(WeekNights!$D$39:$AV$50,A105),COUNTIF('Weekend Training'!$D$39:$Y$51,A105))","v":0}]
["C211.03","Fire the Cadet Air Rifle using a Sling Following Physical Activity",1,{"$f":"SUM(COUNTIF(WeekNights!$D$39:$AV$50,A106),COUNTIF('Weekend Training'!$D$39:$Y$51,A106))","v":0}]
["C211.04","Participate in a Competitive Summer Biathlon Activity",6,{"$f":"SUM(COUNTIF(WeekNights!$D$39:$AV$50,A107),COUNTIF('Weekend Training'!$D$39:$Y$51,A107))","v":0}]
["C311.01","Practice Aiming and Firing the Cadet Air Rifle Following Physical Activity",3,{"$f":"SUM(COUNTIF(WeekNights!$D$39:$AV$50,A108),COUNTIF('Weekend Training'!$D$39:$Y$51,A108))","v":0}]
["C311.02","Participate in a Recreational Summer Biathlon Activity",6,{"$f":"SUM(COUNTIF(WeekNights!$D$39:$AV$50,A109),COUNTIF('Weekend Training'!$D$39:$Y$51,A109))","v":0}]
[]
[null,"PO X20 - Participate in Canadian Forces (CF) Familiarization Activities"]
["MX20.01A","Participate in a CAF Activity","-",{"$f":"SUM(COUNTIF(WeekNights!$D$39:$AV$50,A112),COUNTIF('Weekend Training'!$D$39:$Y$51,A112))","v":0}]
["MX20.01B","Participate in a CAF Familiarization Tour","-",{"$f":"SUM(COUNTIF(WeekNights!$D$39:$AV$50,A113),COUNTIF('Weekend Training'!$D$39:$Y$51,A113))","v":3}]
["MX20.01C","Fire the C7 Rifle","-",{"$f":"SUM(COUNTIF(WeekNights!$D$39:$AV$50,A114),COUNTIF('Weekend Training'!$D$39:$Y$51,A114))","v":0}]
["MX20.01D","Participate in a Mess Dinner","-",{"$f":"SUM(COUNTIF(WeekNights!$D$39:$AV$50,A115),COUNTIF('Weekend Training'!$D$39:$Y$51,A115))","v":3}]
["MX20.01E","Attend a CAF Presentation","-",{"$f":"SUM(COUNTIF(WeekNights!$D$39:$AV$50,A116),COUNTIF('Weekend Training'!$D$39:$Y$51,A116))","v":0}]
["MX20.01F","Attend a CAF Commemorative Ceremony","-",{"$f":"SUM(COUNTIF(WeekNights!$D$39:$AV$50,A117),COUNTIF('Weekend Training'!$D$39:$Y$51,A117))","v":3}]
["MX20.01G","Participate in CAF Video Activities","-",{"$f":"SUM(COUNTIF(WeekNights!$D$39:$AV$50,A118),COUNTIF('Weekend Training'!$D$39:$Y$51,A118))","v":0}]
["MX20.01H","Participate in CAF Learning Stations","-",{"$f":"SUM(COUNTIF(WeekNights!$D$39:$AV$50,A119),COUNTIF('Weekend Training'!$D$39:$Y$51,A119))","v":0}]
["CX20.01","Participate in CAF Familiarization Activities 18",18,{"$f":"SUM(COUNTIF(WeekNights!$D$39:$AV$50,A120),COUNTIF('Weekend Training'!$D$39:$Y$51,A120))","v":0}]
[]
["PO 121 - Field Training"]
["C121.02","Participate in a Discussion on Cold Climate Exposure",1,{"$f":"SUM(COUNTIF(WeekNights!$D$39:$AV$50,A123),COUNTIF('Weekend Training'!$D$39:$Y$51,A123))","v":0}]
["C121.03","Select Cold Weather Clothing",1,{"$f":"SUM(COUNTIF(WeekNights!$D$39:$AV$50,A124),COUNTIF('Weekend Training'!$D$39:$Y$51,A124))","v":0}]
["C121.04","Recognize the Effects of Cold Weather",2,{"$f":"SUM(COUNTIF(WeekNights!$D$39:$AV$50,A125),COUNTIF('Weekend Training'!$D$39:$Y$51,A125))","v":0}]
["C121.05","Participate in Cold Weather Training",18,{"$f":"SUM(COUNTIF(WeekNights!$D$39:$AV$50,A126),COUNTIF('Weekend Training'!$D$39:$Y$51,A126))","v":0}]
[]
["PO 422 - Follow a Multi-Leg Route Using a Global Positioning System (GPS) Receiver"]
["M422.01","Review Silver Star Navigation",2,{"$f":"SUM(COUNTIF(WeekNights!$D$39:$AV$50,A129),COUNTIF('Weekend Training'!$D$39:$Y$51,A129))","v":0}]
["M422.02","Set a Multi-Leg Route Using a GPS Receiver",4,{"$f":"SUM(COUNTIF(WeekNights!$D$39:$AV$50,A130),COUNTIF('Weekend Training'!$D$39:$Y$51,A130))","v":0}]
["M422.03","Follow a Multi-Leg Route Using a GPS Receiver",3,{"$f":"SUM(COUNTIF(WeekNights!$D$39:$AV$50,A131),COUNTIF('Weekend Training'!$D$39:$Y$51,A131))","v":0}]
["C422.01","Locate a Geocache",1,{"$f":"SUM(COUNTIF(WeekNights!$D$39:$AV$50,A132),COUNTIF('Weekend Training'!$D$39:$Y$51,A132))","v":0}]
["C422.02","Create a Geocache",1,{"$f":"SUM(COUNTIF(WeekNights!$D$39:$AV$50,A133),COUNTIF('Weekend Training'!$D$39:$Y$51,A133))","v":0}]
["C422.03","Discuss Map Software",1,{"$f":"SUM(COUNTIF(WeekNights!$D$39:$AV$50,A134),COUNTIF('Weekend Training'!$D$39:$Y$51,A134))","v":0}]
["C422.04","Measure a Grid Bearing With a Protractor",3,{"$f":"SUM(COUNTIF(WeekNights!$D$39:$AV$50,A135),COUNTIF('Weekend Training'!$D$39:$Y$51,A135))","v":0}]
["C422.05","Determine Location Using Resection",2,{"$f":"SUM(COUNTIF(WeekNights!$D$39:$AV$50,A136),COUNTIF('Weekend Training'!$D$39:$Y$51,A136))","v":0}]
["C422.06","Practice Navigation as a Member of a Small Group",9,{"$f":"SUM(COUNTIF(WeekNights!$D$39:$AV$50,A137),COUNTIF('Weekend Training'!$D$39:$Y$51,A137))","v":0}]
["C322.02","Identify Factors That Impact Navigation in the Winter",4,{"$f":"SUM(COUNTIF(WeekNights!$D$39:$AV$50,A138),COUNTIF('Weekend Training'!$D$39:$Y$51,A138))","v":0}]
[]
["PO 123 - Trekking"]
["C123.01","Participate in Adventure Training",18,{"$f":"SUM(COUNTIF(WeekNights!$D$39:$AV$50,A141),COUNTIF('Weekend Training'!$D$39:$Y$51,A141))","v":0}]
["C123.02","Adhere to March Discipline",1,{"$f":"SUM(COUNTIF(WeekNights!$D$39:$AV$50,A142),COUNTIF('Weekend Training'!$D$39:$Y$51,A142))","v":0}]
["C123.03","Participate in Snowshoeing",9,{"$f":"SUM(COUNTIF(WeekNights!$D$39:$AV$50,A143),COUNTIF('Weekend Training'!$D$39:$Y$51,A143))","v":0}]
[]
["PO 424 - Employ Natural Resources in a Survival Situation"]
["M424.01","Sharpen a Survival Knife",2,{"$f":"SUM(COUNTIF(WeekNights!$D$39:$AV$50,A146),COUNTIF('Weekend Training'!$D$39:$Y$51,A146))","v":0}]
["M424.02","Employ the Improvising Process",1,{"$f":"SUM(COUNTIF(WeekNights!$D$39:$AV$50,A147),COUNTIF('Weekend Training'!$D$39:$Y$51,A147))","v":0}]
["M424.03","Weave Cordage",3,{"$f":"SUM(COUNTIF(WeekNights!$D$39:$AV$50,A148),COUNTIF('Weekend Training'!$D$39:$Y$51,A148))","v":0}]
["C424.01","Whittle Wood",3,{"$f":"SUM(COUNTIF(WeekNights!$D$39:$AV$50,A149),COUNTIF('Weekend Training'!$D$39:$Y$51,A149))","v":0}]
["C424.02","Boil Water Using Heated Rocks",2,{"$f":"SUM(COUNTIF(WeekNights!$D$39:$AV$50,A150),COUNTIF('Weekend Training'!$D$39:$Y$51,A150))","v":0}]
["C424.03","Employ Cattails",2,{"$f":"SUM(COUNTIF(WeekNights!$D$39:$AV$50,A151),COUNTIF('Weekend Training'!$D$39:$Y$51,A151))","v":0}]
["C424.04","Prepare Remedies for Common Ailments Using Medicinal Plants",2,{"$f":"SUM(COUNTIF(WeekNights!$D$39:$AV$50,A152),COUNTIF('Weekend Training'!$D$39:$Y$51,A152))","v":0}]
["C324.01","Identify Animal and Insect Food Sources",2,{"$f":"SUM(COUNTIF(WeekNights!$D$39:$AV$50,A153),COUNTIF('Weekend Training'!$D$39:$Y$51,A153))","v":0}]
["C324.02","Construct Snares",4,{"$f":"SUM(COUNTIF(WeekNights!$D$39:$AV$50,A154),COUNTIF('Weekend Training'!$D$39:$Y$51,A154))","v":0}]
["C324.03","Catch a Fish",3,{"$f":"SUM(COUNTIF(WeekNights!$D$39:$AV$50,A155),COUNTIF('Weekend Training'!$D$39:$Y$51,A155))","v":0}]
["C324.04","Collect Edible Plants",4,{"$f":"SUM(COUNTIF(WeekNights!$D$39:$AV$50,A156),COUNTIF('Weekend Training'!$D$39:$Y$51,A156))","v":0}]
["C324.05","Prepare a Meal from Field Food Sources",3,{"$f":"SUM(COUNTIF(WeekNights!$D$39:$AV$50,A157),COUNTIF('Weekend Training'!$D$39:$Y$51,A157))","v":0}]
[]
["PO 425 - Develop an Expedition Plan"]
["M425.01","Establish Expedition Parameters",1,{"$f":"SUM(COUNTIF(WeekNights!$D$39:$AV$50,A160),COUNTIF('Weekend Training'!$D$39:$Y$51,A160))","v":0}]
["M425.02","Plan an Expedition Route",3,{"$f":"SUM(COUNTIF(WeekNights!$D$39:$AV$50,A161),COUNTIF('Weekend Training'!$D$39:$Y$51,A161))","v":0}]
["M425.03","Develop an Expedition Equipment List",2,{"$f":"SUM(COUNTIF(WeekNights!$D$39:$AV$50,A162),COUNTIF('Weekend Training'!$D$39:$Y$51,A162))","v":0}]
["M425.04","Develop an Expedition Ration Plan",2,{"$f":"SUM(COUNTIF(WeekNights!$D$39:$AV$50,A163),COUNTIF('Weekend Training'!$D$39:$Y$51,A163))","v":0}]
["C425.01","Discuss Actions Taken When a Person is Lost",2,{"$f":"SUM(COUNTIF(WeekNights!$D$39:$AV$50,A164),COUNTIF('Weekend Training'!$D$39:$Y$51,A164))","v":0}]
["C425.02","Analyze Problems Using an Expedition Case Study",9,{"$f":"SUM(COUNTIF(WeekNights!$D$39:$AV$50,A165),COUNTIF('Weekend Training'!$D$39:$Y$51,A165))","v":0}]
["C325.01","Communicate During an Expedition",4,{"$f":"SUM(COUNTIF(WeekNights!$D$39:$AV$50,A166),COUNTIF('Weekend Training'!$D$39:$Y$51,A166))","v":0}]
["C325.02","Participate in a Presentation on the Duke of Edinburgh Award Program",1,{"$f":"SUM(COUNTIF(WeekNights!$D$39:$AV$50,A167),COUNTIF('Weekend Training'!$D$39:$Y$51,A167))","v":0}]
[]
["PO 426 - Perform Expedition Skills"]
["M426.01","Prepare for Expedition Training",1,{"$f":"SUM(COUNTIF(WeekNights!$D$39:$AV$50,A170),COUNTIF('Weekend Training'!$D$39:$Y$51,A170))","v":0}]
["M426.02a","Paddle a Canoe",9,{"$f":"SUM(COUNTIF(WeekNights!$D$39:$AV$50,A171),COUNTIF('Weekend Training'!$D$39:$Y$51,A171))","v":0}]
["M426.02b","Ride a Mountain Bike",9,{"$f":"SUM(COUNTIF(WeekNights!$D$39:$AV$50,A172),COUNTIF('Weekend Training'!$D$39:$Y$51,A172))","v":0}]
["M426.02c","Hike Along a Route",9,{"$f":"SUM(COUNTIF(WeekNights!$D$39:$AV$50,A173),COUNTIF('Weekend Training'!$D$39:$Y$51,A173))","v":0}]
["M426.02d","Snowshoe Along a Route",9,{"$f":"SUM(COUNTIF(WeekNights!$D$39:$AV$50,A174),COUNTIF('Weekend Training'!$D$39:$Y$51,A174))","v":0}]
["M426.02e","Ski Along a Route",9,{"$f":"SUM(COUNTIF(WeekNights!$D$39:$AV$50,A175),COUNTIF('Weekend Training'!$D$39:$Y$51,A175))","v":0}]
["M426.PC","Performance Check","-",{"$f":"SUM(COUNTIF(WeekNights!$D$39:$AV$50,A176),COUNTIF('Weekend Training'!$D$39:$Y$51,A176))","v":0}]
[]
["NOTES"]
[1,"60 periods of mandatory training must be scheduled for weekly training nights"]
[2,"18 periods of mandatory training must be scheduled for two weekend training days (9 each)"]
[3,"18 periods of mandatory training must be scheduled for the Biv FTX"]
[4,"18 periods of mandatory training must be scheduled for the Nav/Trek FTX"]
[5,"30 periods of complimentary training must be scheduled for weekly training nights"]
[6,"18 periods of complimentary training must be scheduled for two weekend training days (9 each)"]
[7,"18 periods of complimentary training must be scheduled for a weekend FTX (CW or ADV)"]

{"sheet":"EO Val. (MASTER)","index":14,"n_rows":59,"n_cols":4,"rows_kept":59,"hidden":true,"merged":[[0,0,0,3],[1,0,1,3],[2,0,2,3],[7,0,7,3],[11,0,11,3],[19,0,19,3],[24,0,24,3],[30,0,30,3],[34,0,34,3],[37,0,37,3],[40,0,40,3],[43,0,43,3],[46,0,46,3],[51,0,51,3]]}
["MASTER CADET PROGRAM"]
[]
["PO 501 - Explain Global Citizenship"]
["C501.01","Define Global Citizenship",3,{"$f":"SUM(COUNTIF(WeekNights!$D$39:$AV$50,A4),COUNTIF('Weekend Training'!$D$39:$Y$51,A4))","v":0}]
["C501.02","Reflect Upon Individual Global Citizenship",3,{"$f":"SUM(COUNTIF(WeekNights!$D$39:$AV$50,A5),COUNTIF('Weekend Training'!$D$39:$Y$51,A5))","v":0}]
["C501.03","Analyze a Global Issue",3,{"$f":"SUM(COUNTIF(WeekNights!$D$39:$AV$50,A6),COUNTIF('Weekend Training'!$D$39:$Y$51,A6))","v":0}]
[]
["PO 502 - Perform Community Service"]
["M501.01","Define Global Citizenship",3,{"$f":"SUM(COUNTIF(WeekNights!$D$39:$AV$50,A9),COUNTIF('Weekend Training'!$D$39:$Y$51,A9))","v":0}]
["M502.PC","Performance Check","-",{"$f":"SUM(COUNTIF(WeekNights!$D$39:$AV$50,A10),COUNTIF('Weekend Training'!$D$39:$Y$51,A10))","v":0}]
[]
["PO 503 - Lead Cadet Activities"]
["M503.01","Create a Proposal",1,{"$f":"SUM(COUNTIF(WeekNights!$D$39:$AV$50,A13),COUNTIF('Weekend Training'!$D$39:$Y$51,A13))","v":0}]
["M503.02","Prepare an Exercise",3,{"$f":"SUM(COUNTIF(WeekNights!$D$39:$AV$50,A14),COUNTIF('Weekend Training'!$D$39:$Y$51,A14))","v":0}]
["M503.03","Conduct an Exercise",1,{"$f":"SUM(COUNTIF(WeekNights!$D$39:$AV$50,A15),COUNTIF('Weekend Training'!$D$39:$Y$51,A15))","v":0}]
["M503.04","Conclude and Exercise",1,{"$f":"SUM(COUNTIF(WeekNights!$D$39:$AV$50,A16),COUNTIF('Weekend Training'!$D$39:$Y$51,A16))","v":0}]
["M503.PC","Performance Check","-",{"$f":"SUM(COUNTIF(WeekNights!$D$39:$AV$50,A17),COUNTIF('Weekend Training'!$D$39:$Y$51,A17))","v":0}]
["C503.01","Examine Meeting Procedures",3,{"$f":"SUM(COUNTIF(WeekNights!$D$39:$AV$50,A18),COUNTIF('Weekend Training'!$D$39:$Y$51,A18))","v":0}]
[]
["PO 504 - Adopt an Active Lifestyle"]
["M504.01","Participate in the Cadet Fitness Assessment",6,{"$f":"SUM(COUNTIF(WeekNights!$D$39:$AV$50,A21),COUNTIF('Weekend Training'!$D$39:$Y$51,A21))","v":0}]
["M504.PC","Update Personal Activity Plan","-",{"$f":"SUM(COUNTIF(WeekNights!$D$39:$AV$50,A22),COUNTIF('Weekend Training'!$D$39:$Y$51,A22))","v":0}]
["C504.01","Examine the Use of Technology in Physical Fitness Activities",3,{"$f":"SUM(COUNTIF(WeekNights!$D$39:$AV$50,A23),COUNTIF('Weekend Training'!$D$39:$Y$51,A23))","v":0}]
[]
["PO 507 - Serve in an Army Cadet Corps"]
["M507.01","Develop a Personalized Schedule",3,{"$f":"SUM(COUNTIF(WeekNights!$D$39:$AV$50,A26),COUNTIF('Weekend Training'!$D$39:$Y$51,A26))","v":0}]
["C507.01","Identify Service Opportunities for a Cadet Instructors Cadre (CIC) Officer",3,{"$f":"SUM(COUNTIF(WeekNights!$D$39:$AV$50,A27),COUNTIF('Weekend Training'!$D$39:$Y$51,A27))","v":0}]
["C507.02","Identify Volunteer Opportunities with the Army Cadet League of Canada (ACLC)",3,{"$f":"SUM(COUNTIF(WeekNights!$D$39:$AV$50,A28),COUNTIF('Weekend Training'!$D$39:$Y$51,A28))","v":0}]
["C507.03","Reflect Upon Cadet Experience",3,{"$f":"SUM(COUNTIF(WeekNights!$D$39:$AV$50,A29),COUNTIF('Weekend Training'!$D$39:$Y$51,A29))","v":0}]
[]
["PO 509 - Instruct Cadets"]
["M509.PC","Performance Check","-",{"$f":"SUM(COUNTIF(WeekNights!$D$39:$AV$50,A32),COUNTIF('Weekend Training'!$D$39:$Y$51,A32))","v":0}]
["C509.01","Monitor Instruction",3,{"$f":"SUM(COUNTIF(WeekNights!$D$39:$AV$50,A33),COUNTIF('Weekend Training'!$D$39:$Y$51,A33))","v":0}]
[]
["PO 513 - Attend Workshops"]
["M513.PC","Performance Check","-",{"$f":"SUM(COUNTIF(WeekNights!$D$39:$AV$50,A36),COUNTIF('Weekend Training'!$D$39:$Y$51,A36))","v":0}]
[]
["PO 514 - Pursue Individual Learning"]
["M514.PC","Performance Check","-",{"$f":"SUM(COUNTIF(WeekNights!$D$39:$AV$50,A39),COUNTIF('Weekend Training'!$D$39:$Y$51,A39))","v":0}]
[]
["PO 521 - Investigate Human Impact on Ecosystems"]
["C521.01","Recognize the Impact of Human Activity on Ecosystems",3,{"$f":"SUM(COUNTIF(WeekNights!$D$39:$AV$50,A42),COUNTIF('Weekend Training'!$D$39:$Y$51,A42))","v":0}]
[]
["PO 522 - Analyze Map Topography"]
["C522.01","Analyze Map Topography",3,{"$f":"SUM(COUNTIF(WeekNights!$D$39:$AV$50,A45),COUNTIF('Weekend Training'!$D$39:$Y$51,A45))","v":0}]
[]
["PO 525 - Assess Risk"]
["C525.01","Examine Elements of Safety and Risk Management",3,{"$f":"SUM(COUNTIF(WeekNights!$D$39:$AV$50,A48),COUNTIF('Weekend Training'!$D$39:$Y$51,A48))","v":0}]
["C525.02","Recognize Individual Behaviour During an Expedition",3,{"$f":"SUM(COUNTIF(WeekNights!$D$39:$AV$50,A49),COUNTIF('Weekend Training'!$D$39:$Y$51,A49))","v":0}]
["C525.03","Analyze Situations Using Risk Management Strategies",3,{"$f":"SUM(COUNTIF(WeekNights!$D$39:$AV$50,A50),COUNTIF('Weekend Training'!$D$39:$Y$51,A50))","v":0}]
[]
["PO 527 - Identify Canadian Army and Outdoor Leadership Educational and Career Opportunities"]
["C527.01","Identify Canadian Army and Outdoor Leadership Educational and Career Opportunities",3,{"$f":"SUM(COUNTIF(WeekNights!$D$39:$AV$50,A53),COUNTIF('Weekend Training'!$D$39:$Y$51,A53))","v":0}]
[]
["NOTES:"]
[1,"Lessons assigned 0 formal periods are designated as either self-study or On the Job Training"]
[2,"All sixteen periods of mandatory training are to be conducted within a two year period"]
[3,"Nine periods of complimentary training are to be conducted within a two year period"]
[4,"Cadets must maintain a log book to track their training progression, to be regularly reviewed"]

{"sheet":"EO Val. (Phase 1)","index":15,"n_rows":126,"n_cols":4,"rows_kept":126,"hidden":true}
[null,"PHASE 1 PROGRAM \n(A-CR-CCP-801/PG-001 - Chapter 2, Annex A)"]
["Serial","Description","# Classes","# Assigned"]
[]
[null,"PO 100 - Positive Social Relationships "]
["M100.01","What We Expect From You as a Cadet",2,{"$f":"SUM(COUNTIF(WeekNights!$D$3:$AV$14,A5),COUNTIF('Weekend Training'!$D$4:$Z$15,A5))","v":2}]
["M100.02","What Can Happen When Behaviours Exceed or Do Not Meet Expectations",1,{"$f":"SUM(COUNTIF(WeekNights!$D$3:$AV$14,A6),COUNTIF('Weekend Training'!$D$4:$Z$15,A6))","v":1}]
["M100.03","What Harassment, Criminal Offences and Child Abuse Are and Where You Can Go for Help",1,{"$f":"SUM(COUNTIF(WeekNights!$D$3:$AV$14,A7),COUNTIF('Weekend Training'!$D$4:$Z$15,A7))","v":1}]
["M100.04","What Conflict Is and How You Can Deal With It",2,{"$f":"SUM(COUNTIF(WeekNights!$D$3:$AV$14,A8),COUNTIF('Weekend Training'!$D$4:$Z$15,A8))","v":2}]
[]
[null,"PO X01 - Participate in Citizenship Activities",null,{"$f":"SUM(COUNTIF(WeekNights!$D$3:$AV$14,A10),COUNTIF('Weekend Training'!$D$4:$Z$15,A10))","v":0}]
["MX01.01A","Participate in a Citizenship Tour","-",{"$f":"SUM(COUNTIF(WeekNights!$D$3:$AV$14,A11),COUNTIF('Weekend Training'!$D$4:$Z$15,A11))","v":0}]
["MX01.01B","Attend a Presentation by a Community Organization","-",{"$f":"SUM(COUNTIF(WeekNights!$D$3:$AV$14,A12),COUNTIF('Weekend Training'!$D$4:$Z$15,A12))","v":0}]
["MX01.01C","Attend a Presentation by a Citizen-of-Interest","-",{"$f":"SUM(COUNTIF(WeekNights!$D$3:$AV$14,A13),COUNTIF('Weekend Training'!$D$4:$Z$15,A13))","v":0}]
["MX01.01D","Participate in the Canadian Citizenship Challenge","-",{"$f":"SUM(COUNTIF(WeekNights!$D$3:$AV$14,A14),COUNTIF('Weekend Training'!$D$4:$Z$15,A14))","v":0}]
["MX01.01E","Host a Citizenship Ceremony -","-",{"$f":"SUM(COUNTIF(WeekNights!$D$3:$AV$14,A15),COUNTIF('Weekend Training'!$D$4:$Z$15,A15))","v":0}]
["MX01.01F","Participate in an Election -","-",{"$f":"SUM(COUNTIF(WeekNights!$D$3:$AV$14,A16),COUNTIF('Weekend Training'!$D$4:$Z$15,A16))","v":0}]
["MX01.01G","Participate in Heritage Minutes Video Activities -","-",{"$f":"SUM(COUNTIF(WeekNights!$D$3:$AV$14,A17),COUNTIF('Weekend Training'!$D$4:$Z$15,A17))","v":0}]
["MX01.01H","Participate in Citizenship Learning Stations -","-",{"$f":"SUM(COUNTIF(WeekNights!$D$3:$AV$14,A18),COUNTIF('Weekend Training'!$D$4:$Z$15,A18))","v":0}]
["CX01.01","Participate in Citizenship Activities 18",18,{"$f":"SUM(COUNTIF(WeekNights!$D$3:$AV$14,A19),COUNTIF('Weekend Training'!$D$4:$Z$15,A19))","v":0}]
[]
[null,"PO X02 - Perform Community Service",null,{"$f":"SUM(COUNTIF(WeekNights!$D$3:$AV$14,A21),COUNTIF('Weekend Training'!$D$4:$Z$15,A21))","v":0}]
["MX02.01","Perform Community Service",9,{"$f":"SUM(COUNTIF(WeekNights!$D$3:$AV$14,A22),COUNTIF('Weekend Training'!$D$4:$Z$15,A22))","v":9}]
["CX02.01","Perform Community Service",18,{"$f":"SUM(COUNTIF(WeekNights!$D$3:$AV$14,A23),COUNTIF('Weekend Training'!$D$4:$Z$15,A23))","v":0}]
[]
[null,"PO 103 - Leadership",null,{"$f":"SUM(COUNTIF(WeekNights!$D$3:$AV$14,A25),COUNTIF('Weekend Training'!$D$4:$Z$15,A25))","v":0}]
["M103.01","Identify the Responsibilities of a Follower in a Team",1,{"$f":"SUM(COUNTIF(WeekNights!$D$3:$AV$14,A26),COUNTIF('Weekend Training'!$D$4:$Z$15,A26))","v":1}]
["M103.02","Map Personal Goals for the Training Year",1,{"$f":"SUM(COUNTIF(WeekNights!$D$3:$AV$14,A27),COUNTIF('Weekend Training'!$D$4:$Z$15,A27))","v":1}]
["M103.03","Participate in Teambuilding Activities",2,{"$f":"SUM(COUNTIF(WeekNights!$D$3:$AV$14,A28),COUNTIF('Weekend Training'!$D$4:$Z$15,A28))","v":2}]
["C103.01","Participate in Icebreaker Activities",1,{"$f":"SUM(COUNTIF(WeekNights!$D$3:$AV$14,A29),COUNTIF('Weekend Training'!$D$4:$Z$15,A29))","v":0}]
["C103.02","Participate in Self-Introductions",1,{"$f":"SUM(COUNTIF(WeekNights!$D$3:$AV$14,A30),COUNTIF('Weekend Training'!$D$4:$Z$15,A30))","v":0}]
["C103.03","Participate in Teambuilding Activities",1,{"$f":"SUM(COUNTIF(WeekNights!$D$3:$AV$14,A31),COUNTIF('Weekend Training'!$D$4:$Z$15,A31))","v":0}]
[]
[null,"PO X04 - Track Participation in Physical Activities",null,{"$f":"SUM(COUNTIF(WeekNights!$D$3:$AV$14,A33),COUNTIF('Weekend Training'!$D$4:$Z$15,A33))","v":0}]
["MX04.01 ","Participate in 60 Minutes of Moderate- to Vigorous-Intensity Physical Activity (MVPA) and Track Participation in Physical Activities",3,{"$f":"SUM(COUNTIF(WeekNights!$D$3:$AV$14,A34),COUNTIF('Weekend Training'!$D$4:$Z$15,A34))","v":0}]
["MX04.02 ","Identify Strategies to Improve Participation in Physical Activities and Participate in the Cadet Fitness Assessment (CFA)",3,{"$f":"SUM(COUNTIF(WeekNights!$D$3:$AV$14,A35),COUNTIF('Weekend Training'!$D$4:$Z$15,A35))","v":0}]
["MX04.03 ","Participate in the CFA and Identify Strategies for Improving Personal Physical Fitness",3,{"$f":"SUM(COUNTIF(WeekNights!$D$3:$AV$14,A36),COUNTIF('Weekend Training'!$D$4:$Z$15,A36))","v":0}]
["CX04.01 ","Participate in the CFA and Identify Strategies for Improving Personal Physical Fitness",3,{"$f":"SUM(COUNTIF(WeekNights!$D$3:$AV$14,A37),COUNTIF('Weekend Training'!$D$4:$Z$15,A37))","v":0}]
["CX04.02 ","Participate in Activities that Reinforce the Three Components of Physical Fitness",3,{"$f":"SUM(COUNTIF(WeekNights!$D$3:$AV$14,A38),COUNTIF('Weekend Training'!$D$4:$Z$15,A38))","v":0}]
["CX04.03 ","Participate in a Cooking Class",3,{"$f":"SUM(COUNTIF(WeekNights!$D$3:$AV$14,A39),COUNTIF('Weekend Training'!$D$4:$Z$15,A39))","v":0}]
["CX04.04 ","Attend a Personal Fitness and Healthy Living Presentation",3,{"$f":"SUM(COUNTIF(WeekNights!$D$3:$AV$14,A40),COUNTIF('Weekend Training'!$D$4:$Z$15,A40))","v":0}]
["CX04.05 ","Attend a Local Amateur Sporting Event",3,{"$f":"SUM(COUNTIF(WeekNights!$D$3:$AV$14,A41),COUNTIF('Weekend Training'!$D$4:$Z$15,A41))","v":0}]
[]
[null,"PO X05 - Participate in Physical Activities",null,{"$f":"SUM(COUNTIF(WeekNights!$D$3:$AV$14,A43),COUNTIF('Weekend Training'!$D$4:$Z$15,A43))","v":0}]
["M105.01","Participate in Physical Activities",9,{"$f":"SUM(COUNTIF(WeekNights!$D$3:$AV$14,A44),COUNTIF('Weekend Training'!$D$4:$Z$15,A44))","v":0}]
["CX05.01 ","Participate in Physical Activities",9,{"$f":"SUM(COUNTIF(WeekNights!$D$3:$AV$14,A45),COUNTIF('Weekend Training'!$D$4:$Z$15,A45))","v":0}]
["CX05.02 ","Participate in a Tournament",9,{"$f":"SUM(COUNTIF(WeekNights!$D$3:$AV$14,A46),COUNTIF('Weekend Training'!$D$4:$Z$15,A46))","v":0}]
[]
[null,"PO M106 - Fire the Cadet Air Rifle",null,{"$f":"SUM(COUNTIF(WeekNights!$D$3:$AV$14,A48),COUNTIF('Weekend Training'!$D$4:$Z$15,A48))","v":0}]
["M106.01","Identify the Parts and Characteristics of the Daisy 853C Air Rifle",1,{"$f":"SUM(COUNTIF(WeekNights!$D$3:$AV$14,A49),COUNTIF('Weekend Training'!$D$4:$Z$15,A49))","v":1}]
["M106.02","Carry out Safety Precautions on the Cadet Air Rifle",1,{"$f":"SUM(COUNTIF(WeekNights!$D$3:$AV$14,A50),COUNTIF('Weekend Training'!$D$4:$Z$15,A50))","v":1}]
["M106.03","Apply Basic Marksmanship Techniques",2,{"$f":"SUM(COUNTIF(WeekNights!$D$3:$AV$14,A51),COUNTIF('Weekend Training'!$D$4:$Z$15,A51))","v":2}]
["M106.04","Follow Rules and Commands on an Air Rifle Range",1,{"$f":"SUM(COUNTIF(WeekNights!$D$3:$AV$14,A52),COUNTIF('Weekend Training'!$D$4:$Z$15,A52))","v":1}]
["M106.05","Participate in Marksmanship Familiarization Using the Cadet Air Rifle",3,{"$f":"SUM(COUNTIF(WeekNights!$D$3:$AV$14,A53),COUNTIF('Weekend Training'!$D$4:$Z$15,A53))","v":0}]
["C106.01","Participate in a Recreational Marksmanship Activity",6,{"$f":"SUM(COUNTIF(WeekNights!$D$3:$AV$14,A54),COUNTIF('Weekend Training'!$D$4:$Z$15,A54))","v":0}]
["C106.02","Clean and Store the Cadet Air Rifle",1,{"$f":"SUM(COUNTIF(WeekNights!$D$3:$AV$14,A55),COUNTIF('Weekend Training'!$D$4:$Z$15,A55))","v":0}]
[]
[null,"PO 107 - Serve in an Sea Cadet Corp",null,{"$f":"SUM(COUNTIF(WeekNights!$D$3:$AV$14,A57),COUNTIF('Weekend Training'!$D$4:$Z$15,A57))","v":0}]
["M107.01","Discuss Year One Training 1",1,{"$f":"SUM(COUNTIF(WeekNights!$D$3:$AV$14,A58),COUNTIF('Weekend Training'!$D$4:$Z$15,A58))","v":1}]
["M107.02","Identify Sea Cadet and Naval Officer Ranks 1",1,{"$f":"SUM(COUNTIF(WeekNights!$D$3:$AV$14,A59),COUNTIF('Weekend Training'!$D$4:$Z$15,A59))","v":1}]
["M107.03","Observe Rules and Procedures for the Paying of Compliments 1",1,{"$f":"SUM(COUNTIF(WeekNights!$D$3:$AV$14,A60),COUNTIF('Weekend Training'!$D$4:$Z$15,A60))","v":1}]
["M107.04","State the Aim and Motto of the Sea Cadet Program 1",1,{"$f":"SUM(COUNTIF(WeekNights!$D$3:$AV$14,A61),COUNTIF('Weekend Training'!$D$4:$Z$15,A61))","v":1}]
["M107.05","Wear the Sea Cadet Uniform 2",2,{"$f":"SUM(COUNTIF(WeekNights!$D$3:$AV$14,A62),COUNTIF('Weekend Training'!$D$4:$Z$15,A62))","v":2}]
["M107.06","Discuss Summer Training Opportunities 1",1,{"$f":"SUM(COUNTIF(WeekNights!$D$3:$AV$14,A63),COUNTIF('Weekend Training'!$D$4:$Z$15,A63))","v":1}]
["C107.01","Maintain the Sea Cadet Uniform 2",2,{"$f":"SUM(COUNTIF(WeekNights!$D$3:$AV$14,A64),COUNTIF('Weekend Training'!$D$4:$Z$15,A64))","v":2}]
["C107.02","Participate in a Tour of the Corps 1",1,{"$f":"SUM(COUNTIF(WeekNights!$D$3:$AV$14,A65),COUNTIF('Weekend Training'!$D$4:$Z$15,A65))","v":1}]
["C107.03","Participate in an Activity about the History of the Corps 1",2,{"$f":"SUM(COUNTIF(WeekNights!$D$3:$AV$14,A66),COUNTIF('Weekend Training'!$D$4:$Z$15,A66))","v":0}]
[{"$nulls":3},{"$f":"SUM(COUNTIF(WeekNights!$D$3:$AV$14,A67),COUNTIF('Weekend Training'!$D$4:$Z$15,A67))","v":0}]
[null,"PO 108 - Perform Drill Movements During an Annual Ceremonial Review",null,{"$f":"SUM(COUNTIF(WeekNights!$D$3:$AV$14,A68),COUNTIF('Weekend Training'!$D$4:$Z$15,A68))","v":0}]
["M108.01","Adopt the Positions of Attention, Stand at Ease, and Stand Easy",1,{"$f":"SUM(COUNTIF(WeekNights!$D$3:$AV$14,A69),COUNTIF('Weekend Training'!$D$4:$Z$15,A69))","v":1}]
["M108.02","Execute a Salute at the Halt Without Arms",1,{"$f":"SUM(COUNTIF(WeekNights!$D$3:$AV$14,A70),COUNTIF('Weekend Training'!$D$4:$Z$15,A70))","v":1}]
["M108.03","Execute Turns at the Halt",1,{"$f":"SUM(COUNTIF(WeekNights!$D$3:$AV$14,A71),COUNTIF('Weekend Training'!$D$4:$Z$15,A71))","v":1}]
["M108.04","Close to the Right and Left",1,{"$f":"SUM(COUNTIF(WeekNights!$D$3:$AV$14,A72),COUNTIF('Weekend Training'!$D$4:$Z$15,A72))","v":1}]
["M108.05","Execute Paces Forward and to the Rear",1,{"$f":"SUM(COUNTIF(WeekNights!$D$3:$AV$14,A73),COUNTIF('Weekend Training'!$D$4:$Z$15,A73))","v":1}]
["M108.06","Execute the Movements Required for a Right Dress",1,{"$f":"SUM(COUNTIF(WeekNights!$D$3:$AV$14,A74),COUNTIF('Weekend Training'!$D$4:$Z$15,A74))","v":1}]
["M108.07","Execute an Open Order and Close Order March",1,{"$f":"SUM(COUNTIF(WeekNights!$D$3:$AV$14,A75),COUNTIF('Weekend Training'!$D$4:$Z$15,A75))","v":1}]
["M108.08","March and Halt in Quick Time",1,{"$f":"SUM(COUNTIF(WeekNights!$D$3:$AV$14,A76),COUNTIF('Weekend Training'!$D$4:$Z$15,A76))","v":1}]
["M108.09","Execute Marking Time, Forward, and Halting in Quick Time",1,{"$f":"SUM(COUNTIF(WeekNights!$D$3:$AV$14,A77),COUNTIF('Weekend Training'!$D$4:$Z$15,A77))","v":1}]
["M108.10","Execute a Salute on the March",1,{"$f":"SUM(COUNTIF(WeekNights!$D$3:$AV$14,A78),COUNTIF('Weekend Training'!$D$4:$Z$15,A78))","v":1}]
["M108.11","Pay Compliments with a Squad on the March",1,{"$f":"SUM(COUNTIF(WeekNights!$D$3:$AV$14,A79),COUNTIF('Weekend Training'!$D$4:$Z$15,A79))","v":1}]
["M108.12","Perform Drill Movements During Annual Ceremonial Review",3,{"$f":"SUM(COUNTIF(WeekNights!$D$3:$AV$14,A80),COUNTIF('Weekend Training'!$D$4:$Z$15,A80))","v":3}]
["C108.01","Execute Supplementary Drill Movements",6,{"$f":"SUM(COUNTIF(WeekNights!$D$3:$AV$14,A81),COUNTIF('Weekend Training'!$D$4:$Z$15,A81))","v":0}]
["C108.02","Participate in a Drill Competition",3,{"$f":"SUM(COUNTIF(WeekNights!$D$3:$AV$14,A82),COUNTIF('Weekend Training'!$D$4:$Z$15,A82))","v":0}]
[]
[null,"PO 111 - Biathlon Famil",null,{"$f":"SUM(COUNTIF(WeekNights!$D$3:$AV$14,A84),COUNTIF('Weekend Training'!$D$4:$Z$15,A84))","v":0}]
["C111.01","Participate in a Biathlon Briefing",1,{"$f":"SUM(COUNTIF(WeekNights!$D$3:$AV$14,A85),COUNTIF('Weekend Training'!$D$4:$Z$15,A85))","v":0}]
["C111.02","Run Wind Sprints",1,{"$f":"SUM(COUNTIF(WeekNights!$D$3:$AV$14,A86),COUNTIF('Weekend Training'!$D$4:$Z$15,A86))","v":0}]
["C111.03","Simulate Firing the Cadet Air Rifle Following Physical Activity",1,{"$f":"SUM(COUNTIF(WeekNights!$D$3:$AV$14,A87),COUNTIF('Weekend Training'!$D$4:$Z$15,A87))","v":0}]
["C111.04","Participate in a Recreational Summer Biathlon Activity",6,{"$f":"SUM(COUNTIF(WeekNights!$D$3:$AV$14,A88),COUNTIF('Weekend Training'!$D$4:$Z$15,A88))","v":0}]
[]
[null,"PO X20 - Participate in Canadian Forces (CF) Familiarization Activities",null,{"$f":"SUM(COUNTIF(WeekNights!$D$3:$AV$14,A90),COUNTIF('Weekend Training'!$D$4:$Z$15,A90))","v":0}]
["MX20.01A","Participate in a CAF Activity","-",{"$f":"SUM(COUNTIF(WeekNights!$D$3:$AV$14,A91),COUNTIF('Weekend Training'!$D$4:$Z$15,A91))","v":0}]
["MX20.01B","Participate in a CAF Familiarization Tour","-",{"$f":"SUM(COUNTIF(WeekNights!$D$3:$AV$14,A92),COUNTIF('Weekend Training'!$D$4:$Z$15,A92))","v":3}]
["MX20.01C","Fire the C7 Rifle","-",{"$f":"SUM(COUNTIF(WeekNights!$D$3:$AV$14,A93),COUNTIF('Weekend Training'!$D$4:$Z$15,A93))","v":0}]
["MX20.01D","Participate in a Mess Dinner","-",{"$f":"SUM(COUNTIF(WeekNights!$D$3:$AV$14,A94),COUNTIF('Weekend Training'!$D$4:$Z$15,A94))","v":3}]
["MX20.01E","Attend a CAF Presentation","-",{"$f":"SUM(COUNTIF(WeekNights!$D$3:$AV$14,A95),COUNTIF('Weekend Training'!$D$4:$Z$15,A95))","v":0}]
["MX20.01F","Attend a CAF Commemorative Ceremony","-",{"$f":"SUM(COUNTIF(WeekNights!$D$3:$AV$14,A96),COUNTIF('Weekend Training'!$D$4:$Z$15,A96))","v":3}]
["MX20.01G","Participate in CAF Video Activities","-",{"$f":"SUM(COUNTIF(WeekNights!$D$3:$AV$14,A97),COUNTIF('Weekend Training'!$D$4:$Z$15,A97))","v":0}]
["MX20.01H","Participate in CAF Learning Stations","-",{"$f":"SUM(COUNTIF(WeekNights!$D$3:$AV$14,A98),COUNTIF('Weekend Training'!$D$4:$Z$15,A98))","v":0}]
["CX20.01","Participate in CAF Familiarization Activities 18",18,{"$f":"SUM(COUNTIF(WeekNights!$D$3:$AV$14,A99),COUNTIF('Weekend Training'!$D$4:$Z$15,A99))","v":0}]
[]
[null,"PO 121 - Perform Basic Ropework",null,{"$f":"SUM(COUNTIF(WeekNights!$D$3:$AV$14,A101),COUNTIF('Weekend Training'!$D$4:$Z$15,A101))","v":0}]
["M121.01","Tie Knots, Bends and Hitches",4,{"$f":"SUM(COUNTIF(WeekNights!$D$3:$AV$14,A102),COUNTIF('Weekend Training'!$D$4:$Z$15,A102))","v":1}]
["M121.02","Whip the End of a Line Using a Common Whipping",2,{"$f":"SUM(COUNTIF(WeekNights!$D$3:$AV$14,A103),COUNTIF('Weekend Training'!$D$4:$Z$15,A103))","v":0}]
["M121.03","Coil and Heave a Line",2,{"$f":"SUM(COUNTIF(WeekNights!$D$3:$AV$14,A104),COUNTIF('Weekend Training'!$D$4:$Z$15,A104))","v":0}]
["C121.01","Whip the End of a Line Using a West Country Whipping",1,{"$f":"SUM(COUNTIF(WeekNights!$D$3:$AV$14,A105),COUNTIF('Weekend Training'!$D$4:$Z$15,A105))","v":0}]
["C121.02","Whip the End of a Line Using a Sailmaker’s Whipping",2,{"$f":"SUM(COUNTIF(WeekNights!$D$3:$AV$14,A106),COUNTIF('Weekend Training'!$D$4:$Z$15,A106))","v":0}]
["C121.03","Complete a Rolling Hitch",1,{"$f":"SUM(COUNTIF(WeekNights!$D$3:$AV$14,A107),COUNTIF('Weekend Training'!$D$4:$Z$15,A107))","v":0}]
["C121.04","Complete a Marlin Hitch",1,{"$f":"SUM(COUNTIF(WeekNights!$D$3:$AV$14,A108),COUNTIF('Weekend Training'!$D$4:$Z$15,A108))","v":0}]
[]
[null,"PO 123 - Respond to Basic Forms of Naval Communications",null,{"$f":"SUM(COUNTIF(WeekNights!$D$3:$AV$14,A110),COUNTIF('Weekend Training'!$D$4:$Z$15,A110))","v":0}]
["M123.01","Define Basic Naval Terminology",2,{"$f":"SUM(COUNTIF(WeekNights!$D$3:$AV$14,A111),COUNTIF('Weekend Training'!$D$4:$Z$15,A111))","v":0}]
["M123.02","Identify Pipes and the Correct Responses",1,{"$f":"SUM(COUNTIF(WeekNights!$D$3:$AV$14,A112),COUNTIF('Weekend Training'!$D$4:$Z$15,A112))","v":0}]
["M123.03","Participate in a Review of Ship’s Operations",1,{"$f":"SUM(COUNTIF(WeekNights!$D$3:$AV$14,A113),COUNTIF('Weekend Training'!$D$4:$Z$15,A113))","v":0}]
["C123.01","Read the 24-hour Clock",1,{"$f":"SUM(COUNTIF(WeekNights!$D$3:$AV$14,A114),COUNTIF('Weekend Training'!$D$4:$Z$15,A114))","v":0}]
["C123.02","Recite the Phonetic Alphabet",2,{"$f":"SUM(COUNTIF(WeekNights!$D$3:$AV$14,A115),COUNTIF('Weekend Training'!$D$4:$Z$15,A115))","v":0}]
["C123.03","Participate in a Semaphore Exercise",5,{"$f":"SUM(COUNTIF(WeekNights!$D$3:$AV$14,A116),COUNTIF('Weekend Training'!$D$4:$Z$15,A116))","v":0}]
["C123.04","Ring the Ship’s Bell",1,{"$f":"SUM(COUNTIF(WeekNights!$D$3:$AV$14,A117),COUNTIF('Weekend Training'!$D$4:$Z$15,A117))","v":0}]
[]
[null,"PO X24 - Sail a Sailboat IAW the Sail Canada CANSail Level 1",null,{"$f":"SUM(COUNTIF(WeekNights!$D$3:$AV$14,A119),COUNTIF('Weekend Training'!$D$4:$Z$15,A119))","v":0}]
["MX24.01","Prepare for a Sail Weekend",1,{"$f":"SUM(COUNTIF(WeekNights!$D$3:$AV$14,A120),COUNTIF('Weekend Training'!$D$4:$Z$15,A120))","v":0}]
["MX24.02","Participate in a Sail Weekend","Wkd",{"$f":"SUM(COUNTIF(WeekNights!$D$3:$AV$14,A121),COUNTIF('Weekend Training'!$D$4:$Z$15,A121))","v":0}]
["CX24.01","Prepare for a Sail Weekend 1",1,{"$f":"SUM(COUNTIF(WeekNights!$D$3:$AV$14,A122),COUNTIF('Weekend Training'!$D$4:$Z$15,A122))","v":0}]
[]
[null,"PO X25 - Participate in a Nautical Training Weekend",null,{"$f":"SUM(COUNTIF(WeekNights!$D$3:$AV$14,A124),COUNTIF('Weekend Training'!$D$4:$Z$15,A124))","v":0}]
["CX25.01","Prepare for a Nautical Training Weekend",1,{"$f":"SUM(COUNTIF(WeekNights!$D$3:$AV$14,A125),COUNTIF('Weekend Training'!$D$4:$Z$15,A125))","v":0}]
["CX25.02","Participate in a Nautical Training Weekend","Wkd",{"$f":"SUM(COUNTIF(WeekNights!$D$3:$AV$14,A126),COUNTIF('Weekend Training'!$D$4:$Z$15,A126))","v":0}]

{"sheet":"EO Val. (Phase 2)","index":16,"n_rows":130,"n_cols":4,"rows_kept":130,"hidden":true}
[null,"PHASE 2 PROGRAM - 200.00"]
["Serial","Description","# Classes","# Assigned"]
[]
[null,"PO X01 - Participate in Citizenship Activities"]
["MX01.01A","Participate in a Citizenship Tour","-",{"$f":"SUM(COUNTIF(WeekNights!$D$15:$AV$26,A5),COUNTIF('Weekend Training'!$D$15:$Z$26,A5))","v":0}]
["MX01.01B","Attend a Presentation by a Community Organization","-",{"$f":"SUM(COUNTIF(WeekNights!$D$15:$AV$26,A6),COUNTIF('Weekend Training'!$D$15:$Z$26,A6))","v":0}]
["MX01.01C","Attend a Presentation by a Citizen-of-Interest","-",{"$f":"SUM(COUNTIF(WeekNights!$D$15:$AV$26,A7),COUNTIF('Weekend Training'!$D$15:$Z$26,A7))","v":0}]
["MX01.01D","Participate in the Canadian Citizenship Challenge","-",{"$f":"SUM(COUNTIF(WeekNights!$D$15:$AV$26,A8),COUNTIF('Weekend Training'!$D$15:$Z$26,A8))","v":0}]
["MX01.01E","Host a Citizenship Ceremony -","-",{"$f":"SUM(COUNTIF(WeekNights!$D$15:$AV$26,A9),COUNTIF('Weekend Training'!$D$15:$Z$26,A9))","v":0}]
["MX01.01F","Participate in an Election -","-",{"$f":"SUM(COUNTIF(WeekNights!$D$15:$AV$26,A10),COUNTIF('Weekend Training'!$D$15:$Z$26,A10))","v":0}]
["MX01.01G","Participate in Heritage Minutes Video Activities -","-",{"$f":"SUM(COUNTIF(WeekNights!$D$15:$AV$26,A11),COUNTIF('Weekend Training'!$D$15:$Z$26,A11))","v":0}]
["MX01.01H","Participate in Citizenship Learning Stations -","-",{"$f":"SUM(COUNTIF(WeekNights!$D$15:$AV$26,A12),COUNTIF('Weekend Training'!$D$15:$Z$26,A12))","v":0}]
["CX01.01","Participate in Citizenship Activities 18",18,{"$f":"SUM(COUNTIF(WeekNights!$D$15:$AV$26,A13),COUNTIF('Weekend Training'!$D$15:$Z$26,A13))","v":0}]
[]
[null,"PO X02 - Perform Community Service",null,{"$f":"SUM(COUNTIF(WeekNights!$D$15:$AV$26,A15),COUNTIF('Weekend Training'!$D$15:$Z$26,A15))","v":0}]
["MX02.01","Perform Community Service",9,{"$f":"SUM(COUNTIF(WeekNights!$D$15:$AV$26,A16),COUNTIF('Weekend Training'!$D$15:$Z$26,A16))","v":9}]
["CX02.01","Perform Community Service",18,{"$f":"SUM(COUNTIF(WeekNights!$D$15:$AV$26,A17),COUNTIF('Weekend Training'!$D$15:$Z$26,A17))","v":0}]
[]
[null,"PO 203 - Demonstrate Leadership Attributes Within a Peer Setting",null,{"$f":"SUM(COUNTIF(WeekNights!$D$15:$AV$26,A19),COUNTIF('Weekend Training'!$D$15:$Z$26,A19))","v":0}]
["M203.01","Discuss Leadership Within a Peer Setting",1,{"$f":"SUM(COUNTIF(WeekNights!$D$15:$AV$26,A20),COUNTIF('Weekend Training'!$D$15:$Z$26,A20))","v":1}]
["M203.02","Discuss the Principles of Leadership",1,{"$f":"SUM(COUNTIF(WeekNights!$D$15:$AV$26,A21),COUNTIF('Weekend Training'!$D$15:$Z$26,A21))","v":1}]
["M203.03","Discuss Effective Communication in a Peer Setting",1,{"$f":"SUM(COUNTIF(WeekNights!$D$15:$AV$26,A22),COUNTIF('Weekend Training'!$D$15:$Z$26,A22))","v":1}]
["M203.04","Demonstrate Positive Group Dynamics",2,{"$f":"SUM(COUNTIF(WeekNights!$D$15:$AV$26,A23),COUNTIF('Weekend Training'!$D$15:$Z$26,A23))","v":2}]
["M203.05","Discuss Influence Behaviours",1,{"$f":"SUM(COUNTIF(WeekNights!$D$15:$AV$26,A24),COUNTIF('Weekend Training'!$D$15:$Z$26,A24))","v":1}]
["M203.06","Employ Problem Solving",2,{"$f":"SUM(COUNTIF(WeekNights!$D$15:$AV$26,A25),COUNTIF('Weekend Training'!$D$15:$Z$26,A25))","v":2}]
["M203.07","Discuss Personal Integrity as a Quality of Leadership",1,{"$f":"SUM(COUNTIF(WeekNights!$D$15:$AV$26,A26),COUNTIF('Weekend Training'!$D$15:$Z$26,A26))","v":1}]
["M203.08","Participate in Team-Building Activities",1,{"$f":"SUM(COUNTIF(WeekNights!$D$15:$AV$26,A27),COUNTIF('Weekend Training'!$D$15:$Z$26,A27))","v":1}]
["C203.01","Record Entries in a Reflective Journal",3,{"$f":"SUM(COUNTIF(WeekNights!$D$15:$AV$26,A28),COUNTIF('Weekend Training'!$D$15:$Z$26,A28))","v":0}]
["C203.02","Employ Problem Solving",2,{"$f":"SUM(COUNTIF(WeekNights!$D$15:$AV$26,A29),COUNTIF('Weekend Training'!$D$15:$Z$26,A29))","v":0}]
["C203.03","Discuss Characteristics of a Leader",2,{"$f":"SUM(COUNTIF(WeekNights!$D$15:$AV$26,A30),COUNTIF('Weekend Training'!$D$15:$Z$26,A30))","v":2}]
["C203.04","Participate in a Presentation Given by a Leader",2,{"$f":"SUM(COUNTIF(WeekNights!$D$15:$AV$26,A31),COUNTIF('Weekend Training'!$D$15:$Z$26,A31))","v":0}]
["C203.05","Participate in Trust-Building Activities",1,{"$f":"SUM(COUNTIF(WeekNights!$D$15:$AV$26,A32),COUNTIF('Weekend Training'!$D$15:$Z$26,A32))","v":1}]
["C203.06","Participate in Problem-Solving Activities",2,{"$f":"SUM(COUNTIF(WeekNights!$D$15:$AV$26,A33),COUNTIF('Weekend Training'!$D$15:$Z$26,A33))","v":2}]
[]
[null,"PO X04 - Track Participation in Physical Activities",null,{"$f":"SUM(COUNTIF(WeekNights!$D$15:$AV$26,A35),COUNTIF('Weekend Training'!$D$15:$Z$26,A35))","v":0}]
["MX04.01 ","Participate in 60 Minutes of Moderate- to Vigorous-Intensity Physical Activity (MVPA) and Track Participation in Physical Activities",3,{"$f":"SUM(COUNTIF(WeekNights!$D$15:$AV$26,A36),COUNTIF('Weekend Training'!$D$15:$Z$26,A36))","v":0}]
["MX04.02 ","Identify Strategies to Improve Participation in Physical Activities and Participate in the Cadet Fitness Assessment (CFA)",3,{"$f":"SUM(COUNTIF(WeekNights!$D$15:$AV$26,A37),COUNTIF('Weekend Training'!$D$15:$Z$26,A37))","v":0}]
["MX04.03 ","Participate in the CFA and Identify Strategies for Improving Personal Physical Fitness",3,{"$f":"SUM(COUNTIF(WeekNights!$D$15:$AV$26,A38),COUNTIF('Weekend Training'!$D$15:$Z$26,A38))","v":0}]
["CX04.01 ","Participate in the CFA and Identify Strategies for Improving Personal Physical Fitness",3,{"$f":"SUM(COUNTIF(WeekNights!$D$15:$AV$26,A39),COUNTIF('Weekend Training'!$D$15:$Z$26,A39))","v":0}]
["CX04.02 ","Participate in Activities that Reinforce the Three Components of Physical Fitness",3,{"$f":"SUM(COUNTIF(WeekNights!$D$15:$AV$26,A40),COUNTIF('Weekend Training'!$D$15:$Z$26,A40))","v":0}]
["CX04.03 ","Participate in a Cooking Class",3,{"$f":"SUM(COUNTIF(WeekNights!$D$15:$AV$26,A41),COUNTIF('Weekend Training'!$D$15:$Z$26,A41))","v":0}]
["CX04.04 ","Attend a Personal Fitness and Healthy Living Presentation",3,{"$f":"SUM(COUNTIF(WeekNights!$D$15:$AV$26,A42),COUNTIF('Weekend Training'!$D$15:$Z$26,A42))","v":0}]
["CX04.05 ","Attend a Local Amateur Sporting Event",3,{"$f":"SUM(COUNTIF(WeekNights!$D$15:$AV$26,A43),COUNTIF('Weekend Training'!$D$15:$Z$26,A43))","v":0}]
[]
[null,"PO X05 -Participate in Physical Activities",null,{"$f":"SUM(COUNTIF(WeekNights!$D$15:$AV$26,A45),COUNTIF('Weekend Training'!$D$15:$Z$26,A45))","v":0}]
["MX05.01","Participate in Physical Activities",9,{"$f":"SUM(COUNTIF(WeekNights!$D$15:$AV$26,A46),COUNTIF('Weekend Training'!$D$15:$Z$26,A46))","v":6}]
["CX05.01 ","Participate in Physical Activities",9,{"$f":"SUM(COUNTIF(WeekNights!$D$15:$AV$26,A47),COUNTIF('Weekend Training'!$D$15:$Z$26,A47))","v":0}]
["CX05.02 ","Participate in a Tournament",9,{"$f":"SUM(COUNTIF(WeekNights!$D$15:$AV$26,A48),COUNTIF('Weekend Training'!$D$15:$Z$26,A48))","v":0}]
[]
[null,"PO 206 - Fire the Cadet Air Rifle During Recreational Marksmanship",null,{"$f":"SUM(COUNTIF(WeekNights!$D$15:$AV$26,A50),COUNTIF('Weekend Training'!$D$15:$Z$26,A50))","v":0}]
["M206.01","Participate in a Recreational Marksmanship Activity",3,{"$f":"SUM(COUNTIF(WeekNights!$D$15:$AV$26,A51),COUNTIF('Weekend Training'!$D$15:$Z$26,A51))","v":0}]
["C106.01","Participate in a Recreational Marksmanship Activity",6,{"$f":"SUM(COUNTIF(WeekNights!$D$15:$AV$26,A52),COUNTIF('Weekend Training'!$D$15:$Z$26,A52))","v":0}]
["C206.01","Practice Holding Techniques",1,{"$f":"SUM(COUNTIF(WeekNights!$D$15:$AV$26,A53),COUNTIF('Weekend Training'!$D$15:$Z$26,A53))","v":0}]
["C206.02","Practice Aiming Techniques",2,{"$f":"SUM(COUNTIF(WeekNights!$D$15:$AV$26,A54),COUNTIF('Weekend Training'!$D$15:$Z$26,A54))","v":0}]
["C206.03","Practice Firing Techniques",1,{"$f":"SUM(COUNTIF(WeekNights!$D$15:$AV$26,A55),COUNTIF('Weekend Training'!$D$15:$Z$26,A55))","v":0}]
[]
[null,"PO 207 - Serve in a Sea Cadet Corps",null,{"$f":"SUM(COUNTIF(WeekNights!$D$15:$AV$26,A57),COUNTIF('Weekend Training'!$D$15:$Z$26,A57))","v":0}]
["M207.01","Identify Proficiency Level Two Training Opportunities",1,{"$f":"SUM(COUNTIF(WeekNights!$D$15:$AV$26,A58),COUNTIF('Weekend Training'!$D$15:$Z$26,A58))","v":1}]
["M207.02","Recognize Historical Aspects of the Royal Canadian Air Cadets (RCAC)",1,{"$f":"SUM(COUNTIF(WeekNights!$D$15:$AV$26,A59),COUNTIF('Weekend Training'!$D$15:$Z$26,A59))","v":1}]
["M207.03","Recognize the Role and Responsibilities of the Local Sponsor",1,{"$f":"SUM(COUNTIF(WeekNights!$D$15:$AV$26,A60),COUNTIF('Weekend Training'!$D$15:$Z$26,A60))","v":1}]
["M207.04","Identify Year Two CSTC Training Opportunities",1,{"$f":"SUM(COUNTIF(WeekNights!$D$15:$AV$26,A61),COUNTIF('Weekend Training'!$D$15:$Z$26,A61))","v":1}]
["C107.03","Participate in an Activity about the History of the Corps 1",1,{"$f":"SUM(COUNTIF(WeekNights!$D$15:$AV$26,A62),COUNTIF('Weekend Training'!$D$15:$Z$26,A62))","v":0}]
["C207.01","Identify the Rank Structure of the Royal Canadian Sea and Army Cadets",1,{"$f":"SUM(COUNTIF(WeekNights!$D$15:$AV$26,A63),COUNTIF('Weekend Training'!$D$15:$Z$26,A63))","v":1}]
["C207.02","Visit a Royal Canadian Sea / Army Cadet Corps or an Air Cadet Squadron",3,{"$f":"SUM(COUNTIF(WeekNights!$D$15:$AV$26,A64),COUNTIF('Weekend Training'!$D$15:$Z$26,A64))","v":0}]
["C207.03","Describe the Affiliated Unit",1,{"$f":"SUM(COUNTIF(WeekNights!$D$15:$AV$26,A65),COUNTIF('Weekend Training'!$D$15:$Z$26,A65))","v":0}]
["C207.04","Tour the Affiliated Unit",3,{"$f":"SUM(COUNTIF(WeekNights!$D$15:$AV$26,A66),COUNTIF('Weekend Training'!$D$15:$Z$26,A66))","v":0}]
[]
[null,"PO 208 - Execute Drill as a Member of a Squad",null,{"$f":"SUM(COUNTIF(WeekNights!$D$15:$AV$26,A68),COUNTIF('Weekend Training'!$D$15:$Z$26,A68))","v":0}]
["M208.01","Execute Left and Right Turns on the March",2,{"$f":"SUM(COUNTIF(WeekNights!$D$15:$AV$26,A69),COUNTIF('Weekend Training'!$D$15:$Z$26,A69))","v":2}]
["M208.02","Form Single File From the Halt",1,{"$f":"SUM(COUNTIF(WeekNights!$D$15:$AV$26,A70),COUNTIF('Weekend Training'!$D$15:$Z$26,A70))","v":1}]
["C108.01","Execute Supplementary Drill Movements",6,{"$f":"SUM(COUNTIF(WeekNights!$D$15:$AV$26,A71),COUNTIF('Weekend Training'!$D$15:$Z$26,A71))","v":0}]
["C208.01","Practice Ceremonial Drill as a Review",2,{"$f":"SUM(COUNTIF(WeekNights!$D$15:$AV$26,A72),COUNTIF('Weekend Training'!$D$15:$Z$26,A72))","v":2}]
["C208.02","Execute Drill With Arms",8,{"$f":"SUM(COUNTIF(WeekNights!$D$15:$AV$26,A73),COUNTIF('Weekend Training'!$D$15:$Z$26,A73))","v":0}]
[]
[null,"PO 211 - Participate in Recreational Summer Biathlon Activities",null,{"$f":"SUM(COUNTIF(WeekNights!$D$15:$AV$26,A75),COUNTIF('Weekend Training'!$D$15:$Z$26,A75))","v":0}]
["C111.01","Participate in a Biathlon Briefing",1,{"$f":"SUM(COUNTIF(WeekNights!$D$15:$AV$26,A76),COUNTIF('Weekend Training'!$D$15:$Z$26,A76))","v":0}]
["C111.02","Run Wind Sprints",1,{"$f":"SUM(COUNTIF(WeekNights!$D$15:$AV$26,A77),COUNTIF('Weekend Training'!$D$15:$Z$26,A77))","v":0}]
["C111.03","Simulate Firing the Cadet Air Rifle Following Physical Activity",1,{"$f":"SUM(COUNTIF(WeekNights!$D$15:$AV$26,A78),COUNTIF('Weekend Training'!$D$15:$Z$26,A78))","v":0}]
["C111.04","Participate in a Recreational Summer Biathlon Activity",6,{"$f":"SUM(COUNTIF(WeekNights!$D$15:$AV$26,A79),COUNTIF('Weekend Training'!$D$15:$Z$26,A79))","v":0}]
["C211.01","Identify Civilian Biathlon Opportunities",1,{"$f":"SUM(COUNTIF(WeekNights!$D$15:$AV$26,A80),COUNTIF('Weekend Training'!$D$15:$Z$26,A80))","v":0}]
["C211.02","Run on Alternate Terrain",1,{"$f":"SUM(COUNTIF(WeekNights!$D$15:$AV$26,A81),COUNTIF('Weekend Training'!$D$15:$Z$26,A81))","v":0}]
["C211.03","Fire the Cadet Air Rifle using a Sling Following Physical Activity",1,{"$f":"SUM(COUNTIF(WeekNights!$D$15:$AV$26,A82),COUNTIF('Weekend Training'!$D$15:$Z$26,A82))","v":0}]
["C211.04","Participate in a Competitive Summer Biathlon Activity",6,{"$f":"SUM(COUNTIF(WeekNights!$D$15:$AV$26,A83),COUNTIF('Weekend Training'!$D$15:$Z$26,A83))","v":0}]
[]
[null,"PO X20 - Participate in Canadian Forces (CF) Familiarization Activities",null,{"$f":"SUM(COUNTIF(WeekNights!$D$15:$AV$26,A85),COUNTIF('Weekend Training'!$D$15:$Z$26,A85))","v":0}]
["MX20.01A","Participate in a CAF Activity","-",{"$f":"SUM(COUNTIF(WeekNights!$D$15:$AV$26,A86),COUNTIF('Weekend Training'!$D$15:$Z$26,A86))","v":0}]
["MX20.01B","Participate in a CAF Familiarization Tour","-",{"$f":"SUM(COUNTIF(WeekNights!$D$15:$AV$26,A87),COUNTIF('Weekend Training'!$D$15:$Z$26,A87))","v":3}]
["MX20.01C","Fire the C7 Rifle","-",{"$f":"SUM(COUNTIF(WeekNights!$D$15:$AV$26,A88),COUNTIF('Weekend Training'!$D$15:$Z$26,A88))","v":0}]
["MX20.01D","Participate in a Mess Dinner","-",{"$f":"SUM(COUNTIF(WeekNights!$D$15:$AV$26,A89),COUNTIF('Weekend Training'!$D$15:$Z$26,A89))","v":3}]
["MX20.01E","Attend a CAF Presentation","-",{"$f":"SUM(COUNTIF(WeekNights!$D$15:$AV$26,A90),COUNTIF('Weekend Training'!$D$15:$Z$26,A90))","v":0}]
["MX20.01F","Attend a CAF Commemorative Ceremony","-",{"$f":"SUM(COUNTIF(WeekNights!$D$15:$AV$26,A91),COUNTIF('Weekend Training'!$D$15:$Z$26,A91))","v":3}]
["MX20.01G","Participate in CAF Video Activities","-",{"$f":"SUM(COUNTIF(WeekNights!$D$15:$AV$26,A92),COUNTIF('Weekend Training'!$D$15:$Z$26,A92))","v":0}]
["MX20.01H","Participate in CAF Learning Stations","-",{"$f":"SUM(COUNTIF(WeekNights!$D$15:$AV$26,A93),COUNTIF('Weekend Training'!$D$15:$Z$26,A93))","v":0}]
["CX20.01","Participate in CAF Familiarization Activities 18",18,{"$f":"SUM(COUNTIF(WeekNights!$D$15:$AV$26,A94),COUNTIF('Weekend Training'!$D$15:$Z$26,A94))","v":0}]
[]
[null,"PO 221 - Rig Tackles",null,{"$f":"SUM(COUNTIF(WeekNights!$D$15:$AV$26,A96),COUNTIF('Weekend Training'!$D$15:$Z$26,A96))","v":0}]
["M221.01","Use a Strop for Slinging",3,{"$f":"SUM(COUNTIF(WeekNights!$D$15:$AV$26,A97),COUNTIF('Weekend Training'!$D$15:$Z$26,A97))","v":0}]
["M221.02","Mouse a Hook",2,{"$f":"SUM(COUNTIF(WeekNights!$D$15:$AV$26,A98),COUNTIF('Weekend Training'!$D$15:$Z$26,A98))","v":0}]
["M221.03","Reeve a Block",1,{"$f":"SUM(COUNTIF(WeekNights!$D$15:$AV$26,A99),COUNTIF('Weekend Training'!$D$15:$Z$26,A99))","v":0}]
["M221.04","Identify Components of Tackles",2,{"$f":"SUM(COUNTIF(WeekNights!$D$15:$AV$26,A100),COUNTIF('Weekend Training'!$D$15:$Z$26,A100))","v":0}]
["M221.05","Rig Tackles",3,{"$f":"SUM(COUNTIF(WeekNights!$D$15:$AV$26,A101),COUNTIF('Weekend Training'!$D$15:$Z$26,A101))","v":0}]
["C121.01","Whip the End of a Line Using a West Country Whipping",1,{"$f":"SUM(COUNTIF(WeekNights!$D$15:$AV$26,A102),COUNTIF('Weekend Training'!$D$15:$Z$26,A102))","v":0}]
["C121.02","Whip the End of a Line Using a Sailmaker’s Whipping",2,{"$f":"SUM(COUNTIF(WeekNights!$D$15:$AV$26,A103),COUNTIF('Weekend Training'!$D$15:$Z$26,A103))","v":0}]
["C121.03","Complete a Rolling Hitch",1,{"$f":"SUM(COUNTIF(WeekNights!$D$15:$AV$26,A104),COUNTIF('Weekend Training'!$D$15:$Z$26,A104))","v":0}]
["C121.04","Complete a Marlin Hitch",1,{"$f":"SUM(COUNTIF(WeekNights!$D$15:$AV$26,A105),COUNTIF('Weekend Training'!$D$15:$Z$26,A105))","v":0}]
["C221.01","Make a Back Splice",2,{"$f":"SUM(COUNTIF(WeekNights!$D$15:$AV$26,A106),COUNTIF('Weekend Training'!$D$15:$Z$26,A106))","v":0}]
["C221.02","Make an Eye Splice",2,{"$f":"SUM(COUNTIF(WeekNights!$D$15:$AV$26,A107),COUNTIF('Weekend Training'!$D$15:$Z$26,A107))","v":0}]
["C221.03","Make a Long Splice",2,{"$f":"SUM(COUNTIF(WeekNights!$D$15:$AV$26,A108),COUNTIF('Weekend Training'!$D$15:$Z$26,A108))","v":0}]
[]
[null,"PO 223 - Respond to Basic Forms of Naval Communications",null,{"$f":"SUM(COUNTIF(WeekNights!$D$15:$AV$26,A110),COUNTIF('Weekend Training'!$D$15:$Z$26,A110))","v":0}]
["M223.01","Define Ship-Related Terms",1,{"$f":"SUM(COUNTIF(WeekNights!$D$15:$AV$26,A111),COUNTIF('Weekend Training'!$D$15:$Z$26,A111))","v":0}]
["M223.02","Identify the Watch System",1,{"$f":"SUM(COUNTIF(WeekNights!$D$15:$AV$26,A112),COUNTIF('Weekend Training'!$D$15:$Z$26,A112))","v":0}]
["M223.03","Execute Notes Using the Boatswain’s Call",2,{"$f":"SUM(COUNTIF(WeekNights!$D$15:$AV$26,A113),COUNTIF('Weekend Training'!$D$15:$Z$26,A113))","v":0}]
["M223.04","Pipe the General Call",1,{"$f":"SUM(COUNTIF(WeekNights!$D$15:$AV$26,A114),COUNTIF('Weekend Training'!$D$15:$Z$26,A114))","v":0}]
["M223.05","Pipe the Still",1,{"$f":"SUM(COUNTIF(WeekNights!$D$15:$AV$26,A115),COUNTIF('Weekend Training'!$D$15:$Z$26,A115))","v":0}]
["M223.06","Pipe the Carry On",1,{"$f":"SUM(COUNTIF(WeekNights!$D$15:$AV$26,A116),COUNTIF('Weekend Training'!$D$15:$Z$26,A116))","v":0}]
["M223.07","Identify the Procedure for Berthing a Ship",2,{"$f":"SUM(COUNTIF(WeekNights!$D$15:$AV$26,A117),COUNTIF('Weekend Training'!$D$15:$Z$26,A117))","v":0}]
["C123.01","Read the 24-hour Clock",1,{"$f":"SUM(COUNTIF(WeekNights!$D$15:$AV$26,A118),COUNTIF('Weekend Training'!$D$15:$Z$26,A118))","v":0}]
["C123.02","Recite the Phonetic Alphabet",2,{"$f":"SUM(COUNTIF(WeekNights!$D$15:$AV$26,A119),COUNTIF('Weekend Training'!$D$15:$Z$26,A119))","v":0}]
["C223.01","Define Naval Terminology",1,{"$f":"SUM(COUNTIF(WeekNights!$D$15:$AV$26,A120),COUNTIF('Weekend Training'!$D$15:$Z$26,A120))","v":0}]
["C223.02","Pipe the Side",1,{"$f":"SUM(COUNTIF(WeekNights!$D$15:$AV$26,A121),COUNTIF('Weekend Training'!$D$15:$Z$26,A121))","v":0}]
[]
[null,"PO X24 - Sail a Sailboat IAW the Sail Canada CANSail Level 1",null,{"$f":"SUM(COUNTIF(WeekNights!$D$15:$AV$26,A123),COUNTIF('Weekend Training'!$D$15:$Z$26,A123))","v":0}]
["MX24.01","Prepare for a Sail Weekend",1,{"$f":"SUM(COUNTIF(WeekNights!$D$15:$AV$26,A124),COUNTIF('Weekend Training'!$D$15:$Z$26,A124))","v":0}]
["MX24.02","Participate in a Sail Weekend","Wkd",{"$f":"SUM(COUNTIF(WeekNights!$D$15:$AV$26,A125),COUNTIF('Weekend Training'!$D$15:$Z$26,A125))","v":0}]
["CX24.01","Prepare for a Sail Weekend 1",1,{"$f":"SUM(COUNTIF(WeekNights!$D$15:$AV$26,A126),COUNTIF('Weekend Training'!$D$15:$Z$26,A126))","v":0}]
[]
[null,"PO X25 - Participate in a Nautical Training Weekend",null,{"$f":"SUM(COUNTIF(WeekNights!$D$15:$AV$26,A128),COUNTIF('Weekend Training'!$D$15:$Z$26,A128))","v":0}]
["CX25.01","Prepare for a Nautical Training Weekend",1,{"$f":"SUM(COUNTIF(WeekNights!$D$15:$AV$26,A129),COUNTIF('Weekend Training'!$D$15:$Z$26,A129))","v":0}]
["CX25.02","Participate in a Nautical Training Weekend","Wkd",{"$f":"SUM(COUNTIF(WeekNights!$D$15:$AV$26,A130),COUNTIF('Weekend Training'!$D$15:$Z$26,A130))","v":0}]

{"sheet":"EO Val. (Phase 3)","index":17,"n_rows":147,"n_cols":4,"rows_kept":147,"hidden":true}
[null,"PHASE 3 PROGRAM - 300.00",null,{"$f":"SUM(D90:D90)","v":0}]
["Serial","Description","# Classes","# Assigned"]
[]
[null,"PO X01 - Participate in Citizenship Activities"]
["MX01.01A","Participate in a Citizenship Tour","-",{"$f":"SUM(COUNTIF(WeekNights!$D$27:$AV$38,A5),COUNTIF('Weekend Training'!$D$27:$Z$38,A5))","v":0}]
["MX01.01B","Attend a Presentation by a Community Organization","-",{"$f":"SUM(COUNTIF(WeekNights!$D$27:$AV$38,A6),COUNTIF('Weekend Training'!$D$27:$Z$38,A6))","v":0}]
["MX01.01C","Attend a Presentation by a Citizen-of-Interest","-",{"$f":"SUM(COUNTIF(WeekNights!$D$27:$AV$38,A7),COUNTIF('Weekend Training'!$D$27:$Z$38,A7))","v":0}]
["MX01.01D","Participate in the Canadian Citizenship Challenge","-",{"$f":"SUM(COUNTIF(WeekNights!$D$27:$AV$38,A8),COUNTIF('Weekend Training'!$D$27:$Z$38,A8))","v":0}]
["MX01.01E","Host a Citizenship Ceremony -","-",{"$f":"SUM(COUNTIF(WeekNights!$D$27:$AV$38,A9),COUNTIF('Weekend Training'!$D$27:$Z$38,A9))","v":0}]
["MX01.01F","Participate in an Election -","-",{"$f":"SUM(COUNTIF(WeekNights!$D$27:$AV$38,A10),COUNTIF('Weekend Training'!$D$27:$Z$38,A10))","v":0}]
["MX01.01G","Participate in Heritage Minutes Video Activities -","-",{"$f":"SUM(COUNTIF(WeekNights!$D$27:$AV$38,A11),COUNTIF('Weekend Training'!$D$27:$Z$38,A11))","v":0}]
["MX01.01H","Participate in Citizenship Learning Stations -","-",{"$f":"SUM(COUNTIF(WeekNights!$D$27:$AV$38,A12),COUNTIF('Weekend Training'!$D$27:$Z$38,A12))","v":0}]
["CX01.01","Participate in Citizenship Activities 18",18,{"$f":"SUM(COUNTIF(WeekNights!$D$27:$AV$38,A13),COUNTIF('Weekend Training'!$D$27:$Z$38,A13))","v":0}]
[]
[null,"PO X02 - Perform Community Service",null,{"$f":"SUM(COUNTIF(WeekNights!$D$27:$AV$38,A15),COUNTIF('Weekend Training'!$D$27:$Z$38,A15))","v":0}]
["MX02.01","Perform Community Service",9,{"$f":"SUM(COUNTIF(WeekNights!$D$27:$AV$38,A16),COUNTIF('Weekend Training'!$D$27:$Z$38,A16))","v":9}]
["CX02.01","Perform Community Service",18,{"$f":"SUM(COUNTIF(WeekNights!$D$27:$AV$38,A17),COUNTIF('Weekend Training'!$D$27:$Z$38,A17))","v":0}]
[]
[null,"PO 303 - Perform the Role of a Team Leader",null,{"$f":"SUM(COUNTIF(WeekNights!$D$27:$AV$38,A19),COUNTIF('Weekend Training'!$D$27:$Z$38,A19))","v":0}]
["M303.01","Define the Role of a Team Leader",2,{"$f":"SUM(COUNTIF(WeekNights!$D$27:$AV$38,A20),COUNTIF('Weekend Training'!$D$27:$Z$38,A20))","v":2}]
["M303.02","Participate in a Mentoring Relationship",1,{"$f":"SUM(COUNTIF(WeekNights!$D$27:$AV$38,A21),COUNTIF('Weekend Training'!$D$27:$Z$38,A21))","v":1}]
["M303.03","Practice Self-Assessment",1,{"$f":"SUM(COUNTIF(WeekNights!$D$27:$AV$38,A22),COUNTIF('Weekend Training'!$D$27:$Z$38,A22))","v":1}]
["M303.04","Communicate as a Team Leader",2,{"$f":"SUM(COUNTIF(WeekNights!$D$27:$AV$38,A23),COUNTIF('Weekend Training'!$D$27:$Z$38,A23))","v":2}]
["M303.05","Supervise Cadets",2,{"$f":"SUM(COUNTIF(WeekNights!$D$27:$AV$38,A24),COUNTIF('Weekend Training'!$D$27:$Z$38,A24))","v":2}]
["M303.06","Solve Problems",2,{"$f":"SUM(COUNTIF(WeekNights!$D$27:$AV$38,A25),COUNTIF('Weekend Training'!$D$27:$Z$38,A25))","v":2}]
["M303.07","Lead Cadets Through a Leadership Assignment",2,{"$f":"SUM(COUNTIF(WeekNights!$D$27:$AV$38,A26),COUNTIF('Weekend Training'!$D$27:$Z$38,A26))","v":2}]
["M303.PC","Performance Check","-",{"$f":"SUM(COUNTIF(WeekNights!$D$27:$AV$38,A27),COUNTIF('Weekend Training'!$D$27:$Z$38,A27))","v":0}]
["C303.01","Lead Team-Building Activities",3,{"$f":"SUM(COUNTIF(WeekNights!$D$27:$AV$38,A28),COUNTIF('Weekend Training'!$D$27:$Z$38,A28))","v":0}]
["C303.02","Deliver a Presentation About a Leader",2,{"$f":"SUM(COUNTIF(WeekNights!$D$27:$AV$38,A29),COUNTIF('Weekend Training'!$D$27:$Z$38,A29))","v":0}]
[]
[null,"PO X04 -Track Participation in Physical Activities",null,{"$f":"SUM(COUNTIF(WeekNights!$D$27:$AV$38,A31),COUNTIF('Weekend Training'!$D$27:$Z$38,A31))","v":0}]
["MX04.01 ","Participate in 60 Minutes of Moderate- to Vigorous-Intensity Physical Activity (MVPA) and Track Participation in Physical Activities",3,{"$f":"SUM(COUNTIF(WeekNights!$D$27:$AV$38,A32),COUNTIF('Weekend Training'!$D$27:$Z$38,A32))","v":0}]
["MX04.02 ","Identify Strategies to Improve Participation in Physical Activities and Participate in the Cadet Fitness Assessment (CFA)",3,{"$f":"SUM(COUNTIF(WeekNights!$D$27:$AV$38,A33),COUNTIF('Weekend Training'!$D$27:$Z$38,A33))","v":0}]
["MX04.03 ","Participate in the CFA and Identify Strategies for Improving Personal Physical Fitness",3,{"$f":"SUM(COUNTIF(WeekNights!$D$27:$AV$38,A34),COUNTIF('Weekend Training'!$D$27:$Z$38,A34))","v":0}]
["CX04.01 ","Participate in the CFA and Identify Strategies for Improving Personal Physical Fitness",3,{"$f":"SUM(COUNTIF(WeekNights!$D$27:$AV$38,A35),COUNTIF('Weekend Training'!$D$27:$Z$38,A35))","v":0}]
["CX04.02 ","Participate in Activities that Reinforce the Three Components of Physical Fitness",3,{"$f":"SUM(COUNTIF(WeekNights!$D$27:$AV$38,A36),COUNTIF('Weekend Training'!$D$27:$Z$38,A36))","v":0}]
["CX04.03 ","Participate in a Cooking Class",3,{"$f":"SUM(COUNTIF(WeekNights!$D$27:$AV$38,A37),COUNTIF('Weekend Training'!$D$27:$Z$38,A37))","v":0}]
["CX04.04 ","Attend a Personal Fitness and Healthy Living Presentation",3,{"$f":"SUM(COUNTIF(WeekNights!$D$27:$AV$38,A38),COUNTIF('Weekend Training'!$D$27:$Z$38,A38))","v":0}]
["CX04.05 ","Attend a Local Amateur Sporting Event",3,{"$f":"SUM(COUNTIF(WeekNights!$D$27:$AV$38,A39),COUNTIF('Weekend Training'!$D$27:$Z$38,A39))","v":0}]
[]
[null,"PO 305 - Participate in Physical Activities",null,{"$f":"SUM(COUNTIF(WeekNights!$D$27:$AV$38,A41),COUNTIF('Weekend Training'!$D$27:$Z$38,A41))","v":0}]
["M105.01","Participate in Physical Activities",9,{"$f":"SUM(COUNTIF(WeekNights!$D$27:$AV$38,A42),COUNTIF('Weekend Training'!$D$27:$Z$38,A42))","v":0}]
["CX05.01 ","Participate in Physical Activities",9,{"$f":"SUM(COUNTIF(WeekNights!$D$27:$AV$38,A43),COUNTIF('Weekend Training'!$D$27:$Z$38,A43))","v":0}]
["CX05.02 ","Participate in a Tournament",9,{"$f":"SUM(COUNTIF(WeekNights!$D$27:$AV$38,A44),COUNTIF('Weekend Training'!$D$27:$Z$38,A44))","v":0}]
[]
[null,"PO 306 - Fire the Cadet Air Rifle During Recreational Marksmanship",null,{"$f":"SUM(COUNTIF(WeekNights!$D$27:$AV$38,A46),COUNTIF('Weekend Training'!$D$27:$Z$38,A46))","v":0}]
["M306.01","Participate in a Recreational Marksmanship Activity",3,{"$f":"SUM(COUNTIF(WeekNights!$D$27:$AV$38,A47),COUNTIF('Weekend Training'!$D$27:$Z$38,A47))","v":0}]
["C106.01","Participate in a Recreational Marksmanship Activity",6,{"$f":"SUM(COUNTIF(WeekNights!$D$27:$AV$38,A48),COUNTIF('Weekend Training'!$D$27:$Z$38,A48))","v":0}]
["C206.01","Practice Holding Techniques",1,{"$f":"SUM(COUNTIF(WeekNights!$D$27:$AV$38,A49),COUNTIF('Weekend Training'!$D$27:$Z$38,A49))","v":0}]
["C206.02","Practice Aiming Techniques",2,{"$f":"SUM(COUNTIF(WeekNights!$D$27:$AV$38,A50),COUNTIF('Weekend Training'!$D$27:$Z$38,A50))","v":0}]
["C206.03","Practice Firing Techniques",1,{"$f":"SUM(COUNTIF(WeekNights!$D$27:$AV$38,A51),COUNTIF('Weekend Training'!$D$27:$Z$38,A51))","v":0}]
["C306.01","Identify Civilian Marksmanship Organizations",1,{"$f":"SUM(COUNTIF(WeekNights!$D$27:$AV$38,A52),COUNTIF('Weekend Training'!$D$27:$Z$38,A52))","v":0}]
["C306.02","Correct Marksmanship Error",2,{"$f":"SUM(COUNTIF(WeekNights!$D$27:$AV$38,A53),COUNTIF('Weekend Training'!$D$27:$Z$38,A53))","v":0}]
["C306.03","Fire the Cadet Air Rifle from the Standing Position",2,{"$f":"SUM(COUNTIF(WeekNights!$D$27:$AV$38,A54),COUNTIF('Weekend Training'!$D$27:$Z$38,A54))","v":0}]
[]
[null,"PO 307 - Serve in a Sea Cadet Corps",null,{"$f":"SUM(COUNTIF(WeekNights!$D$27:$AV$38,A56),COUNTIF('Weekend Training'!$D$27:$Z$38,A56))","v":0}]
["M307.01","Identify Phase 3 Training Opportunities",1,{"$f":"SUM(COUNTIF(WeekNights!$D$27:$AV$38,A57),COUNTIF('Weekend Training'!$D$27:$Z$38,A57))","v":1}]
["M307.02","Identify Year Three CSTC Training Opportunities",1,{"$f":"SUM(COUNTIF(WeekNights!$D$27:$AV$38,A58),COUNTIF('Weekend Training'!$D$27:$Z$38,A58))","v":1}]
["M307.03","Recognize the Partnership Between the Sea Cadet League of Canada and the Department of National Defence",1,{"$f":"SUM(COUNTIF(WeekNights!$D$27:$AV$38,A59),COUNTIF('Weekend Training'!$D$27:$Z$38,A59))","v":1}]
["C307.01","Participate in a Presentation Given by a Guest Speaker From the RCSU",2,{"$f":"SUM(COUNTIF(WeekNights!$D$27:$AV$38,A60),COUNTIF('Weekend Training'!$D$27:$Z$38,A60))","v":0}]
["C307.02","Participate in a Presentation Given by the Cadet Liaison Officer",2,{"$f":"SUM(COUNTIF(WeekNights!$D$27:$AV$38,A61),COUNTIF('Weekend Training'!$D$27:$Z$38,A61))","v":0}]
["C307.03","Participate in a Presentation Given by a Guest Speaker from the Sea Cadet League of Canada",2,{"$f":"SUM(COUNTIF(WeekNights!$D$27:$AV$38,A62),COUNTIF('Weekend Training'!$D$27:$Z$38,A62))","v":0}]
["C307.04","Participate in a Presentation on the Duke of Edinburgh Award Program",1,{"$f":"SUM(COUNTIF(WeekNights!$D$27:$AV$38,A63),COUNTIF('Weekend Training'!$D$27:$Z$38,A63))","v":0}]
[]
[null,"PO 308 - Direct a Squad Prior to a Parade",null,{"$f":"SUM(COUNTIF(WeekNights!$D$27:$AV$38,A65),COUNTIF('Weekend Training'!$D$27:$Z$38,A65))","v":0}]
["M308.01","Prepare a Squad for Parade",3,{"$f":"SUM(COUNTIF(WeekNights!$D$27:$AV$38,A66),COUNTIF('Weekend Training'!$D$27:$Z$38,A66))","v":2}]
["M308.02","Deliver Words of Command",1,{"$f":"SUM(COUNTIF(WeekNights!$D$27:$AV$38,A67),COUNTIF('Weekend Training'!$D$27:$Z$38,A67))","v":1}]
["M308.PC","Performance Check","-",{"$f":"SUM(COUNTIF(WeekNights!$D$27:$AV$38,A68),COUNTIF('Weekend Training'!$D$27:$Z$38,A68))","v":0}]
["C208.01","Practice Ceremonial Drill as a Review",2,{"$f":"SUM(COUNTIF(WeekNights!$D$27:$AV$38,A69),COUNTIF('Weekend Training'!$D$27:$Z$38,A69))","v":4}]
["C208.02","Execute Drill With Arms",8,{"$f":"SUM(COUNTIF(WeekNights!$D$27:$AV$38,A70),COUNTIF('Weekend Training'!$D$27:$Z$38,A70))","v":0}]
["C308.01","Execute Flag Party Drill",4,{"$f":"SUM(COUNTIF(WeekNights!$D$27:$AV$38,A71),COUNTIF('Weekend Training'!$D$27:$Z$38,A71))","v":0}]
["C308.02","Deliver Words of Command",2,{"$f":"SUM(COUNTIF(WeekNights!$D$27:$AV$38,A72),COUNTIF('Weekend Training'!$D$27:$Z$38,A72))","v":0}]
[]
[null,"PO 309 - Instruct a Lesson",null,{"$f":"SUM(COUNTIF(WeekNights!$D$27:$AV$38,A74),COUNTIF('Weekend Training'!$D$27:$Z$38,A74))","v":0}]
["M309.01","Explain Principles of Instruction",2,{"$f":"SUM(COUNTIF(WeekNights!$D$27:$AV$38,A75),COUNTIF('Weekend Training'!$D$27:$Z$38,A75))","v":2}]
["M309.02","Identify Methods of Instruction",2,{"$f":"SUM(COUNTIF(WeekNights!$D$27:$AV$38,A76),COUNTIF('Weekend Training'!$D$27:$Z$38,A76))","v":2}]
["M309.03","Describe Effective Speaking Techniques",1,{"$f":"SUM(COUNTIF(WeekNights!$D$27:$AV$38,A77),COUNTIF('Weekend Training'!$D$27:$Z$38,A77))","v":1}]
["M309.04","Describe Questioning Techniques",1,{"$f":"SUM(COUNTIF(WeekNights!$D$27:$AV$38,A78),COUNTIF('Weekend Training'!$D$27:$Z$38,A78))","v":1}]
["M309.05","Select Appropriate Instructional Aids",2,{"$f":"SUM(COUNTIF(WeekNights!$D$27:$AV$38,A79),COUNTIF('Weekend Training'!$D$27:$Z$38,A79))","v":2}]
["M309.06","Plan a Lesson",2,{"$f":"SUM(COUNTIF(WeekNights!$D$27:$AV$38,A80),COUNTIF('Weekend Training'!$D$27:$Z$38,A80))","v":2}]
["M309.07","Instruct a 15-Minute Lesson",3,{"$f":"SUM(COUNTIF(WeekNights!$D$27:$AV$38,A81),COUNTIF('Weekend Training'!$D$27:$Z$38,A81))","v":3}]
["M309.PC","Performance Check","-",{"$f":"SUM(COUNTIF(WeekNights!$D$27:$AV$38,A82),COUNTIF('Weekend Training'!$D$27:$Z$38,A82))","v":8}]
["C309.01","Deliver a One-Minute Verbal Presentation",2,{"$f":"SUM(COUNTIF(WeekNights!$D$27:$AV$38,A83),COUNTIF('Weekend Training'!$D$27:$Z$38,A83))","v":1}]
["C309.02","Plan a Lesson",2,{"$f":"SUM(COUNTIF(WeekNights!$D$27:$AV$38,A84),COUNTIF('Weekend Training'!$D$27:$Z$38,A84))","v":0}]
["C309.03","Instruct a 15-Minute Lesson",3,{"$f":"SUM(COUNTIF(WeekNights!$D$27:$AV$38,A85),COUNTIF('Weekend Training'!$D$27:$Z$38,A85))","v":0}]
["C309.04","Identify Formations for Drill Instruction",1,{"$f":"SUM(COUNTIF(WeekNights!$D$27:$AV$38,A86),COUNTIF('Weekend Training'!$D$27:$Z$38,A86))","v":1}]
["C309.05","Plan a Drill Lesson",2,{"$f":"SUM(COUNTIF(WeekNights!$D$27:$AV$38,A87),COUNTIF('Weekend Training'!$D$27:$Z$38,A87))","v":0}]
["C309.06","Instruct a 15-Minute Drill Lesson",3,{"$f":"SUM(COUNTIF(WeekNights!$D$27:$AV$38,A88),COUNTIF('Weekend Training'!$D$27:$Z$38,A88))","v":0}]
[]
[null,"PO 311 - Participate in Recreational Summer Biathlon Activities",null,{"$f":"SUM(COUNTIF(WeekNights!$D$27:$AV$38,A90),COUNTIF('Weekend Training'!$D$27:$Z$38,A90))","v":0}]
["C111.01","Participate in a Biathlon Briefing",1,{"$f":"SUM(COUNTIF(WeekNights!$D$27:$AV$38,A91),COUNTIF('Weekend Training'!$D$27:$Z$38,A91))","v":0}]
["C111.02","Run Wind Sprints",1,{"$f":"SUM(COUNTIF(WeekNights!$D$27:$AV$38,A92),COUNTIF('Weekend Training'!$D$27:$Z$38,A92))","v":0}]
["C111.03","Simulate Firing the Cadet Air Rifle Following Physical Activity",1,{"$f":"SUM(COUNTIF(WeekNights!$D$27:$AV$38,A93),COUNTIF('Weekend Training'!$D$27:$Z$38,A93))","v":0}]
["C111.04","Participate in a Recreational Summer Biathlon Activity",6,{"$f":"SUM(COUNTIF(WeekNights!$D$27:$AV$38,A94),COUNTIF('Weekend Training'!$D$27:$Z$38,A94))","v":0}]
["C211.01","Identify Civilian Biathlon Opportunities",1,{"$f":"SUM(COUNTIF(WeekNights!$D$27:$AV$38,A95),COUNTIF('Weekend Training'!$D$27:$Z$38,A95))","v":0}]
["C211.02","Run on Alternate Terrain",1,{"$f":"SUM(COUNTIF(WeekNights!$D$27:$AV$38,A96),COUNTIF('Weekend Training'!$D$27:$Z$38,A96))","v":0}]
["C211.03","Fire the Cadet Air Rifle using a Sling Following Physical Activity",1,{"$f":"SUM(COUNTIF(WeekNights!$D$27:$AV$38,A97),COUNTIF('Weekend Training'!$D$27:$Z$38,A97))","v":0}]
["C211.04","Participate in a Competitive Summer Biathlon Activity",6,{"$f":"SUM(COUNTIF(WeekNights!$D$27:$AV$38,A98),COUNTIF('Weekend Training'!$D$27:$Z$38,A98))","v":0}]
["C311.01","Practice Aiming and Firing the Cadet Air Rifle Following Physical Activity",3,{"$f":"SUM(COUNTIF(WeekNights!$D$27:$AV$38,A99),COUNTIF('Weekend Training'!$D$27:$Z$38,A99))","v":0}]
["C311.02","Participate in a Recreational Summer Biathlon Activity",6,{"$f":"SUM(COUNTIF(WeekNights!$D$27:$AV$38,A100),COUNTIF('Weekend Training'!$D$27:$Z$38,A100))","v":0}]
[]
[null,"PO X20 - Participate in Canadian Forces (CF) Familiarization Activities",null,{"$f":"SUM(COUNTIF(WeekNights!$D$27:$AV$38,A102),COUNTIF('Weekend Training'!$D$27:$Z$38,A102))","v":0}]
["MX20.01A","Participate in a CAF Activity","-",{"$f":"SUM(COUNTIF(WeekNights!$D$27:$AV$38,A103),COUNTIF('Weekend Training'!$D$27:$Z$38,A103))","v":0}]
["MX20.01B","Participate in a CAF Familiarization Tour","-",{"$f":"SUM(COUNTIF(WeekNights!$D$27:$AV$38,A104),COUNTIF('Weekend Training'!$D$27:$Z$38,A104))","v":3}]
["MX20.01C","Fire the C7 Rifle","-",{"$f":"SUM(COUNTIF(WeekNights!$D$27:$AV$38,A105),COUNTIF('Weekend Training'!$D$27:$Z$38,A105))","v":0}]
["MX20.01D","Participate in a Mess Dinner","-",{"$f":"SUM(COUNTIF(WeekNights!$D$27:$AV$38,A106),COUNTIF('Weekend Training'!$D$27:$Z$38,A106))","v":3}]
["MX20.01E","Attend a CAF Presentation","-",{"$f":"SUM(COUNTIF(WeekNights!$D$27:$AV$38,A107),COUNTIF('Weekend Training'!$D$27:$Z$38,A107))","v":0}]
["MX20.01F","Attend a CAF Commemorative Ceremony","-",{"$f":"SUM(COUNTIF(WeekNights!$D$27:$AV$38,A108),COUNTIF('Weekend Training'!$D$27:$Z$38,A108))","v":3}]
["MX20.01G","Participate in CAF Video Activities","-",{"$f":"SUM(COUNTIF(WeekNights!$D$27:$AV$38,A109),COUNTIF('Weekend Training'!$D$27:$Z$38,A109))","v":0}]
["MX20.01H","Participate in CAF Learning Stations","-",{"$f":"SUM(COUNTIF(WeekNights!$D$27:$AV$38,A110),COUNTIF('Weekend Training'!$D$27:$Z$38,A110))","v":0}]
["CX20.01","Participate in CAF Familiarization Activities 18",18,{"$f":"SUM(COUNTIF(WeekNights!$D$27:$AV$38,A111),COUNTIF('Weekend Training'!$D$27:$Z$38,A111))","v":0}]
[]
[null,"PO 321 - Rig Tackles",null,{"$f":"SUM(COUNTIF(WeekNights!$D$27:$AV$38,A113),COUNTIF('Weekend Training'!$D$27:$Z$38,A113))","v":0}]
["M321.01","Describe Safety Procedures for Operating Lifting Devices",1,{"$f":"SUM(COUNTIF(WeekNights!$D$27:$AV$38,A114),COUNTIF('Weekend Training'!$D$27:$Z$38,A114))","v":0}]
["M321.02","Rig Sheers",5,{"$f":"SUM(COUNTIF(WeekNights!$D$27:$AV$38,A115),COUNTIF('Weekend Training'!$D$27:$Z$38,A115))","v":0}]
["M321.PC","Performance Check","-",{"$f":"SUM(COUNTIF(WeekNights!$D$27:$AV$38,A116),COUNTIF('Weekend Training'!$D$27:$Z$38,A116))","v":0}]
["C121.01","Whip the End of a Line Using a West Country Whipping",1,{"$f":"SUM(COUNTIF(WeekNights!$D$27:$AV$38,A117),COUNTIF('Weekend Training'!$D$27:$Z$38,A117))","v":0}]
["C121.02","Whip the End of a Line Using a Sailmaker’s Whipping",2,{"$f":"SUM(COUNTIF(WeekNights!$D$27:$AV$38,A118),COUNTIF('Weekend Training'!$D$27:$Z$38,A118))","v":0}]
["C121.03","Complete a Rolling Hitch",1,{"$f":"SUM(COUNTIF(WeekNights!$D$27:$AV$38,A119),COUNTIF('Weekend Training'!$D$27:$Z$38,A119))","v":0}]
["C121.04","Complete a Marlin Hitch",1,{"$f":"SUM(COUNTIF(WeekNights!$D$27:$AV$38,A120),COUNTIF('Weekend Training'!$D$27:$Z$38,A120))","v":0}]
["C221.01","Make a Back Splice",2,{"$f":"SUM(COUNTIF(WeekNights!$D$27:$AV$38,A121),COUNTIF('Weekend Training'!$D$27:$Z$38,A121))","v":0}]
["C221.02","Make an Eye Splice",2,{"$f":"SUM(COUNTIF(WeekNights!$D$27:$AV$38,A122),COUNTIF('Weekend Training'!$D$27:$Z$38,A122))","v":0}]
["C221.03","Make a Long Splice",2,{"$f":"SUM(COUNTIF(WeekNights!$D$27:$AV$38,A123),COUNTIF('Weekend Training'!$D$27:$Z$38,A123))","v":0}]
["C321.01","Rig Sheers",4,{"$f":"SUM(COUNTIF(WeekNights!$D$27:$AV$38,A124),COUNTIF('Weekend Training'!$D$27:$Z$38,A124))","v":0}]
["C321.02","Rig a Standing Derrick",6,{"$f":"SUM(COUNTIF(WeekNights!$D$27:$AV$38,A125),COUNTIF('Weekend Training'!$D$27:$Z$38,A125))","v":0}]
["C321.03","Rig a Gyn",6,{"$f":"SUM(COUNTIF(WeekNights!$D$27:$AV$38,A126),COUNTIF('Weekend Training'!$D$27:$Z$38,A126))","v":0}]
["C321.04","Make a Monkey’s Fist",3,{"$f":"SUM(COUNTIF(WeekNights!$D$27:$AV$38,A127),COUNTIF('Weekend Training'!$D$27:$Z$38,A127))","v":0}]
["C321.05","Make a Turk’s Head",3,{"$f":"SUM(COUNTIF(WeekNights!$D$27:$AV$38,A128),COUNTIF('Weekend Training'!$D$27:$Z$38,A128))","v":0}]
[]
[null,"PO 323 - Serve in a Naval Environment",null,{"$f":"SUM(COUNTIF(WeekNights!$D$27:$AV$38,A130),COUNTIF('Weekend Training'!$D$27:$Z$38,A130))","v":0}]
["M323.01","Perform Corps Duties",2,{"$f":"SUM(COUNTIF(WeekNights!$D$27:$AV$38,A131),COUNTIF('Weekend Training'!$D$27:$Z$38,A131))","v":0}]
["C123.01","Read the 24-hour Clock",1,{"$f":"SUM(COUNTIF(WeekNights!$D$27:$AV$38,A132),COUNTIF('Weekend Training'!$D$27:$Z$38,A132))","v":0}]
["C123.02","Recite the Phonetic Alphabet",2,{"$f":"SUM(COUNTIF(WeekNights!$D$27:$AV$38,A133),COUNTIF('Weekend Training'!$D$27:$Z$38,A133))","v":0}]
["C223.01","Define Naval Terminology",1,{"$f":"SUM(COUNTIF(WeekNights!$D$27:$AV$38,A134),COUNTIF('Weekend Training'!$D$27:$Z$38,A134))","v":0}]
["C223.02","Pipe the Side",1,{"$f":"SUM(COUNTIF(WeekNights!$D$27:$AV$38,A135),COUNTIF('Weekend Training'!$D$27:$Z$38,A135))","v":0}]
["C323.01","Communicate Using Flags and Pennants",4,{"$f":"SUM(COUNTIF(WeekNights!$D$27:$AV$38,A136),COUNTIF('Weekend Training'!$D$27:$Z$38,A136))","v":0}]
["C323.02","Pipe Wakey Wakey",2,{"$f":"SUM(COUNTIF(WeekNights!$D$27:$AV$38,A137),COUNTIF('Weekend Training'!$D$27:$Z$38,A137))","v":0}]
["C323.03","Pipe Hands to Dinner",3,{"$f":"SUM(COUNTIF(WeekNights!$D$27:$AV$38,A138),COUNTIF('Weekend Training'!$D$27:$Z$38,A138))","v":0}]
[]
[null,"PO X24 - Sail a Sailboat IAW the Sail Canada CANSail Level 1",null,{"$f":"SUM(COUNTIF(WeekNights!$D$27:$AV$38,A140),COUNTIF('Weekend Training'!$D$27:$Z$38,A140))","v":0}]
["MX24.01","Prepare for a Sail Weekend",1,{"$f":"SUM(COUNTIF(WeekNights!$D$27:$AV$38,A141),COUNTIF('Weekend Training'!$D$27:$Z$38,A141))","v":0}]
["MX24.02","Participate in a Sail Weekend","Wkd",{"$f":"SUM(COUNTIF(WeekNights!$D$27:$AV$38,A142),COUNTIF('Weekend Training'!$D$27:$Z$38,A142))","v":0}]
["CX24.01","Prepare for a Sail Weekend 1",1,{"$f":"SUM(COUNTIF(WeekNights!$D$27:$AV$38,A143),COUNTIF('Weekend Training'!$D$27:$Z$38,A143))","v":0}]
[]
[null,"PO X25 - Participate in a Nautical Training Weekend",null,{"$f":"SUM(COUNTIF(WeekNights!$D$27:$AV$38,A145),COUNTIF('Weekend Training'!$D$27:$Z$38,A145))","v":0}]
["CX25.01","Prepare for a Nautical Training Weekend",1,{"$f":"SUM(COUNTIF(WeekNights!$D$27:$AV$38,A146),COUNTIF('Weekend Training'!$D$27:$Z$38,A146))","v":0}]
["CX25.02","Participate in a Nautical Training Weekend","Wkd",{"$f":"SUM(COUNTIF(WeekNights!$D$27:$AV$38,A147),COUNTIF('Weekend Training'!$D$27:$Z$38,A147))","v":0}]

{"sheet":"EO Val. (Phase 4)","index":18,"n_rows":147,"n_cols":4,"rows_kept":147,"hidden":true}
[null,"PHASE 4  PROGRAM - 400.00"]
["Serial","Description","# Classes","# Assigned"]
[]
[null,"PO 400 - Positive Social Relationships "]
["M400.01","Your Responsibility as a Leader to Influence Positive Social Relations",2,{"$f":"SUM(COUNTIF(WeekNights!$D$39:$AV$50,A5),COUNTIF('Weekend Training'!$D$39:$Z$51,A5))","v":2}]
["M400.02","What Complaints and Consent are and how to Practice Risk Reduction",2,{"$f":"SUM(COUNTIF(WeekNights!$D$39:$AV$50,A6),COUNTIF('Weekend Training'!$D$39:$Z$51,A6))","v":2}]
["M400.03","Your responsibility as a leader to help manage conflict",2,{"$f":"SUM(COUNTIF(WeekNights!$D$39:$AV$50,A7),COUNTIF('Weekend Training'!$D$39:$Z$51,A7))","v":2}]
[]
[null," PO X01 - Participate in Citizenship Activities",null,{"$f":"SUM(COUNTIF(WeekNights!$D$39:$AV$50,A9),COUNTIF('Weekend Training'!$D$39:$Z$51,A9))","v":0}]
["MX01.01A","Participate in a Citizenship Tour","-",{"$f":"SUM(COUNTIF(WeekNights!$D$39:$AV$50,A10),COUNTIF('Weekend Training'!$D$39:$Z$51,A10))","v":0}]
["MX01.01B","Attend a Presentation by a Community Organization","-",{"$f":"SUM(COUNTIF(WeekNights!$D$39:$AV$50,A11),COUNTIF('Weekend Training'!$D$39:$Z$51,A11))","v":0}]
["MX01.01C","Attend a Presentation by a Citizen-of-Interest","-",{"$f":"SUM(COUNTIF(WeekNights!$D$39:$AV$50,A12),COUNTIF('Weekend Training'!$D$39:$Z$51,A12))","v":0}]
["MX01.01D","Participate in the Canadian Citizenship Challenge","-",{"$f":"SUM(COUNTIF(WeekNights!$D$39:$AV$50,A13),COUNTIF('Weekend Training'!$D$39:$Z$51,A13))","v":0}]
["MX01.01E","Host a Citizenship Ceremony -","-",{"$f":"SUM(COUNTIF(WeekNights!$D$39:$AV$50,A14),COUNTIF('Weekend Training'!$D$39:$Z$51,A14))","v":0}]
["MX01.01F","Participate in an Election -","-",{"$f":"SUM(COUNTIF(WeekNights!$D$39:$AV$50,A15),COUNTIF('Weekend Training'!$D$39:$Z$51,A15))","v":0}]
["MX01.01G","Participate in Heritage Minutes Video Activities -","-",{"$f":"SUM(COUNTIF(WeekNights!$D$39:$AV$50,A16),COUNTIF('Weekend Training'!$D$39:$Z$51,A16))","v":0}]
["MX01.01H","Participate in Citizenship Learning Stations -","-",{"$f":"SUM(COUNTIF(WeekNights!$D$39:$AV$50,A17),COUNTIF('Weekend Training'!$D$39:$Z$51,A17))","v":0}]
["CX01.01","Participate in Citizenship Activities 18",18,{"$f":"SUM(COUNTIF(WeekNights!$D$39:$AV$50,A18),COUNTIF('Weekend Training'!$D$39:$Z$51,A18))","v":0}]
[]
[null," PO X02 - Perform Community Service",null,{"$f":"SUM(COUNTIF(WeekNights!$D$39:$AV$50,A20),COUNTIF('Weekend Training'!$D$39:$Z$51,A20))","v":0}]
["MX02.01","Perform Community Service",9,{"$f":"SUM(COUNTIF(WeekNights!$D$39:$AV$50,A21),COUNTIF('Weekend Training'!$D$39:$Z$51,A21))","v":9}]
["CX02.01","Perform Community Service",18,{"$f":"SUM(COUNTIF(WeekNights!$D$39:$AV$50,A22),COUNTIF('Weekend Training'!$D$39:$Z$51,A22))","v":0}]
[]
[null,"PO 403 - Act as a Team Leader",null,{"$f":"SUM(COUNTIF(WeekNights!$D$39:$AV$50,A24),COUNTIF('Weekend Training'!$D$39:$Z$51,A24))","v":0}]
["M403.01","Describe Needs and Expectations of Team Members",1,{"$f":"SUM(COUNTIF(WeekNights!$D$39:$AV$50,A25),COUNTIF('Weekend Training'!$D$39:$Z$51,A25))","v":1}]
["M403.02","Select a Leadership Approach",2,{"$f":"SUM(COUNTIF(WeekNights!$D$39:$AV$50,A26),COUNTIF('Weekend Training'!$D$39:$Z$51,A26))","v":2}]
["M403.03","Motivate Team Members",2,{"$f":"SUM(COUNTIF(WeekNights!$D$39:$AV$50,A27),COUNTIF('Weekend Training'!$D$39:$Z$51,A27))","v":2}]
["M403.04","Provide Feedback to Team Members",2,{"$f":"SUM(COUNTIF(WeekNights!$D$39:$AV$50,A28),COUNTIF('Weekend Training'!$D$39:$Z$51,A28))","v":2}]
["M403.05","Participate in a Mentoring Relationship",2,{"$f":"SUM(COUNTIF(WeekNights!$D$39:$AV$50,A29),COUNTIF('Weekend Training'!$D$39:$Z$51,A29))","v":2}]
["M403.06","Act as a Team Leader During a Leadership Appointment",1,{"$f":"SUM(COUNTIF(WeekNights!$D$39:$AV$50,A30),COUNTIF('Weekend Training'!$D$39:$Z$51,A30))","v":1}]
["M403.P1","Performance Check - Part 1","-",{"$f":"SUM(COUNTIF(WeekNights!$D$39:$AV$50,A31),COUNTIF('Weekend Training'!$D$39:$Z$51,A31))","v":0}]
["M403.P2","Performance Check - Part 2","-",{"$f":"SUM(COUNTIF(WeekNights!$D$39:$AV$50,A32),COUNTIF('Weekend Training'!$D$39:$Z$51,A32))","v":0}]
["C403.01","Self-Assess Leadership Skills",1,{"$f":"SUM(COUNTIF(WeekNights!$D$39:$AV$50,A33),COUNTIF('Weekend Training'!$D$39:$Z$51,A33))","v":0}]
["C403.02","Participate in a Leadership Seminar (4x3 periods)",12,{"$f":"SUM(COUNTIF(WeekNights!$D$39:$AV$50,A34),COUNTIF('Weekend Training'!$D$39:$Z$51,A34))","v":0}]
[]
[null,"PO X04 - Track Participation in Physical Activities",null,{"$f":"SUM(COUNTIF(WeekNights!$D$39:$AV$50,A36),COUNTIF('Weekend Training'!$D$39:$Z$51,A36))","v":0}]
["MX04.01 ","Participate in 60 Minutes of Moderate- to Vigorous-Intensity Physical Activity (MVPA) and Track Participation in Physical Activities",3,{"$f":"SUM(COUNTIF(WeekNights!$D$39:$AV$50,A37),COUNTIF('Weekend Training'!$D$39:$Z$51,A37))","v":0}]
["MX04.02 ","Identify Strategies to Improve Participation in Physical Activities and Participate in the Cadet Fitness Assessment (CFA)",3,{"$f":"SUM(COUNTIF(WeekNights!$D$39:$AV$50,A38),COUNTIF('Weekend Training'!$D$39:$Z$51,A38))","v":0}]
["MX04.03 ","Participate in the CFA and Identify Strategies for Improving Personal Physical Fitness",3,{"$f":"SUM(COUNTIF(WeekNights!$D$39:$AV$50,A39),COUNTIF('Weekend Training'!$D$39:$Z$51,A39))","v":0}]
["CX04.01 ","Participate in the CFA and Identify Strategies for Improving Personal Physical Fitness",3,{"$f":"SUM(COUNTIF(WeekNights!$D$39:$AV$50,A40),COUNTIF('Weekend Training'!$D$39:$Z$51,A40))","v":0}]
["CX04.02 ","Participate in Activities that Reinforce the Three Components of Physical Fitness",3,{"$f":"SUM(COUNTIF(WeekNights!$D$39:$AV$50,A41),COUNTIF('Weekend Training'!$D$39:$Z$51,A41))","v":0}]
["CX04.03 ","Participate in a Cooking Class",3,{"$f":"SUM(COUNTIF(WeekNights!$D$39:$AV$50,A42),COUNTIF('Weekend Training'!$D$39:$Z$51,A42))","v":0}]
["CX04.04 ","Attend a Personal Fitness and Healthy Living Presentation",3,{"$f":"SUM(COUNTIF(WeekNights!$D$39:$AV$50,A43),COUNTIF('Weekend Training'!$D$39:$Z$51,A43))","v":0}]
["CX04.05 ","Attend a Local Amateur Sporting Event",3,{"$f":"SUM(COUNTIF(WeekNights!$D$39:$AV$50,A44),COUNTIF('Weekend Training'!$D$39:$Z$51,A44))","v":0}]
[]
[null,"PO X05 - Participate in Physical Activities",null,{"$f":"SUM(COUNTIF(WeekNights!$D$39:$AV$50,A46),COUNTIF('Weekend Training'!$D$39:$Z$51,A46))","v":0}]
["MX05.01","Participate in Physical Activities",9,{"$f":"SUM(COUNTIF(WeekNights!$D$39:$AV$50,A47),COUNTIF('Weekend Training'!$D$39:$Z$51,A47))","v":6}]
["CX05.01 ","Participate in Physical Activities",9,{"$f":"SUM(COUNTIF(WeekNights!$D$39:$AV$50,A48),COUNTIF('Weekend Training'!$D$39:$Z$51,A48))","v":0}]
["CX05.02 ","Participate in a Tournament",9,{"$f":"SUM(COUNTIF(WeekNights!$D$39:$AV$50,A49),COUNTIF('Weekend Training'!$D$39:$Z$51,A49))","v":0}]
[]
[null,"PO 406 - Fire the Cadet Air Rifle During Recreational Marksmanship",null,{"$f":"SUM(COUNTIF(WeekNights!$D$39:$AV$50,A51),COUNTIF('Weekend Training'!$D$39:$Z$51,A51))","v":0}]
["M406.01","Participate in a Recreational Marksmanship Activity",3,{"$f":"SUM(COUNTIF(WeekNights!$D$39:$AV$50,A52),COUNTIF('Weekend Training'!$D$39:$Z$51,A52))","v":0}]
["C106.01","Participate in a Recreational Marksmanship Activity",6,{"$f":"SUM(COUNTIF(WeekNights!$D$39:$AV$50,A53),COUNTIF('Weekend Training'!$D$39:$Z$51,A53))","v":0}]
["C306.01","Identify Civilian Marksmanship Organizations",1,{"$f":"SUM(COUNTIF(WeekNights!$D$39:$AV$50,A54),COUNTIF('Weekend Training'!$D$39:$Z$51,A54))","v":0}]
["C306.02","Correct Marksmanship Error",2,{"$f":"SUM(COUNTIF(WeekNights!$D$39:$AV$50,A55),COUNTIF('Weekend Training'!$D$39:$Z$51,A55))","v":0}]
["C306.03","Fire the Cadet Air Rifle from the Standing Position",2,{"$f":"SUM(COUNTIF(WeekNights!$D$39:$AV$50,A56),COUNTIF('Weekend Training'!$D$39:$Z$51,A56))","v":0}]
["C406.01","Assist the Range Safety Officer (RSO)",1,{"$f":"SUM(COUNTIF(WeekNights!$D$39:$AV$50,A57),COUNTIF('Weekend Training'!$D$39:$Z$51,A57))","v":0}]
["C406.02","Score Air Rifle Marksmanship Targets",1,{"$f":"SUM(COUNTIF(WeekNights!$D$39:$AV$50,A58),COUNTIF('Weekend Training'!$D$39:$Z$51,A58))","v":0}]
[]
[null,"PO 407 - Serve in a Sea Cadet Corps",null,{"$f":"SUM(COUNTIF(WeekNights!$D$39:$AV$50,A60),COUNTIF('Weekend Training'!$D$39:$Z$51,A60))","v":0}]
["M407.01","Discuss Proficiency phase 4 Four Training Opportunities",1,{"$f":"SUM(COUNTIF(WeekNights!$D$39:$AV$50,A61),COUNTIF('Weekend Training'!$D$39:$Z$51,A61))","v":1}]
["M407.02","Identify Year Four CSTC Training Opportunities",1,{"$f":"SUM(COUNTIF(WeekNights!$D$39:$AV$50,A62),COUNTIF('Weekend Training'!$D$39:$Z$51,A62))","v":1}]
["C307.01","Participate in a Presentation Given by a Guest Speaker From the RCSU",2,{"$f":"SUM(COUNTIF(WeekNights!$D$39:$AV$50,A63),COUNTIF('Weekend Training'!$D$39:$Z$51,A63))","v":0}]
["C307.02","Participate in a Presentation Given by the Cadet Liaison Officer",2,{"$f":"SUM(COUNTIF(WeekNights!$D$39:$AV$50,A64),COUNTIF('Weekend Training'!$D$39:$Z$51,A64))","v":0}]
["C307.03","Participate in a Presentation Given by a Guest Speaker from the Sea Cadet League of Canada",2,{"$f":"SUM(COUNTIF(WeekNights!$D$39:$AV$50,A65),COUNTIF('Weekend Training'!$D$39:$Z$51,A65))","v":0}]
["C407.01","Prepare for a Merit Review Board",3,{"$f":"SUM(COUNTIF(WeekNights!$D$39:$AV$50,A66),COUNTIF('Weekend Training'!$D$39:$Z$51,A66))","v":0}]
[]
[null,"PO 408 - Command a Division on Parade",null,{"$f":"SUM(COUNTIF(WeekNights!$D$39:$AV$50,A68),COUNTIF('Weekend Training'!$D$39:$Z$51,A68))","v":0}]
["M408.01","Discuss Commanding a Division on Parade",1,{"$f":"SUM(COUNTIF(WeekNights!$D$39:$AV$50,A69),COUNTIF('Weekend Training'!$D$39:$Z$51,A69))","v":1}]
["M408.02","Identify Parade Sequence",1,{"$f":"SUM(COUNTIF(WeekNights!$D$39:$AV$50,A70),COUNTIF('Weekend Training'!$D$39:$Z$51,A70))","v":1}]
["M408.03","Command a Squad",1,{"$f":"SUM(COUNTIF(WeekNights!$D$39:$AV$50,A71),COUNTIF('Weekend Training'!$D$39:$Z$51,A71))","v":1}]
["M408.04","Inspect a Cadet on Parade",2,{"$f":"SUM(COUNTIF(WeekNights!$D$39:$AV$50,A72),COUNTIF('Weekend Training'!$D$39:$Z$51,A72))","v":2}]
["M408.PC","Performance Check","-",{"$f":"SUM(COUNTIF(WeekNights!$D$39:$AV$50,A73),COUNTIF('Weekend Training'!$D$39:$Z$51,A73))","v":0}]
["C208.01","Practice Ceremonial Drill as a Review",2,{"$f":"SUM(COUNTIF(WeekNights!$D$39:$AV$50,A74),COUNTIF('Weekend Training'!$D$39:$Z$51,A74))","v":2}]
["C208.02","Execute Drill With Arms",8,{"$f":"SUM(COUNTIF(WeekNights!$D$39:$AV$50,A75),COUNTIF('Weekend Training'!$D$39:$Z$51,A75))","v":0}]
["C308.01","Execute Flag Party Drill",4,{"$f":"SUM(COUNTIF(WeekNights!$D$39:$AV$50,A76),COUNTIF('Weekend Training'!$D$39:$Z$51,A76))","v":0}]
["C308.02","Deliver Words of Command",2,{"$f":"SUM(COUNTIF(WeekNights!$D$39:$AV$50,A77),COUNTIF('Weekend Training'!$D$39:$Z$51,A77))","v":0}]
["C308.03","Practice Voice Commands",2,{"$f":"SUM(COUNTIF(WeekNights!$D$39:$AV$50,A78),COUNTIF('Weekend Training'!$D$39:$Z$51,A78))","v":0}]
["C408.01","Discuss the History of Drill",1,{"$f":"SUM(COUNTIF(WeekNights!$D$39:$AV$50,A79),COUNTIF('Weekend Training'!$D$39:$Z$51,A79))","v":0}]
["C408.02","View a Re-Enactment That Demonstrates the Historical Use of Drill",3,{"$f":"SUM(COUNTIF(WeekNights!$D$39:$AV$50,A80),COUNTIF('Weekend Training'!$D$39:$Z$51,A80))","v":0}]
[]
[null,"PO 409 - Instruct a Lesson",null,{"$f":"SUM(COUNTIF(WeekNights!$D$39:$AV$50,A82),COUNTIF('Weekend Training'!$D$39:$Z$51,A82))","v":0}]
["M409.01","Identify Methods of Instruction",2,{"$f":"SUM(COUNTIF(WeekNights!$D$39:$AV$50,A83),COUNTIF('Weekend Training'!$D$39:$Z$51,A83))","v":2}]
["M409.02","Identify Elements of a Positive Learning Environment",2,{"$f":"SUM(COUNTIF(WeekNights!$D$39:$AV$50,A84),COUNTIF('Weekend Training'!$D$39:$Z$51,A84))","v":2}]
["M409.03","Describe Learner Needs",2,{"$f":"SUM(COUNTIF(WeekNights!$D$39:$AV$50,A85),COUNTIF('Weekend Training'!$D$39:$Z$51,A85))","v":2}]
["M409.04","Explain Assessment",1,{"$f":"SUM(COUNTIF(WeekNights!$D$39:$AV$50,A86),COUNTIF('Weekend Training'!$D$39:$Z$51,A86))","v":1}]
["M409.05","Instruct a 30-Minute Lesson",3,{"$f":"SUM(COUNTIF(WeekNights!$D$39:$AV$50,A87),COUNTIF('Weekend Training'!$D$39:$Z$51,A87))","v":3}]
["M409.PC","Performance Check",3,{"$f":"SUM(COUNTIF(WeekNights!$D$39:$AV$50,A88),COUNTIF('Weekend Training'!$D$39:$Z$51,A88))","v":0}]
["C309.04","Identify Formations for Drill Instruction",1,{"$f":"SUM(COUNTIF(WeekNights!$D$39:$AV$50,A89),COUNTIF('Weekend Training'!$D$39:$Z$51,A89))","v":0}]
["C309.05","Plan a Drill Lesson",2,{"$f":"SUM(COUNTIF(WeekNights!$D$39:$AV$50,A90),COUNTIF('Weekend Training'!$D$39:$Z$51,A90))","v":2}]
["C309.06","Instruct a 15-Minute Drill Lesson",3,{"$f":"SUM(COUNTIF(WeekNights!$D$39:$AV$50,A91),COUNTIF('Weekend Training'!$D$39:$Z$51,A91))","v":0}]
["C409.01","Plan a Lesson",2,{"$f":"SUM(COUNTIF(WeekNights!$D$39:$AV$50,A92),COUNTIF('Weekend Training'!$D$39:$Z$51,A92))","v":0}]
["C409.02","Instruct a 30-Minute Lesson",3,{"$f":"SUM(COUNTIF(WeekNights!$D$39:$AV$50,A93),COUNTIF('Weekend Training'!$D$39:$Z$51,A93))","v":0}]
["C409.03","Act as an Assistant Instructor",3,{"$f":"SUM(COUNTIF(WeekNights!$D$39:$AV$50,A94),COUNTIF('Weekend Training'!$D$39:$Z$51,A94))","v":0}]
["C409.04","Participate in a Creative Lesson- Planning Workshop",3,{"$f":"SUM(COUNTIF(WeekNights!$D$39:$AV$50,A95),COUNTIF('Weekend Training'!$D$39:$Z$51,A95))","v":0}]
["C409.05","Act as an Assistant Drill Instructor",3,{"$f":"SUM(COUNTIF(WeekNights!$D$39:$AV$50,A96),COUNTIF('Weekend Training'!$D$39:$Z$51,A96))","v":0}]
["C409.06","Instruct a 30-Minute Drill Lesson",3,{"$f":"SUM(COUNTIF(WeekNights!$D$39:$AV$50,A97),COUNTIF('Weekend Training'!$D$39:$Z$51,A97))","v":0}]
[]
[null,"PO 411 - Participate in Recreational Summer Biathlon Activities",null,{"$f":"SUM(COUNTIF(WeekNights!$D$39:$AV$50,A99),COUNTIF('Weekend Training'!$D$39:$Z$51,A99))","v":0}]
["C111.01","Participate in a Biathlon Briefing",1,{"$f":"SUM(COUNTIF(WeekNights!$D$39:$AV$50,A100),COUNTIF('Weekend Training'!$D$39:$Z$51,A100))","v":0}]
["C111.02","Run Wind Sprints",1,{"$f":"SUM(COUNTIF(WeekNights!$D$39:$AV$50,A101),COUNTIF('Weekend Training'!$D$39:$Z$51,A101))","v":0}]
["C111.03","Simulate Firing the Cadet Air Rifle Following Physical Activity",1,{"$f":"SUM(COUNTIF(WeekNights!$D$39:$AV$50,A102),COUNTIF('Weekend Training'!$D$39:$Z$51,A102))","v":0}]
["C111.04","Participate in a Recreational Summer Biathlon Activity",6,{"$f":"SUM(COUNTIF(WeekNights!$D$39:$AV$50,A103),COUNTIF('Weekend Training'!$D$39:$Z$51,A103))","v":0}]
["C211.01","Identify Civilian Biathlon Opportunities",1,{"$f":"SUM(COUNTIF(WeekNights!$D$39:$AV$50,A104),COUNTIF('Weekend Training'!$D$39:$Z$51,A104))","v":0}]
["C211.02","Run on Alternate Terrain",1,{"$f":"SUM(COUNTIF(WeekNights!$D$39:$AV$50,A105),COUNTIF('Weekend Training'!$D$39:$Z$51,A105))","v":0}]
["C211.03","Fire the Cadet Air Rifle using a Sling Following Physical Activity",1,{"$f":"SUM(COUNTIF(WeekNights!$D$39:$AV$50,A106),COUNTIF('Weekend Training'!$D$39:$Z$51,A106))","v":0}]
["C211.04","Participate in a Competitive Summer Biathlon Activity",6,{"$f":"SUM(COUNTIF(WeekNights!$D$39:$AV$50,A107),COUNTIF('Weekend Training'!$D$39:$Z$51,A107))","v":0}]
["C311.01","Practice Aiming and Firing the Cadet Air Rifle Following Physical Activity",3,{"$f":"SUM(COUNTIF(WeekNights!$D$39:$AV$50,A108),COUNTIF('Weekend Training'!$D$39:$Z$51,A108))","v":0}]
["C311.02","Participate in a Recreational Summer Biathlon Activity",6,{"$f":"SUM(COUNTIF(WeekNights!$D$39:$AV$50,A109),COUNTIF('Weekend Training'!$D$39:$Z$51,A109))","v":0}]
[]
[null,"PO X20 - Participate in Canadian Forces (CF) Familiarization Activities",null,{"$f":"SUM(COUNTIF(WeekNights!$D$39:$AV$50,A111),COUNTIF('Weekend Training'!$D$39:$Z$51,A111))","v":0}]
["MX20.01A","Participate in a CAF Activity","-",{"$f":"SUM(COUNTIF(WeekNights!$D$39:$AV$50,A112),COUNTIF('Weekend Training'!$D$39:$Z$51,A112))","v":0}]
["MX20.01B","Participate in a CAF Familiarization Tour","-",{"$f":"SUM(COUNTIF(WeekNights!$D$39:$AV$50,A113),COUNTIF('Weekend Training'!$D$39:$Z$51,A113))","v":3}]
["MX20.01C","Fire the C7 Rifle","-",{"$f":"SUM(COUNTIF(WeekNights!$D$39:$AV$50,A114),COUNTIF('Weekend Training'!$D$39:$Z$51,A114))","v":0}]
["MX20.01D","Participate in a Mess Dinner","-",{"$f":"SUM(COUNTIF(WeekNights!$D$39:$AV$50,A115),COUNTIF('Weekend Training'!$D$39:$Z$51,A115))","v":3}]
["MX20.01E","Attend a CAF Presentation","-",{"$f":"SUM(COUNTIF(WeekNights!$D$39:$AV$50,A116),COUNTIF('Weekend Training'!$D$39:$Z$51,A116))","v":0}]
["MX20.01F","Attend a CAF Commemorative Ceremony","-",{"$f":"SUM(COUNTIF(WeekNights!$D$39:$AV$50,A117),COUNTIF('Weekend Training'!$D$39:$Z$51,A117))","v":3}]
["MX20.01G","Participate in CAF Video Activities","-",{"$f":"SUM(COUNTIF(WeekNights!$D$39:$AV$50,A118),COUNTIF('Weekend Training'!$D$39:$Z$51,A118))","v":0}]
["MX20.01H","Participate in CAF Learning Stations","-",{"$f":"SUM(COUNTIF(WeekNights!$D$39:$AV$50,A119),COUNTIF('Weekend Training'!$D$39:$Z$51,A119))","v":0}]
["CX20.01","Participate in CAF Familiarization Activities 18",18,{"$f":"SUM(COUNTIF(WeekNights!$D$39:$AV$50,A120),COUNTIF('Weekend Training'!$D$39:$Z$51,A120))","v":0}]
[]
[null,"PO 421 - Perform Ropework",null,{"$f":"SUM(COUNTIF(WeekNights!$D$39:$AV$50,A122),COUNTIF('Weekend Training'!$D$39:$Z$51,A122))","v":0}]
["C421.01","Make a Boatswain’s Belt",3,{"$f":"SUM(COUNTIF(WeekNights!$D$39:$AV$50,A123),COUNTIF('Weekend Training'!$D$39:$Z$51,A123))","v":0}]
["C421.02","Make a Round Mat",3,{"$f":"SUM(COUNTIF(WeekNights!$D$39:$AV$50,A124),COUNTIF('Weekend Training'!$D$39:$Z$51,A124))","v":0}]
["C421.03","Make a Net Hammock",3,{"$f":"SUM(COUNTIF(WeekNights!$D$39:$AV$50,A125),COUNTIF('Weekend Training'!$D$39:$Z$51,A125))","v":0}]
[]
[null,"PO 422 - Perform Ropework",null,{"$f":"SUM(COUNTIF(WeekNights!$D$39:$AV$50,A127),COUNTIF('Weekend Training'!$D$39:$Z$51,A127))","v":0}]
["C422.01","Attain the Restricted Operator’s Certificate (Maritime) (ROC[M]) With Digital Selective Calling (DSC) Endorsement",16,{"$f":"SUM(COUNTIF(WeekNights!$D$39:$AV$50,A128),COUNTIF('Weekend Training'!$D$39:$Z$51,A128))","v":0}]
["C422.02","ROC Written Exam",2,{"$f":"SUM(COUNTIF(WeekNights!$D$39:$AV$50,A129),COUNTIF('Weekend Training'!$D$39:$Z$51,A129))","v":0}]
[{"$nulls":3},{"$f":"SUM(COUNTIF(WeekNights!$D$39:$AV$50,A130),COUNTIF('Weekend Training'!$D$39:$Z$51,A130))","v":0}]
[null," PO 423 - Locate a Position on a Chart",null,{"$f":"SUM(COUNTIF(WeekNights!$D$39:$AV$50,A131),COUNTIF('Weekend Training'!$D$39:$Z$51,A131))","v":0}]
["M423.01","Identify Aspects of a Chart",2,{"$f":"SUM(COUNTIF(WeekNights!$D$39:$AV$50,A132),COUNTIF('Weekend Training'!$D$39:$Z$51,A132))","v":0}]
["M423.02","Use Navigation Instruments",2,{"$f":"SUM(COUNTIF(WeekNights!$D$39:$AV$50,A133),COUNTIF('Weekend Training'!$D$39:$Z$51,A133))","v":0}]
["M423.03","Describe Latitude and Longitude",4,{"$f":"SUM(COUNTIF(WeekNights!$D$39:$AV$50,A134),COUNTIF('Weekend Training'!$D$39:$Z$51,A134))","v":0}]
["M423.04","Plot a Fix",2,{"$f":"SUM(COUNTIF(WeekNights!$D$39:$AV$50,A135),COUNTIF('Weekend Training'!$D$39:$Z$51,A135))","v":0}]
["M423.PC","Locate a Position on a Chart",2,{"$f":"SUM(COUNTIF(WeekNights!$D$39:$AV$50,A136),COUNTIF('Weekend Training'!$D$39:$Z$51,A136))","v":0}]
["C423.01","Plot a Position Using a Three-Bearing Fix",2,{"$f":"SUM(COUNTIF(WeekNights!$D$39:$AV$50,A137),COUNTIF('Weekend Training'!$D$39:$Z$51,A137))","v":0}]
["C423.02","Plot a Position Using a Horizontal-Angle Fix",2,{"$f":"SUM(COUNTIF(WeekNights!$D$39:$AV$50,A138),COUNTIF('Weekend Training'!$D$39:$Z$51,A138))","v":0}]
[]
[null," PO X24 - Sail a Sailboat IAW the Sail Canada CANSail Level 1",null,{"$f":"SUM(COUNTIF(WeekNights!$D$39:$AV$50,A140),COUNTIF('Weekend Training'!$D$39:$Z$51,A140))","v":0}]
["MX24.01","Prepare for a Sail Weekend",1,{"$f":"SUM(COUNTIF(WeekNights!$D$39:$AV$50,A141),COUNTIF('Weekend Training'!$D$39:$Z$51,A141))","v":0}]
["MX24.02","Participate in a Sail Weekend","Wkd",{"$f":"SUM(COUNTIF(WeekNights!$D$39:$AV$50,A142),COUNTIF('Weekend Training'!$D$39:$Z$51,A142))","v":0}]
["CX24.01","Prepare for a Sail Weekend 1",1,{"$f":"SUM(COUNTIF(WeekNights!$D$39:$AV$50,A143),COUNTIF('Weekend Training'!$D$39:$Z$51,A143))","v":0}]
[]
[null,"PO X24 - Participate in a Nautical Training Weekend",null,{"$f":"SUM(COUNTIF(WeekNights!$D$39:$AV$50,A145),COUNTIF('Weekend Training'!$D$39:$Z$51,A145))","v":0}]
["CX25.01","Prepare for a Nautical Training Weekend",1,{"$f":"SUM(COUNTIF(WeekNights!$D$39:$AV$50,A146),COUNTIF('Weekend Training'!$D$39:$Z$51,A146))","v":0}]
["CX25.02","Participate in a Nautical Training Weekend","Wkd",{"$f":"SUM(COUNTIF(WeekNights!$D$39:$AV$50,A147),COUNTIF('Weekend Training'!$D$39:$Z$51,A147))","v":0}]

{"sheet":"EO Val. (Phase 5)","index":19,"n_rows":45,"n_cols":4,"rows_kept":45,"hidden":true,"merged":[[0,0,0,3],[2,0,2,3],[7,0,7,3],[11,0,11,3],[19,0,19,3],[24,0,24,3],[30,0,30,3],[34,0,34,3],[37,0,37,3]]}
["PHASE 5  PROGRAM"]
["Serial","Description","# Classes","# Assigned"]
["PO 501 - Explain Global Citizenship"]
["M501.01","Define Global Citizenship",2,{"$f":"SUM(COUNTIF(WeekNights!$D$39:$AV$50,A4),COUNTIF('Weekend Training'!$D$39:$Z$51,A4))","v":0}]
["C501.01","Reflect Upon Individual Global Citizenship",3,{"$f":"SUM(COUNTIF(WeekNights!$D$39:$AV$50,A5),COUNTIF('Weekend Training'!$D$39:$Z$51,A5))","v":0}]
["C501.02","Analyze a Global Issue",3,{"$f":"SUM(COUNTIF(WeekNights!$D$39:$AV$50,A6),COUNTIF('Weekend Training'!$D$39:$Z$51,A6))","v":0}]
[]
["PO 502 - Perform Community Service"]
["C502.01","Perform 45 Hours of Individual Community Service",3,{"$f":"SUM(COUNTIF(WeekNights!$D$39:$AV$50,A9),COUNTIF('Weekend Training'!$D$39:$Z$51,A9))","v":0}]
["C502.PC","Performance Check",0,{"$f":"SUM(COUNTIF(WeekNights!$D$39:$AV$50,A10),COUNTIF('Weekend Training'!$D$39:$Z$51,A10))","v":0}]
[]
["PO 503 - Lead Cadet Activities"]
["M503.01","Create a Proposal",1,{"$f":"SUM(COUNTIF(WeekNights!$D$39:$AV$50,A13),COUNTIF('Weekend Training'!$D$39:$Z$51,A13))","v":0}]
["M503.02","Prepare an Exercise",3,{"$f":"SUM(COUNTIF(WeekNights!$D$39:$AV$50,A14),COUNTIF('Weekend Training'!$D$39:$Z$51,A14))","v":0}]
["M503.03","Conduct an Exercise",1,{"$f":"SUM(COUNTIF(WeekNights!$D$39:$AV$50,A15),COUNTIF('Weekend Training'!$D$39:$Z$51,A15))","v":0}]
["M503.04","Conclude and Exercise",1,{"$f":"SUM(COUNTIF(WeekNights!$D$39:$AV$50,A16),COUNTIF('Weekend Training'!$D$39:$Z$51,A16))","v":0}]
["M503.PC","Performance Check","-",{"$f":"SUM(COUNTIF(WeekNights!$D$39:$AV$50,A17),COUNTIF('Weekend Training'!$D$39:$Z$51,A17))","v":0}]
["C503.01","Examine Meeting Procedures",3,{"$f":"SUM(COUNTIF(WeekNights!$D$39:$AV$50,A18),COUNTIF('Weekend Training'!$D$39:$Z$51,A18))","v":0}]
[]
["PO 504 - Track Participation in Physical Activities"]
["M504.01","Participate in the Cadet Fitness Assessment and Identify Strategies for Improving Personal Physical Fitness",2,{"$f":"SUM(COUNTIF(WeekNights!$D$39:$AV$50,A21),COUNTIF('Weekend Training'!$D$39:$Z$51,A21))","v":0}]
["M504.PC","Update Personal Activity Plan",0,{"$f":"SUM(COUNTIF(WeekNights!$D$39:$AV$50,A22),COUNTIF('Weekend Training'!$D$39:$Z$51,A22))","v":0}]
["C504.01","Reflect Upon Personal Fitness and Healthy Living",3,{"$f":"SUM(COUNTIF(WeekNights!$D$39:$AV$50,A23),COUNTIF('Weekend Training'!$D$39:$Z$51,A23))","v":0}]
[{"$nulls":3},{"$f":"SUM(COUNTIF(WeekNights!$D$39:$AV$50,A24),COUNTIF('Weekend Training'!$D$39:$Z$51,A24))","v":0}]
["PO 507 - Serve in an Cadet Unit"]
["M507.01","Develop a Personalized Schedule",3,{"$f":"SUM(COUNTIF(WeekNights!$D$39:$AV$50,A26),COUNTIF('Weekend Training'!$D$39:$Z$51,A26))","v":0}]
["C507.01","Identify Service Opportunities for a Cadet Instructors Cadre (CIC) Officer",3,{"$f":"SUM(COUNTIF(WeekNights!$D$39:$AV$50,A27),COUNTIF('Weekend Training'!$D$39:$Z$51,A27))","v":0}]
["C507.02","Identify Volunteer Opportunities with the Army Cadet League of Canada (ACLC)",3,{"$f":"SUM(COUNTIF(WeekNights!$D$39:$AV$50,A28),COUNTIF('Weekend Training'!$D$39:$Z$51,A28))","v":0}]
["C507.03","Reflect Upon Cadet Experience",3,{"$f":"SUM(COUNTIF(WeekNights!$D$39:$AV$50,A29),COUNTIF('Weekend Training'!$D$39:$Z$51,A29))","v":0}]
[]
["PO 509 - Instruct Cadets"]
["M509.PC","Performance Check",0,{"$f":"SUM(COUNTIF(WeekNights!$D$39:$AV$50,A32),COUNTIF('Weekend Training'!$D$39:$Z$51,A32))","v":0}]
["C509.01","Monitor Instruction",3,{"$f":"SUM(COUNTIF(WeekNights!$D$39:$AV$50,A33),COUNTIF('Weekend Training'!$D$39:$Z$51,A33))","v":0}]
[]
["PO 513 - Attend Workshops"]
["M513.PC","Performance Check",0,{"$f":"SUM(COUNTIF(WeekNights!$D$39:$AV$50,A36),COUNTIF('Weekend Training'!$D$39:$Z$51,A36))","v":0}]
[]
["PO 514 - Pursue Individual Learning"]
["M514.PC","Performance Check",0,{"$f":"SUM(COUNTIF(WeekNights!$D$39:$AV$50,A39),COUNTIF('Weekend Training'!$D$39:$Z$51,A39))","v":0}]
[]
["NOTES:"]
[1,"Lessons assigned 0 formal periods are designated as either self-study or On the Job Training"]
[2,"All sixteen periods of mandatory training are to be conducted within a two year period"]
[3,"Nine periods of complimentary training are to be conducted within a two year period"]
[4,"Cadets must maintain a log book to track their training progression, to be regularly reviewed"]

{"sheet":"EO Val. (Lvl 1)","index":20,"n_rows":162,"n_cols":4,"rows_kept":162}
[null,"LEVEL 1 PROGRAM \n(A-CR-CCP-801/PG-001 - Chapter 2, Annex A)"]
["Serial","Description","# Classes","# Assigned"]
[]
[null,"PO 100 - Positive Social Relationships "]
["M100.01","What We Expect From You as a Cadet",2,{"$f":"SUM(COUNTIF(WeekNights!$D$3:$AV$14,A5),COUNTIF('Weekend Training'!$D$4:$Y$15,A5))","v":2}]
["M100.02","What Can Happen When Behaviours Exceed or Do Not Meet Expectations",1,{"$f":"SUM(COUNTIF(WeekNights!$D$3:$AV$14,A6),COUNTIF('Weekend Training'!$D$4:$Y$15,A6))","v":1}]
["M100.03","What Harassment, Criminal Offences and Child Abuse Are and Where You Can Go for Help",1,{"$f":"SUM(COUNTIF(WeekNights!$D$3:$AV$14,A7),COUNTIF('Weekend Training'!$D$4:$Y$15,A7))","v":1}]
["M100.04","What Conflict Is and How You Can Deal With It",2,{"$f":"SUM(COUNTIF(WeekNights!$D$3:$AV$14,A8),COUNTIF('Weekend Training'!$D$4:$Y$15,A8))","v":2}]
[]
[null,"PO X01 - Participate in Citizenship Activities"]
["MX01.01A","Participate in a Citizenship Tour","-",{"$f":"SUM(COUNTIF(WeekNights!$D$3:$AV$14,A11),COUNTIF('Weekend Training'!$D$4:$Y$15,A11))","v":0}]
["MX01.01B","Attend a Presentation by a Community Organization","-",{"$f":"SUM(COUNTIF(WeekNights!$D$3:$AV$14,A12),COUNTIF('Weekend Training'!$D$4:$Y$15,A12))","v":0}]
["MX01.01C","Attend a Presentation by a Citizen-of-Interest","-",{"$f":"SUM(COUNTIF(WeekNights!$D$3:$AV$14,A13),COUNTIF('Weekend Training'!$D$4:$Y$15,A13))","v":0}]
["MX01.01D","Participate in the Canadian Citizenship Challenge","-",{"$f":"SUM(COUNTIF(WeekNights!$D$3:$AV$14,A14),COUNTIF('Weekend Training'!$D$4:$Y$15,A14))","v":0}]
["MX01.01E","Host a Citizenship Ceremony -","-",{"$f":"SUM(COUNTIF(WeekNights!$D$3:$AV$14,A15),COUNTIF('Weekend Training'!$D$4:$Y$15,A15))","v":0}]
["MX01.01F","Participate in an Election -","-",{"$f":"SUM(COUNTIF(WeekNights!$D$3:$AV$14,A16),COUNTIF('Weekend Training'!$D$4:$Y$15,A16))","v":0}]
["MX01.01G","Participate in Heritage Minutes Video Activities -","-",{"$f":"SUM(COUNTIF(WeekNights!$D$3:$AV$14,A17),COUNTIF('Weekend Training'!$D$4:$Y$15,A17))","v":0}]
["MX01.01H","Participate in Citizenship Learning Stations -","-",{"$f":"SUM(COUNTIF(WeekNights!$D$3:$AV$14,A18),COUNTIF('Weekend Training'!$D$4:$Y$15,A18))","v":0}]
[null,"Minimum of 3 Classes for Mand Purpose, and up to 18 as Comp purpose. Total Between 3 and 21 Req.",3,{"$f":"SUM(D11:D18)","v":0}]
[]
[null,"PO X02 - Perform Community Service"]
["MX02.01","Perform Community Service",9,{"$f":"SUM(COUNTIF(WeekNights!$D$3:$AV$14,A22),COUNTIF('Weekend Training'!$D$4:$Y$15,A22))","v":9}]
["CX02.01","Perform Community Service",18,{"$f":"SUM(COUNTIF(WeekNights!$D$3:$AV$14,A23),COUNTIF('Weekend Training'!$D$4:$Y$15,A23))","v":0}]
[]
[null,"PO 103 - Leadership"]
["M103.01","Identify the Responsibilities of a Follower in a Team",1,{"$f":"SUM(COUNTIF(WeekNights!$D$3:$AV$14,A26),COUNTIF('Weekend Training'!$D$4:$Y$15,A26))","v":1}]
["M103.02","Map Personal Goals for the Training Year",1,{"$f":"SUM(COUNTIF(WeekNights!$D$3:$AV$14,A27),COUNTIF('Weekend Training'!$D$4:$Y$15,A27))","v":1}]
["M103.03","Participate in Teambuilding Activities",2,{"$f":"SUM(COUNTIF(WeekNights!$D$3:$AV$14,A28),COUNTIF('Weekend Training'!$D$4:$Y$15,A28))","v":2}]
["C103.01","Participate in Icebreaker Activities",1,{"$f":"SUM(COUNTIF(WeekNights!$D$3:$AV$14,A29),COUNTIF('Weekend Training'!$D$4:$Y$15,A29))","v":0}]
["C103.02","Participate in Self-Introductions",1,{"$f":"SUM(COUNTIF(WeekNights!$D$3:$AV$14,A30),COUNTIF('Weekend Training'!$D$4:$Y$15,A30))","v":0}]
["C103.03","Participate in Teambuilding Activities",1,{"$f":"SUM(COUNTIF(WeekNights!$D$3:$AV$14,A31),COUNTIF('Weekend Training'!$D$4:$Y$15,A31))","v":0}]
[]
[null,"PO X04 - Track Participation in Physical Activities"]
["MX04.01","Participate in 60 Minutes of Moderate- to Vigorous-Intensity Physical Activity (MVPA) and Track Participation in Physical Activities",3,{"$f":"SUM(COUNTIF(WeekNights!$D$3:$AV$14,A34),COUNTIF('Weekend Training'!$D$4:$Y$15,A34))","v":0}]
["MX04.02","Identify Strategies to Improve Participation in Physical Activities and Participate in the Cadet Fitness Assessment (CFA)",3,{"$f":"SUM(COUNTIF(WeekNights!$D$3:$AV$14,A35),COUNTIF('Weekend Training'!$D$4:$Y$15,A35))","v":0}]
["MX04.03","Participate in the CFA and Identify Strategies for Improving Personal Physical Fitness",3,{"$f":"SUM(COUNTIF(WeekNights!$D$3:$AV$14,A36),COUNTIF('Weekend Training'!$D$4:$Y$15,A36))","v":3}]
["CX04.01","Participate in the CFA and Identify Strategies for Improving Personal Physical Fitness",3,{"$f":"SUM(COUNTIF(WeekNights!$D$3:$AV$14,A37),COUNTIF('Weekend Training'!$D$4:$Y$15,A37))","v":0}]
["CX04.02","Participate in Activities that Reinforce the Three Components of Physical Fitness",3,{"$f":"SUM(COUNTIF(WeekNights!$D$3:$AV$14,A38),COUNTIF('Weekend Training'!$D$4:$Y$15,A38))","v":0}]
["CX04.03","Participate in a Cooking Class",3,{"$f":"SUM(COUNTIF(WeekNights!$D$3:$AV$14,A39),COUNTIF('Weekend Training'!$D$4:$Y$15,A39))","v":0}]
["CX04.04","Attend a Personal Fitness and Healthy Living Presentation",3,{"$f":"SUM(COUNTIF(WeekNights!$D$3:$AV$14,A40),COUNTIF('Weekend Training'!$D$4:$Y$15,A40))","v":2}]
["CX04.05","Attend a Local Amateur Sporting Event",3,{"$f":"SUM(COUNTIF(WeekNights!$D$3:$AV$14,A41),COUNTIF('Weekend Training'!$D$4:$Y$15,A41))","v":0}]
[]
[null,"PO X05 - Participate in Physical Activities"]
["MX05.01","Participate in Physical Activities",9,{"$f":"SUM(COUNTIF(WeekNights!$D$3:$AV$14,A44),COUNTIF('Weekend Training'!$D$4:$Y$15,A44))","v":6}]
["CX05.01","Participate in Physical Activities",9,{"$f":"SUM(COUNTIF(WeekNights!$D$3:$AV$14,A45),COUNTIF('Weekend Training'!$D$4:$Y$15,A45))","v":0}]
["CX05.02","Participate in a Tournament",9,{"$f":"SUM(COUNTIF(WeekNights!$D$3:$AV$14,A46),COUNTIF('Weekend Training'!$D$4:$Y$15,A46))","v":0}]
[]
[null,"PO M106 - Fire the Cadet Air Rifle"]
["M106.01","Identify the Parts and Characteristics of the Daisy 853C Air Rifle",1,{"$f":"SUM(COUNTIF(WeekNights!$D$3:$AV$14,A49),COUNTIF('Weekend Training'!$D$4:$Y$15,A49))","v":1}]
["M106.02","Carry out Safety Precautions on the Cadet Air Rifle",1,{"$f":"SUM(COUNTIF(WeekNights!$D$3:$AV$14,A50),COUNTIF('Weekend Training'!$D$4:$Y$15,A50))","v":1}]
["M106.03","Apply Basic Marksmanship Techniques",2,{"$f":"SUM(COUNTIF(WeekNights!$D$3:$AV$14,A51),COUNTIF('Weekend Training'!$D$4:$Y$15,A51))","v":2}]
["M106.04","Follow Rules and Commands on an Air Rifle Range",1,{"$f":"SUM(COUNTIF(WeekNights!$D$3:$AV$14,A52),COUNTIF('Weekend Training'!$D$4:$Y$15,A52))","v":1}]
["M106.05","Participate in Marksmanship Familiarization Using the Cadet Air Rifle",3,{"$f":"SUM(COUNTIF(WeekNights!$D$3:$AV$14,A53),COUNTIF('Weekend Training'!$D$4:$Y$15,A53))","v":0}]
["C106.01","Participate in a Recreational Marksmanship Activity",6,{"$f":"SUM(COUNTIF(WeekNights!$D$3:$AV$14,A54),COUNTIF('Weekend Training'!$D$4:$Y$15,A54))","v":0}]
["C106.02","Clean and Store the Cadet Air Rifle",1,{"$f":"SUM(COUNTIF(WeekNights!$D$3:$AV$14,A55),COUNTIF('Weekend Training'!$D$4:$Y$15,A55))","v":0}]
[]
[null,"PO 107 - Serve in an Air Cadet Corp"]
["M107.01","Discuss Year One Training 1",1,{"$f":"SUM(COUNTIF(WeekNights!$D$3:$AV$14,A58),COUNTIF('Weekend Training'!$D$4:$Y$15,A58))","v":1}]
["M107.02","Identify Air Cadet and air Officer Ranks 1",1,{"$f":"SUM(COUNTIF(WeekNights!$D$3:$AV$14,A59),COUNTIF('Weekend Training'!$D$4:$Y$15,A59))","v":1}]
["M107.03","Observe Rules and Procedures for the Paying of Compliments 1",1,{"$f":"SUM(COUNTIF(WeekNights!$D$3:$AV$14,A60),COUNTIF('Weekend Training'!$D$4:$Y$15,A60))","v":1}]
["M107.04","State the Aim and Motto of the Air Cadet Program 1",1,{"$f":"SUM(COUNTIF(WeekNights!$D$3:$AV$14,A61),COUNTIF('Weekend Training'!$D$4:$Y$15,A61))","v":1}]
["M107.05","Wear the Air Cadet Uniform 2",2,{"$f":"SUM(COUNTIF(WeekNights!$D$3:$AV$14,A62),COUNTIF('Weekend Training'!$D$4:$Y$15,A62))","v":2}]
["M107.06","Discuss Summer Training Opportunities 1",1,{"$f":"SUM(COUNTIF(WeekNights!$D$3:$AV$14,A63),COUNTIF('Weekend Training'!$D$4:$Y$15,A63))","v":1}]
["C107.01","Maintain the Air Cadet Uniform 2",2,{"$f":"SUM(COUNTIF(WeekNights!$D$3:$AV$14,A64),COUNTIF('Weekend Training'!$D$4:$Y$15,A64))","v":2}]
["C107.02","Participate in a Tour of the Corps 1",1,{"$f":"SUM(COUNTIF(WeekNights!$D$3:$AV$14,A65),COUNTIF('Weekend Training'!$D$4:$Y$15,A65))","v":1}]
["C107.03","Participate in an Activity about the History of the Corps 1",2,{"$f":"SUM(COUNTIF(WeekNights!$D$3:$AV$14,A66),COUNTIF('Weekend Training'!$D$4:$Y$15,A66))","v":0}]
[]
[null,"PO 108 - Perform Drill Movements During an Annual Ceremonial Review"]
["M108.01","Adopt the Positions of Attention, Stand at Ease, and Stand Easy",1,{"$f":"SUM(COUNTIF(WeekNights!$D$3:$AV$14,A69),COUNTIF('Weekend Training'!$D$4:$Y$15,A69))","v":1}]
["M108.02","Execute a Salute at the Halt Without Arms",1,{"$f":"SUM(COUNTIF(WeekNights!$D$3:$AV$14,A70),COUNTIF('Weekend Training'!$D$4:$Y$15,A70))","v":1}]
["M108.03","Execute Turns at the Halt",1,{"$f":"SUM(COUNTIF(WeekNights!$D$3:$AV$14,A71),COUNTIF('Weekend Training'!$D$4:$Y$15,A71))","v":1}]
["M108.04","Close to the Right and Left",1,{"$f":"SUM(COUNTIF(WeekNights!$D$3:$AV$14,A72),COUNTIF('Weekend Training'!$D$4:$Y$15,A72))","v":1}]
["M108.05","Execute Paces Forward and to the Rear",1,{"$f":"SUM(COUNTIF(WeekNights!$D$3:$AV$14,A73),COUNTIF('Weekend Training'!$D$4:$Y$15,A73))","v":1}]
["M108.06","Execute the Movements Required for a Right Dress",1,{"$f":"SUM(COUNTIF(WeekNights!$D$3:$AV$14,A74),COUNTIF('Weekend Training'!$D$4:$Y$15,A74))","v":1}]
["M108.07","Execute an Open Order and Close Order March",1,{"$f":"SUM(COUNTIF(WeekNights!$D$3:$AV$14,A75),COUNTIF('Weekend Training'!$D$4:$Y$15,A75))","v":1}]
["M108.08","March and Halt in Quick Time",1,{"$f":"SUM(COUNTIF(WeekNights!$D$3:$AV$14,A76),COUNTIF('Weekend Training'!$D$4:$Y$15,A76))","v":1}]
["M108.09","Execute Marking Time, Forward, and Halting in Quick Time",1,{"$f":"SUM(COUNTIF(WeekNights!$D$3:$AV$14,A77),COUNTIF('Weekend Training'!$D$4:$Y$15,A77))","v":1}]
["M108.10","Execute a Salute on the March",1,{"$f":"SUM(COUNTIF(WeekNights!$D$3:$AV$14,A78),COUNTIF('Weekend Training'!$D$4:$Y$15,A78))","v":1}]
["M108.11","Pay Compliments with a Squad on the March",1,{"$f":"SUM(COUNTIF(WeekNights!$D$3:$AV$14,A79),COUNTIF('Weekend Training'!$D$4:$Y$15,A79))","v":1}]
["M108.12","Perform Drill Movements During Annual Ceremonial Review",3,{"$f":"SUM(COUNTIF(WeekNights!$D$3:$AV$14,A80),COUNTIF('Weekend Training'!$D$4:$Y$15,A80))","v":3}]
["C108.01","Execute Supplementary Drill Movements",6,{"$f":"SUM(COUNTIF(WeekNights!$D$3:$AV$14,A81),COUNTIF('Weekend Training'!$D$4:$Y$15,A81))","v":0}]
["C108.02","Participate in a Drill Competition",3,{"$f":"SUM(COUNTIF(WeekNights!$D$3:$AV$14,A82),COUNTIF('Weekend Training'!$D$4:$Y$15,A82))","v":0}]
[]
[null,"PO 111 - Biathlon Famil"]
["C111.01","Participate in a Biathlon Briefing",1,{"$f":"SUM(COUNTIF(WeekNights!$D$3:$AV$14,A85),COUNTIF('Weekend Training'!$D$4:$Y$15,A85))","v":0}]
["C111.02","Run Wind Sprints",1,{"$f":"SUM(COUNTIF(WeekNights!$D$3:$AV$14,A86),COUNTIF('Weekend Training'!$D$4:$Y$15,A86))","v":0}]
["C111.03","Simulate Firing the Cadet Air Rifle Following Physical Activity",1,{"$f":"SUM(COUNTIF(WeekNights!$D$3:$AV$14,A87),COUNTIF('Weekend Training'!$D$4:$Y$15,A87))","v":0}]
["C111.04","Participate in a Recreational Summer Biathlon Activity",6,{"$f":"SUM(COUNTIF(WeekNights!$D$3:$AV$14,A88),COUNTIF('Weekend Training'!$D$4:$Y$15,A88))","v":0}]
[]
[null,"PO X20 - Participate in Canadian Forces (CF) Familiarization Activities"]
["MX20.01A","Participate in a CAF Activity","-",{"$f":"SUM(COUNTIF(WeekNights!$D$3:$AV$14,A91),COUNTIF('Weekend Training'!$D$4:$Y$15,A91))","v":0}]
["MX20.01B","Participate in a CAF Familiarization Tour","-",{"$f":"SUM(COUNTIF(WeekNights!$D$3:$AV$14,A92),COUNTIF('Weekend Training'!$D$4:$Y$15,A92))","v":3}]
["MX20.01C","Fire the C7 Rifle","-",{"$f":"SUM(COUNTIF(WeekNights!$D$3:$AV$14,A93),COUNTIF('Weekend Training'!$D$4:$Y$15,A93))","v":0}]
["MX20.01D","Participate in a Mess Dinner","-",{"$f":"SUM(COUNTIF(WeekNights!$D$3:$AV$14,A94),COUNTIF('Weekend Training'!$D$4:$Y$15,A94))","v":3}]
["MX20.01E","Attend a CAF Presentation","-",{"$f":"SUM(COUNTIF(WeekNights!$D$3:$AV$14,A95),COUNTIF('Weekend Training'!$D$4:$Y$15,A95))","v":0}]
["MX20.01F","Attend a CAF Commemorative Ceremony","-",{"$f":"SUM(COUNTIF(WeekNights!$D$3:$AV$14,A96),COUNTIF('Weekend Training'!$D$4:$Y$15,A96))","v":3}]
["MX20.01G","Participate in CAF Video Activities","-",{"$f":"SUM(COUNTIF(WeekNights!$D$3:$AV$14,A97),COUNTIF('Weekend Training'!$D$4:$Y$15,A97))","v":0}]
["MX20.01H","Participate in CAF Learning Stations","-",{"$f":"SUM(COUNTIF(WeekNights!$D$3:$AV$14,A98),COUNTIF('Weekend Training'!$D$4:$Y$15,A98))","v":0}]
[null,"Minimum of 3 Classes for Mand Purpose, and up to 18 as Comp purpose. Total Between 6 and 21 Req.",6,{"$f":"SUM(D91:D98)","v":9}]
[]
[null,"Aerospace Famil"]
["M121.01","Discuss Aviation Opportunities",1,{"$f":"SUM(COUNTIF(WeekNights!$D$3:$AV$14,A102),COUNTIF('Weekend Training'!$D$4:$Y$15,A102))","v":1}]
["C121.01","Participate in a Presentation Given by a Member of the Canadian Aviation, Aerospace or Aerodrome Operations Community",8,{"$f":"SUM(COUNTIF(WeekNights!$D$3:$AV$14,A103),COUNTIF('Weekend Training'!$D$4:$Y$15,A103))","v":0}]
[]
[null,"Radio Communication"]
["M129.01","Recite the Phonetic Alphabet and Numbers",1,{"$f":"SUM(COUNTIF(WeekNights!$D$3:$AV$14,A106),COUNTIF('Weekend Training'!$D$4:$Y$15,A106))","v":1}]
[]
[null,"Participate in Aviation Activities"]
["M130.01","Identify Aircraft as Military, Civilian and Cadet",2,{"$f":"SUM(COUNTIF(WeekNights!$D$3:$AV$14,A109),COUNTIF('Weekend Training'!$D$4:$Y$15,A109))","v":2}]
["M130.02","Describe the Main Components of an Airplane",1,{"$f":"SUM(COUNTIF(WeekNights!$D$3:$AV$14,A110),COUNTIF('Weekend Training'!$D$4:$Y$15,A110))","v":1}]
["M130.03","Construct a Model Airplane",2,{"$f":"SUM(COUNTIF(WeekNights!$D$3:$AV$14,A111),COUNTIF('Weekend Training'!$D$4:$Y$15,A111))","v":2}]
["M130.04","Watch On Canadian Wings Video",1,{"$f":"SUM(COUNTIF(WeekNights!$D$3:$AV$14,A112),COUNTIF('Weekend Training'!$D$4:$Y$15,A112))","v":1}]
["C130.01","Participate in a Walk-Around Aircraft Inspection",1,{"$f":"SUM(COUNTIF(WeekNights!$D$3:$AV$14,A113),COUNTIF('Weekend Training'!$D$4:$Y$15,A113))","v":1}]
["C130.02","Identify International Aircraft",1,{"$f":"SUM(COUNTIF(WeekNights!$D$3:$AV$14,A114),COUNTIF('Weekend Training'!$D$4:$Y$15,A114))","v":0}]
["C130.03","Watch On Canadian Wings Video",8,{"$f":"SUM(COUNTIF(WeekNights!$D$3:$AV$14,A115),COUNTIF('Weekend Training'!$D$4:$Y$15,A115))","v":0}]
["C130.04","Tour a Local Aviation Museum",3,{"$f":"SUM(COUNTIF(WeekNights!$D$3:$AV$14,A116),COUNTIF('Weekend Training'!$D$4:$Y$15,A116))","v":0}]
["C130.05","Attend a Local Air Show",6,{"$f":"SUM(COUNTIF(WeekNights!$D$3:$AV$14,A117),COUNTIF('Weekend Training'!$D$4:$Y$15,A117))","v":0}]
[]
[null,"Participate in Aerospace Activities "]
["M140.01","Launch a Water Rocket",3,{"$f":"SUM(COUNTIF(WeekNights!$D$3:$AV$14,A120),COUNTIF('Weekend Training'!$D$4:$Y$15,A120))","v":0}]
["C140.01","Launch a Foam Rocket",2,{"$f":"SUM(COUNTIF(WeekNights!$D$3:$AV$14,A121),COUNTIF('Weekend Training'!$D$4:$Y$15,A121))","v":0}]
["C140.02","Discuss Sleep Patterns in Space",2,{"$f":"SUM(COUNTIF(WeekNights!$D$3:$AV$14,A122),COUNTIF('Weekend Training'!$D$4:$Y$15,A122))","v":2}]
[]
[null,"Aerodrome Ops"]
["M160.01","Identify Major Aerodrome Components",1,{"$f":"SUM(COUNTIF(WeekNights!$D$3:$AV$14,A125),COUNTIF('Weekend Training'!$D$4:$Y$15,A125))","v":1}]
["M160.02","Identify Features of a Runway",1,{"$f":"SUM(COUNTIF(WeekNights!$D$3:$AV$14,A126),COUNTIF('Weekend Training'!$D$4:$Y$15,A126))","v":1}]
["M160.03","Construct a Model Aerodrome",2,{"$f":"SUM(COUNTIF(WeekNights!$D$3:$AV$14,A127),COUNTIF('Weekend Training'!$D$4:$Y$15,A127))","v":2}]
["C160.01","Tour a Local Aerodrome",3,{"$f":"SUM(COUNTIF(WeekNights!$D$3:$AV$14,A128),COUNTIF('Weekend Training'!$D$4:$Y$15,A128))","v":0}]
[]
[null,"Aircraft Man & Maint"]
["C170.01","Watch How It’s Made Segments",2,{"$f":"SUM(COUNTIF(WeekNights!$D$3:$AV$14,A131),COUNTIF('Weekend Training'!$D$4:$Y$15,A131))","v":2}]
["C170.02","Tour a Local Aviation Maintenance Facility",3,{"$f":"SUM(COUNTIF(WeekNights!$D$3:$AV$14,A132),COUNTIF('Weekend Training'!$D$4:$Y$15,A132))","v":0}]
[]
[null,"Aircrew Survival"]
["M190.01","Pack Personal Equipment for a Field Exercise",2,{"$f":"SUM(COUNTIF(WeekNights!$D$3:$AV$14,A135),COUNTIF('Weekend Training'!$D$4:$Y$15,A135))","v":2}]
["M190.02","Maintain Personal Equipment and Hygiene in the Field",1,{"$f":"SUM(COUNTIF(WeekNights!$D$3:$AV$14,A136),COUNTIF('Weekend Training'!$D$4:$Y$15,A136))","v":1}]
["M190.03","Observe Site Policies and Procedures",2,{"$f":"SUM(COUNTIF(WeekNights!$D$3:$AV$14,A137),COUNTIF('Weekend Training'!$D$4:$Y$15,A137))","v":2}]
["M190.04","Discuss Survival Psychology",2,{"$f":"SUM(COUNTIF(WeekNights!$D$3:$AV$14,A138),COUNTIF('Weekend Training'!$D$4:$Y$15,A138))","v":4}]
["M190.05","Identify Types of Shelters",1,{"$f":"SUM(COUNTIF(WeekNights!$D$3:$AV$14,A139),COUNTIF('Weekend Training'!$D$4:$Y$15,A139))","v":1}]
["M190.06","Light, Maintain and Extinguish a Fire",3,{"$f":"SUM(COUNTIF(WeekNights!$D$3:$AV$14,A140),COUNTIF('Weekend Training'!$D$4:$Y$15,A140))","v":3}]
["M190.07","Erect, Tear Down and Pack Tents",3,{"$f":"SUM(COUNTIF(WeekNights!$D$3:$AV$14,A141),COUNTIF('Weekend Training'!$D$4:$Y$15,A141))","v":3}]
["C190.01","Participate in a Presentation Given by a Member of a Survival Organization / Search and Rescue (SAR) ",2,{"$f":"SUM(COUNTIF(WeekNights!$D$3:$AV$14,A142),COUNTIF('Weekend Training'!$D$4:$Y$15,A142))","v":0}]
["C190.02","Tie Knots and Lashings",2,{"$f":"SUM(COUNTIF(WeekNights!$D$3:$AV$14,A143),COUNTIF('Weekend Training'!$D$4:$Y$15,A143))","v":2}]
["C190.03","Construct a Hootchie-Style Shelter",3,{"$f":"SUM(COUNTIF(WeekNights!$D$3:$AV$14,A144),COUNTIF('Weekend Training'!$D$4:$Y$15,A144))","v":0}]
["C190.04","Collect Drinking Water in the Field",2,{"$f":"SUM(COUNTIF(WeekNights!$D$3:$AV$14,A145),COUNTIF('Weekend Training'!$D$4:$Y$15,A145))","v":2}]
["C190.05","Identify Environmental Injuries",1,{"$f":"SUM(COUNTIF(WeekNights!$D$3:$AV$14,A146),COUNTIF('Weekend Training'!$D$4:$Y$15,A146))","v":1}]
["C190.06","Respect the Environment in the Field",1,{"$f":"SUM(COUNTIF(WeekNights!$D$3:$AV$14,A147),COUNTIF('Weekend Training'!$D$4:$Y$15,A147))","v":1}]
["C190.07","Identify Habitats of Animals and Insects",1,{"$f":"SUM(COUNTIF(WeekNights!$D$3:$AV$14,A148),COUNTIF('Weekend Training'!$D$4:$Y$15,A148))","v":0}]
[]
["REFS:","RE: A-CR-CCP-801/PG-001 - 2-1 - 3.a, 3.b, "]
[]
["MandatoryTraining:"]
[null,"(1) 60 Periods of instruction to be conducted during Weekly Training"]
[null,"(2) 18 Periods of instruction to be conducted during 2 Days (9 Session Each)"]
[null,"(3) 1 day for a familiarization flight and aviation training;"]
[null,"(4) 1 day for an Air Cadet skills day; and"]
[null,"(5) 1 weekend (11 periods of mandatory training) for an aircrew survival "]
[]
["ComplementaryTraining:"]
[null,"(1) 30 Periods of instruction to be conducted during Weekly Training"]
[null,"(2) 18 Periods of instruction to be conducted during 2 Days (9 Session Each)"]
[null,"(3) Choice of an additional aircrew survival exercise / Air Cadet skills day / aviation day (total of two days or one weekend.)"]

{"sheet":"EO Val. (Lvl 2)","index":21,"n_rows":165,"n_cols":4,"rows_kept":165}
[null,"LEVEL 2 PROGRAM - 200.00"]
["Serial","Description","# Classes","# Assigned"]
[]
[null,"PO X01 - Participate in Citizenship Activities"]
["MX01.01A","Participate in a Citizenship Tour","-",{"$f":"SUM(COUNTIF(WeekNights!$D$15:$AV$26,A5),COUNTIF('Weekend Training'!$D$16:$Y$27,A5))","v":0}]
["MX01.01B","Attend a Presentation by a Community Organization","-",{"$f":"SUM(COUNTIF(WeekNights!$D$15:$AV$26,A6),COUNTIF('Weekend Training'!$D$16:$Y$27,A6))","v":0}]
["MX01.01C","Attend a Presentation by a Citizen-of-Interest","-",{"$f":"SUM(COUNTIF(WeekNights!$D$15:$AV$26,A7),COUNTIF('Weekend Training'!$D$16:$Y$27,A7))","v":0}]
["MX01.01D","Participate in the Canadian Citizenship Challenge","-",{"$f":"SUM(COUNTIF(WeekNights!$D$15:$AV$26,A8),COUNTIF('Weekend Training'!$D$16:$Y$27,A8))","v":0}]
["MX01.01E","Host a Citizenship Ceremony -","-",{"$f":"SUM(COUNTIF(WeekNights!$D$15:$AV$26,A9),COUNTIF('Weekend Training'!$D$16:$Y$27,A9))","v":0}]
["MX01.01F","Participate in an Election -","-",{"$f":"SUM(COUNTIF(WeekNights!$D$15:$AV$26,A10),COUNTIF('Weekend Training'!$D$16:$Y$27,A10))","v":0}]
["MX01.01G","Participate in Heritage Minutes Video Activities -","-",{"$f":"SUM(COUNTIF(WeekNights!$D$15:$AV$26,A11),COUNTIF('Weekend Training'!$D$16:$Y$27,A11))","v":0}]
["MX01.01H","Participate in Citizenship Learning Stations -","-",{"$f":"SUM(COUNTIF(WeekNights!$D$15:$AV$26,A12),COUNTIF('Weekend Training'!$D$16:$Y$27,A12))","v":0}]
[null,"Minimum of 3 Classes for Mand Purpose, and up to 18 as Comp purpose. Total Between 3 and 21 Req.",3,{"$f":"SUM(D5:D12)","v":0}]
[]
[null,"PO X02 - Perform Community Service"]
["MX02.01","Perform Community Service",9,{"$f":"SUM(COUNTIF(WeekNights!$D$15:$AV$26,A16),COUNTIF('Weekend Training'!$D$16:$Y$27,A16))","v":9}]
["CX02.01","Perform Community Service",18,{"$f":"SUM(COUNTIF(WeekNights!$D$15:$AV$26,A17),COUNTIF('Weekend Training'!$D$16:$Y$27,A17))","v":0}]
[]
[null,"PO 203 - Demonstrate Leadership Attributes Within a Peer Setting"]
["M203.01","Discuss Leadership Within a Peer Setting",1,{"$f":"SUM(COUNTIF(WeekNights!$D$15:$AV$26,A20),COUNTIF('Weekend Training'!$D$16:$Y$27,A20))","v":1}]
["M203.02","Discuss the Principles of Leadership",1,{"$f":"SUM(COUNTIF(WeekNights!$D$15:$AV$26,A21),COUNTIF('Weekend Training'!$D$16:$Y$27,A21))","v":1}]
["M203.03","Discuss Effective Communication in a Peer Setting",1,{"$f":"SUM(COUNTIF(WeekNights!$D$15:$AV$26,A22),COUNTIF('Weekend Training'!$D$16:$Y$27,A22))","v":1}]
["M203.04","Demonstrate Positive Group Dynamics",2,{"$f":"SUM(COUNTIF(WeekNights!$D$15:$AV$26,A23),COUNTIF('Weekend Training'!$D$16:$Y$27,A23))","v":2}]
["M203.05","Discuss Influence Behaviours",1,{"$f":"SUM(COUNTIF(WeekNights!$D$15:$AV$26,A24),COUNTIF('Weekend Training'!$D$16:$Y$27,A24))","v":1}]
["M203.06","Employ Problem Solving",2,{"$f":"SUM(COUNTIF(WeekNights!$D$15:$AV$26,A25),COUNTIF('Weekend Training'!$D$16:$Y$27,A25))","v":2}]
["M203.07","Discuss Personal Integrity as a Quality of Leadership",1,{"$f":"SUM(COUNTIF(WeekNights!$D$15:$AV$26,A26),COUNTIF('Weekend Training'!$D$16:$Y$27,A26))","v":1}]
["M203.08","Participate in Team-Building Activities",1,{"$f":"SUM(COUNTIF(WeekNights!$D$15:$AV$26,A27),COUNTIF('Weekend Training'!$D$16:$Y$27,A27))","v":1}]
["C203.01","Record Entries in a Reflective Journal",3,{"$f":"SUM(COUNTIF(WeekNights!$D$15:$AV$26,A28),COUNTIF('Weekend Training'!$D$16:$Y$27,A28))","v":0}]
["C203.02","Employ Problem Solving",2,{"$f":"SUM(COUNTIF(WeekNights!$D$15:$AV$26,A29),COUNTIF('Weekend Training'!$D$16:$Y$27,A29))","v":0}]
["C203.03","Discuss Characteristics of a Leader",2,{"$f":"SUM(COUNTIF(WeekNights!$D$15:$AV$26,A30),COUNTIF('Weekend Training'!$D$16:$Y$27,A30))","v":2}]
["C203.04","Participate in a Presentation Given by a Leader",2,{"$f":"SUM(COUNTIF(WeekNights!$D$15:$AV$26,A31),COUNTIF('Weekend Training'!$D$16:$Y$27,A31))","v":0}]
["C203.05","Participate in Trust-Building Activities",1,{"$f":"SUM(COUNTIF(WeekNights!$D$15:$AV$26,A32),COUNTIF('Weekend Training'!$D$16:$Y$27,A32))","v":1}]
["C203.06","Participate in Problem-Solving Activities",2,{"$f":"SUM(COUNTIF(WeekNights!$D$15:$AV$26,A33),COUNTIF('Weekend Training'!$D$16:$Y$27,A33))","v":2}]
[]
[null,"PO X04 - Track Participation in Physical Activities"]
["MX04.01","Participate in 60 Minutes of Moderate- to Vigorous-Intensity Physical Activity (MVPA) and Track Participation in Physical Activities",3,{"$f":"SUM(COUNTIF(WeekNights!$D$15:$AV$26,A36),COUNTIF('Weekend Training'!$D$16:$Y$27,A36))","v":0}]
["MX04.02","Identify Strategies to Improve Participation in Physical Activities and Participate in the Cadet Fitness Assessment (CFA)",3,{"$f":"SUM(COUNTIF(WeekNights!$D$15:$AV$26,A37),COUNTIF('Weekend Training'!$D$16:$Y$27,A37))","v":0}]
["MX04.03","Participate in the CFA and Identify Strategies for Improving Personal Physical Fitness",3,{"$f":"SUM(COUNTIF(WeekNights!$D$15:$AV$26,A38),COUNTIF('Weekend Training'!$D$16:$Y$27,A38))","v":3}]
["CX04.01","Participate in the CFA and Identify Strategies for Improving Personal Physical Fitness",3,{"$f":"SUM(COUNTIF(WeekNights!$D$15:$AV$26,A39),COUNTIF('Weekend Training'!$D$16:$Y$27,A39))","v":0}]
["CX04.02","Participate in Activities that Reinforce the Three Components of Physical Fitness",3,{"$f":"SUM(COUNTIF(WeekNights!$D$15:$AV$26,A40),COUNTIF('Weekend Training'!$D$16:$Y$27,A40))","v":0}]
["CX04.03","Participate in a Cooking Class",3,{"$f":"SUM(COUNTIF(WeekNights!$D$15:$AV$26,A41),COUNTIF('Weekend Training'!$D$16:$Y$27,A41))","v":0}]
["CX04.04","Attend a Personal Fitness and Healthy Living Presentation",3,{"$f":"SUM(COUNTIF(WeekNights!$D$15:$AV$26,A42),COUNTIF('Weekend Training'!$D$16:$Y$27,A42))","v":2}]
["CX04.05","Attend a Local Amateur Sporting Event",3,{"$f":"SUM(COUNTIF(WeekNights!$D$15:$AV$26,A43),COUNTIF('Weekend Training'!$D$16:$Y$27,A43))","v":0}]
[]
[null,"PO X05 -Participate in Physical Activities"]
["MX05.01","Participate in Physical Activities",9,{"$f":"SUM(COUNTIF(WeekNights!$D$15:$AV$26,A46),COUNTIF('Weekend Training'!$D$16:$Y$27,A46))","v":6}]
["CX05.01","Participate in Physical Activities",9,{"$f":"SUM(COUNTIF(WeekNights!$D$15:$AV$26,A47),COUNTIF('Weekend Training'!$D$16:$Y$27,A47))","v":0}]
["CX05.02","Participate in a Tournament",9,{"$f":"SUM(COUNTIF(WeekNights!$D$15:$AV$26,A48),COUNTIF('Weekend Training'!$D$16:$Y$27,A48))","v":0}]
[]
[null,"PO 206 - Fire the Cadet Air Rifle During Recreational Marksmanship"]
["M206.01","Participate in a Recreational Marksmanship Activity",3,{"$f":"SUM(COUNTIF(WeekNights!$D$15:$AV$26,A51),COUNTIF('Weekend Training'!$D$16:$Y$27,A51))","v":0}]
["C106.01","Participate in a Recreational Marksmanship Activity",6,{"$f":"SUM(COUNTIF(WeekNights!$D$15:$AV$26,A52),COUNTIF('Weekend Training'!$D$16:$Y$27,A52))","v":0}]
["C206.01","Practice Holding Techniques",1,{"$f":"SUM(COUNTIF(WeekNights!$D$15:$AV$26,A53),COUNTIF('Weekend Training'!$D$16:$Y$27,A53))","v":0}]
["C206.02","Practice Aiming Techniques",2,{"$f":"SUM(COUNTIF(WeekNights!$D$15:$AV$26,A54),COUNTIF('Weekend Training'!$D$16:$Y$27,A54))","v":0}]
["C206.03","Practice Firing Techniques",1,{"$f":"SUM(COUNTIF(WeekNights!$D$15:$AV$26,A55),COUNTIF('Weekend Training'!$D$16:$Y$27,A55))","v":0}]
[]
[null,"PO 207 - Serve in a Air Cadet Corps"]
["M207.01","Identify Proficiency Level Two Training Opportunities",1,{"$f":"SUM(COUNTIF(WeekNights!$D$15:$AV$26,A58),COUNTIF('Weekend Training'!$D$16:$Y$27,A58))","v":1}]
["M207.02","Recognize Historical Aspects of the Royal Canadian Air Cadets (RCAC)",1,{"$f":"SUM(COUNTIF(WeekNights!$D$15:$AV$26,A59),COUNTIF('Weekend Training'!$D$16:$Y$27,A59))","v":1}]
["M207.03","Recognize the Role and Responsibilities of the Local Sponsor",1,{"$f":"SUM(COUNTIF(WeekNights!$D$15:$AV$26,A60),COUNTIF('Weekend Training'!$D$16:$Y$27,A60))","v":1}]
["M207.04","Identify Year Two CSTC Training Opportunities",1,{"$f":"SUM(COUNTIF(WeekNights!$D$15:$AV$26,A61),COUNTIF('Weekend Training'!$D$16:$Y$27,A61))","v":1}]
["C107.03","Participate in an Activity about the History of the Corps 1",1,{"$f":"SUM(COUNTIF(WeekNights!$D$15:$AV$26,A62),COUNTIF('Weekend Training'!$D$16:$Y$27,A62))","v":0}]
["C207.01","Identify the Rank Structure of the Royal Canadian Air and Army Cadets",1,{"$f":"SUM(COUNTIF(WeekNights!$D$15:$AV$26,A63),COUNTIF('Weekend Training'!$D$16:$Y$27,A63))","v":1}]
["C207.02","Visit a Royal Canadian Air / Army Cadet Corps or an Air Cadet Squadron",3,{"$f":"SUM(COUNTIF(WeekNights!$D$15:$AV$26,A64),COUNTIF('Weekend Training'!$D$16:$Y$27,A64))","v":0}]
["C207.03","Describe the Affiliated Unit",1,{"$f":"SUM(COUNTIF(WeekNights!$D$15:$AV$26,A65),COUNTIF('Weekend Training'!$D$16:$Y$27,A65))","v":0}]
["C207.04","Tour the Affiliated Unit",3,{"$f":"SUM(COUNTIF(WeekNights!$D$15:$AV$26,A66),COUNTIF('Weekend Training'!$D$16:$Y$27,A66))","v":0}]
[]
[null,"PO 208 - Execute Drill as a Member of a Squad"]
["M208.01","Execute Left and Right Turns on the March",2,{"$f":"SUM(COUNTIF(WeekNights!$D$15:$AV$26,A69),COUNTIF('Weekend Training'!$D$16:$Y$27,A69))","v":2}]
["M208.02","Form Single File From the Halt",1,{"$f":"SUM(COUNTIF(WeekNights!$D$15:$AV$26,A70),COUNTIF('Weekend Training'!$D$16:$Y$27,A70))","v":1}]
["C108.01","Execute Supplementary Drill Movements",6,{"$f":"SUM(COUNTIF(WeekNights!$D$15:$AV$26,A71),COUNTIF('Weekend Training'!$D$16:$Y$27,A71))","v":0}]
["C208.01","Practice Ceremonial Drill as a Review",2,{"$f":"SUM(COUNTIF(WeekNights!$D$15:$AV$26,A72),COUNTIF('Weekend Training'!$D$16:$Y$27,A72))","v":2}]
["C208.02","Execute Drill With Arms",8,{"$f":"SUM(COUNTIF(WeekNights!$D$15:$AV$26,A73),COUNTIF('Weekend Training'!$D$16:$Y$27,A73))","v":0}]
[]
[null,"PO 211 - Participate in Recreational Summer Biathlon Activities"]
["C111.01","Participate in a Biathlon Briefing",1,{"$f":"SUM(COUNTIF(WeekNights!$D$15:$AV$26,A76),COUNTIF('Weekend Training'!$D$16:$Y$27,A76))","v":0}]
["C111.02","Run Wind Sprints",1,{"$f":"SUM(COUNTIF(WeekNights!$D$15:$AV$26,A77),COUNTIF('Weekend Training'!$D$16:$Y$27,A77))","v":0}]
["C111.03","Simulate Firing the Cadet Air Rifle Following Physical Activity",1,{"$f":"SUM(COUNTIF(WeekNights!$D$15:$AV$26,A78),COUNTIF('Weekend Training'!$D$16:$Y$27,A78))","v":0}]
["C111.04","Participate in a Recreational Summer Biathlon Activity",6,{"$f":"SUM(COUNTIF(WeekNights!$D$15:$AV$26,A79),COUNTIF('Weekend Training'!$D$16:$Y$27,A79))","v":0}]
["C211.01","Identify Civilian Biathlon Opportunities",1,{"$f":"SUM(COUNTIF(WeekNights!$D$15:$AV$26,A80),COUNTIF('Weekend Training'!$D$16:$Y$27,A80))","v":0}]
["C211.02","Run on Alternate Terrain",1,{"$f":"SUM(COUNTIF(WeekNights!$D$15:$AV$26,A81),COUNTIF('Weekend Training'!$D$16:$Y$27,A81))","v":0}]
["C211.03","Fire the Cadet Air Rifle using a Sling Following Physical Activity",1,{"$f":"SUM(COUNTIF(WeekNights!$D$15:$AV$26,A82),COUNTIF('Weekend Training'!$D$16:$Y$27,A82))","v":0}]
["C211.04","Participate in a Competitive Summer Biathlon Activity",6,{"$f":"SUM(COUNTIF(WeekNights!$D$15:$AV$26,A83),COUNTIF('Weekend Training'!$D$16:$Y$27,A83))","v":0}]
[]
[null,"PO X20 - Participate in Canadian Forces (CF) Familiarization Activities"]
["MX20.01A","Participate in a CAF Activity","-",{"$f":"SUM(COUNTIF(WeekNights!$D$15:$AV$26,A86),COUNTIF('Weekend Training'!$D$16:$Y$27,A86))","v":0}]
["MX20.01B","Participate in a CAF Familiarization Tour","-",{"$f":"SUM(COUNTIF(WeekNights!$D$15:$AV$26,A87),COUNTIF('Weekend Training'!$D$16:$Y$27,A87))","v":3}]
["MX20.01C","Fire the C7 Rifle","-",{"$f":"SUM(COUNTIF(WeekNights!$D$15:$AV$26,A88),COUNTIF('Weekend Training'!$D$16:$Y$27,A88))","v":0}]
["MX20.01D","Participate in a Mess Dinner","-",{"$f":"SUM(COUNTIF(WeekNights!$D$15:$AV$26,A89),COUNTIF('Weekend Training'!$D$16:$Y$27,A89))","v":3}]
["MX20.01E","Attend a CAF Presentation","-",{"$f":"SUM(COUNTIF(WeekNights!$D$15:$AV$26,A90),COUNTIF('Weekend Training'!$D$16:$Y$27,A90))","v":0}]
["MX20.01F","Attend a CAF Commemorative Ceremony","-",{"$f":"SUM(COUNTIF(WeekNights!$D$15:$AV$26,A91),COUNTIF('Weekend Training'!$D$16:$Y$27,A91))","v":3}]
["MX20.01G","Participate in CAF Video Activities","-",{"$f":"SUM(COUNTIF(WeekNights!$D$15:$AV$26,A92),COUNTIF('Weekend Training'!$D$16:$Y$27,A92))","v":0}]
["MX20.01H","Participate in CAF Learning Stations","-",{"$f":"SUM(COUNTIF(WeekNights!$D$15:$AV$26,A93),COUNTIF('Weekend Training'!$D$16:$Y$27,A93))","v":0}]
[null,"Minimum of 3 Classes for Mand Purpose, and up to 18 as Comp purpose. Total Between 6 and 21 Req.",6,{"$f":"SUM(D86:D93)","v":9}]
[]
[null,"Discuss Canadian Aviation History"]
["M230.01","Discuss Aircraft Flown During WWI and WWII",1,{"$f":"SUM(COUNTIF(WeekNights!$D$15:$AV$26,A97),COUNTIF('Weekend Training'!$D$16:$Y$27,A97))","v":1}]
["M230.02","Discuss Significant Events in 20th Century Canadian Military History",1,{"$f":"SUM(COUNTIF(WeekNights!$D$15:$AV$26,A98),COUNTIF('Weekend Training'!$D$16:$Y$27,A98))","v":1}]
["C230.01","Participate in a Presentation Given by a Member of the Memory Project Speakers Bureau",2,{"$f":"SUM(COUNTIF(WeekNights!$D$15:$AV$26,A99),COUNTIF('Weekend Training'!$D$16:$Y$27,A99))","v":0}]
["C230.02","Tour a Local Aviation Museum",3,{"$f":"SUM(COUNTIF(WeekNights!$D$15:$AV$26,A100),COUNTIF('Weekend Training'!$D$16:$Y$27,A100))","v":0}]
["C230.03","Discuss Significant Canadian Historical Events Relative to Aviation",1,{"$f":"SUM(COUNTIF(WeekNights!$D$15:$AV$26,A101),COUNTIF('Weekend Training'!$D$16:$Y$27,A101))","v":1}]
[]
[null,"Explain Principles of Flight"]
["M231.01","Identify the Four Forces that Act Upon an Aircraft",2,{"$f":"SUM(COUNTIF(WeekNights!$D$15:$AV$26,A104),COUNTIF('Weekend Training'!$D$16:$Y$27,A104))","v":2}]
["M231.02","Describe the Production of Lift by an Aircraft Wing",2,{"$f":"SUM(COUNTIF(WeekNights!$D$15:$AV$26,A105),COUNTIF('Weekend Training'!$D$16:$Y$27,A105))","v":1}]
["M231.03","Describe the Types of Drag that Act Upon an Aircraft",2,{"$f":"SUM(COUNTIF(WeekNights!$D$15:$AV$26,A106),COUNTIF('Weekend Training'!$D$16:$Y$27,A106))","v":2}]
["M231.04","Describe the Axial Movements of an Aircraft",1,{"$f":"SUM(COUNTIF(WeekNights!$D$15:$AV$26,A107),COUNTIF('Weekend Training'!$D$16:$Y$27,A107))","v":1}]
["M231.05","Describe Aircraft Control Surfaces",2,{"$f":"SUM(COUNTIF(WeekNights!$D$15:$AV$26,A108),COUNTIF('Weekend Training'!$D$16:$Y$27,A108))","v":2}]
["C231.01","Operate an Experimental Wing",2,{"$f":"SUM(COUNTIF(WeekNights!$D$15:$AV$26,A109),COUNTIF('Weekend Training'!$D$16:$Y$27,A109))","v":0}]
["C231.02","Fly a Paper Colditz Glider",2,{"$f":"SUM(COUNTIF(WeekNights!$D$15:$AV$26,A110),COUNTIF('Weekend Training'!$D$16:$Y$27,A110))","v":2}]
["C231.03","Tour a Flight School",3,{"$f":"SUM(COUNTIF(WeekNights!$D$15:$AV$26,A111),COUNTIF('Weekend Training'!$D$16:$Y$27,A111))","v":0}]
["C231.04","Participate in a Presentation Given by a Guest Speaker from the Local Aviation Community",2,{"$f":"SUM(COUNTIF(WeekNights!$D$15:$AV$26,A112),COUNTIF('Weekend Training'!$D$16:$Y$27,A112))","v":0}]
["C231.05","Tour a Flight Simulator",3,{"$f":"SUM(COUNTIF(WeekNights!$D$15:$AV$26,A113),COUNTIF('Weekend Training'!$D$16:$Y$27,A113))","v":0}]
["C231.06","Tour a Local Air Show",6,{"$f":"SUM(COUNTIF(WeekNights!$D$15:$AV$26,A114),COUNTIF('Weekend Training'!$D$16:$Y$27,A114))","v":0}]
[]
[null,"Describe Aero Engine Systems"]
["M232.01","Identify Types of Aircraft Engines",1,{"$f":"SUM(COUNTIF(WeekNights!$D$15:$AV$26,A117),COUNTIF('Weekend Training'!$D$16:$Y$27,A117))","v":1}]
["M232.02","Identify the Components of Piston- Powered Internal Combustion Engines",2,{"$f":"SUM(COUNTIF(WeekNights!$D$15:$AV$26,A118),COUNTIF('Weekend Training'!$D$16:$Y$27,A118))","v":2}]
["M232.03","Explain the Cycles of a Four-Stroke Piston-Powered Engine",2,{"$f":"SUM(COUNTIF(WeekNights!$D$15:$AV$26,A119),COUNTIF('Weekend Training'!$D$16:$Y$27,A119))","v":2}]
["M232.04","Recognize the Functions of Oil in a Four-Stroke Piston-Powered Engine",1,{"$f":"SUM(COUNTIF(WeekNights!$D$15:$AV$26,A120),COUNTIF('Weekend Training'!$D$16:$Y$27,A120))","v":1}]
["C232.01","Identify the Characteristics of Gas Turbine Engines",2,{"$f":"SUM(COUNTIF(WeekNights!$D$15:$AV$26,A121),COUNTIF('Weekend Training'!$D$16:$Y$27,A121))","v":0}]
["C232.02","Identify the Characteristics of Gas Turbine Engines",2,{"$f":"SUM(COUNTIF(WeekNights!$D$15:$AV$26,A122),COUNTIF('Weekend Training'!$D$16:$Y$27,A122))","v":0}]
["C232.03","Identify the Characteristics of Helicopter Engines",2,{"$f":"SUM(COUNTIF(WeekNights!$D$15:$AV$26,A123),COUNTIF('Weekend Training'!$D$16:$Y$27,A123))","v":2}]
[]
[null,"Discuss Aerospace Structures"]
["M240.01","Explore Current Advancements in Aerospace Technology",1,{"$f":"SUM(COUNTIF(WeekNights!$D$15:$AV$26,A126),COUNTIF('Weekend Training'!$D$16:$Y$27,A126))","v":1}]
["M240.02","Invent a Space Technology Item",2,{"$f":"SUM(COUNTIF(WeekNights!$D$15:$AV$26,A127),COUNTIF('Weekend Training'!$D$16:$Y$27,A127))","v":2}]
["M240.03","Participate in a Space Survival Scenario",1,{"$f":"SUM(COUNTIF(WeekNights!$D$15:$AV$26,A128),COUNTIF('Weekend Training'!$D$16:$Y$27,A128))","v":1}]
["C240.01","Participate in a Non-Verbal Communication Activity",1,{"$f":"SUM(COUNTIF(WeekNights!$D$15:$AV$26,A129),COUNTIF('Weekend Training'!$D$16:$Y$27,A129))","v":0}]
["C240.02","Invent a Communication System for Space",2,{"$f":"SUM(COUNTIF(WeekNights!$D$15:$AV$26,A130),COUNTIF('Weekend Training'!$D$16:$Y$27,A130))","v":0}]
["C240.03","Identify Parts of a Rocket",1,{"$f":"SUM(COUNTIF(WeekNights!$D$15:$AV$26,A131),COUNTIF('Weekend Training'!$D$16:$Y$27,A131))","v":1}]
["C240.04","Navigate with a Global Positioning System (GPS)",3,{"$f":"SUM(COUNTIF(WeekNights!$D$15:$AV$26,A132),COUNTIF('Weekend Training'!$D$16:$Y$27,A132))","v":0}]
["C240.05","Simulate Survival in Space",2,{"$f":"SUM(COUNTIF(WeekNights!$D$15:$AV$26,A133),COUNTIF('Weekend Training'!$D$16:$Y$27,A133))","v":2}]
["C240.06","Determine Direction Using Constellations on a Field Exercise",1,{"$f":"SUM(COUNTIF(WeekNights!$D$15:$AV$26,A134),COUNTIF('Weekend Training'!$D$16:$Y$27,A134))","v":0}]
[]
[null,"Participate in Aerodrome Operations Activities"]
["M260.01","Explain Aspects of Air Traffic Control (ATC)",1,{"$f":"SUM(COUNTIF(WeekNights!$D$15:$AV$26,A137),COUNTIF('Weekend Training'!$D$16:$Y$27,A137))","v":1}]
["M260.02","Identify Aspects of Basic Aerodrome Operations",1,{"$f":"SUM(COUNTIF(WeekNights!$D$15:$AV$26,A138),COUNTIF('Weekend Training'!$D$16:$Y$27,A138))","v":1}]
["C260.01","Tour an Aerodrome Security Facility",3,{"$f":"SUM(COUNTIF(WeekNights!$D$15:$AV$26,A139),COUNTIF('Weekend Training'!$D$16:$Y$27,A139))","v":0}]
["C260.02","Tour an Air Traffic Control (ATC) Tower",3,{"$f":"SUM(COUNTIF(WeekNights!$D$15:$AV$26,A140),COUNTIF('Weekend Training'!$D$16:$Y$27,A140))","v":0}]
["C260.03","Participate in a Presentation Given by an Employee of an Aerodrome",2,{"$f":"SUM(COUNTIF(WeekNights!$D$15:$AV$26,A141),COUNTIF('Weekend Training'!$D$16:$Y$27,A141))","v":0}]
["C260.04","Perform Marshalling",1,{"$f":"SUM(COUNTIF(WeekNights!$D$15:$AV$26,A142),COUNTIF('Weekend Training'!$D$16:$Y$27,A142))","v":1}]
["C260.05","Tour an Aerodrome",3,{"$f":"SUM(COUNTIF(WeekNights!$D$15:$AV$26,A143),COUNTIF('Weekend Training'!$D$16:$Y$27,A143))","v":0}]
[]
[null,"Discuss Aspects of Aircraft Manufacturing and Maintenance"]
["M270.01","Identify Aspects of Aircraft Manufacturing",2,{"$f":"SUM(COUNTIF(WeekNights!$D$15:$AV$26,A146),COUNTIF('Weekend Training'!$D$16:$Y$27,A146))","v":2}]
["M270.02","Identify Requirements for Aircraft Maintenance",2,{"$f":"SUM(COUNTIF(WeekNights!$D$15:$AV$26,A147),COUNTIF('Weekend Training'!$D$16:$Y$27,A147))","v":2}]
["M270.03","Discuss Education and Employment Opportunities in Aircraft Manufacturing and Maintenance",2,{"$f":"SUM(COUNTIF(WeekNights!$D$15:$AV$26,A148),COUNTIF('Weekend Training'!$D$16:$Y$27,A148))","v":2}]
["C270.01","Participate in a Presentation Given by an Employee in the Aircraft Manufacturing or Maintenance Industry",2,{"$f":"SUM(COUNTIF(WeekNights!$D$15:$AV$26,A149),COUNTIF('Weekend Training'!$D$16:$Y$27,A149))","v":0}]
["C270.02","Identify Canadian Aviation Maintenance Council (CAMC) Interactive Multimedia Learning Tool (IMLT) Activities",1,{"$f":"SUM(COUNTIF(WeekNights!$D$15:$AV$26,A150),COUNTIF('Weekend Training'!$D$16:$Y$27,A150))","v":0}]
["C270.03","Tour an Aircraft Manufacturing or Maintenance Facility",3,{"$f":"SUM(COUNTIF(WeekNights!$D$15:$AV$26,A151),COUNTIF('Weekend Training'!$D$16:$Y$27,A151))","v":0}]
["C270.04","Watch World’s Biggest Airliner: The Airbus A380 – Coming Together",2,{"$f":"SUM(COUNTIF(WeekNights!$D$15:$AV$26,A152),COUNTIF('Weekend Training'!$D$16:$Y$27,A152))","v":0}]
[]
[null,"Participate in an Aircrew Survival Exercise"]
["M290.01","Construct, Light, Maintain and Extinguish a Signal Fire",2,{"$f":"SUM(COUNTIF(WeekNights!$D$15:$AV$26,A155),COUNTIF('Weekend Training'!$D$16:$Y$27,A155))","v":2}]
["M290.02","Construct a Lean-to-Style Shelter",3,{"$f":"SUM(COUNTIF(WeekNights!$D$15:$AV$26,A156),COUNTIF('Weekend Training'!$D$16:$Y$27,A156))","v":3}]
["M290.03","Construct a Simple Snare",2,{"$f":"SUM(COUNTIF(WeekNights!$D$15:$AV$26,A157),COUNTIF('Weekend Training'!$D$16:$Y$27,A157))","v":2}]
["M290.04","Construct Ground-to-Air Signals",2,{"$f":"SUM(COUNTIF(WeekNights!$D$15:$AV$26,A158),COUNTIF('Weekend Training'!$D$16:$Y$27,A158))","v":2}]
["M290.05","Identify Hiking Techniques",2,{"$f":"SUM(COUNTIF(WeekNights!$D$15:$AV$26,A159),COUNTIF('Weekend Training'!$D$16:$Y$27,A159))","v":2}]
["M290.06","Operate a Hand-Held Radio",1,{"$f":"SUM(COUNTIF(WeekNights!$D$15:$AV$26,A160),COUNTIF('Weekend Training'!$D$16:$Y$27,A160))","v":1}]
["C290.01","Participate in a Presentation Given by a Member of a Survival Organization",2,{"$f":"SUM(COUNTIF(WeekNights!$D$15:$AV$26,A161),COUNTIF('Weekend Training'!$D$16:$Y$27,A161))","v":0}]
["C290.02","Discuss Skinning and Cooking a Small Animal",1,{"$f":"SUM(COUNTIF(WeekNights!$D$15:$AV$26,A162),COUNTIF('Weekend Training'!$D$16:$Y$27,A162))","v":0}]
["C290.03","Construct a Snow Cave",3,{"$f":"SUM(COUNTIF(WeekNights!$D$15:$AV$26,A163),COUNTIF('Weekend Training'!$D$16:$Y$27,A163))","v":0}]
["C290.04","Collect Drinking Water Using a Solar Still",2,{"$f":"SUM(COUNTIF(WeekNights!$D$15:$AV$26,A164),COUNTIF('Weekend Training'!$D$16:$Y$27,A164))","v":0}]
["C290.05","Participate in a Hike",6,{"$f":"SUM(COUNTIF(WeekNights!$D$15:$AV$26,A165),COUNTIF('Weekend Training'!$D$16:$Y$27,A165))","v":0}]

{"sheet":"EO Val. (Lvl 3)","index":22,"n_rows":188,"n_cols":4,"rows_kept":188}
[null,"LEVEL 3 PROGRAM - 300.00"]
["Serial","Description","# Classes","# Assigned"]
[]
[null,"PO X01 - Participate in Citizenship Activities"]
["MX01.01A","Participate in a Citizenship Tour","-",{"$f":"SUM(COUNTIF(WeekNights!$D$27:$AV$38,A5),COUNTIF('Weekend Training'!$D$28:$Y$40,A5))","v":0}]
["MX01.01B","Attend a Presentation by a Community Organization","-",{"$f":"SUM(COUNTIF(WeekNights!$D$27:$AV$38,A6),COUNTIF('Weekend Training'!$D$28:$Y$40,A6))","v":0}]
["MX01.01C","Attend a Presentation by a Citizen-of-Interest","-",{"$f":"SUM(COUNTIF(WeekNights!$D$27:$AV$38,A7),COUNTIF('Weekend Training'!$D$28:$Y$40,A7))","v":0}]
["MX01.01D","Participate in the Canadian Citizenship Challenge","-",{"$f":"SUM(COUNTIF(WeekNights!$D$27:$AV$38,A8),COUNTIF('Weekend Training'!$D$28:$Y$40,A8))","v":0}]
["MX01.01E","Host a Citizenship Ceremony -","-",{"$f":"SUM(COUNTIF(WeekNights!$D$27:$AV$38,A9),COUNTIF('Weekend Training'!$D$28:$Y$40,A9))","v":0}]
["MX01.01F","Participate in an Election -","-",{"$f":"SUM(COUNTIF(WeekNights!$D$27:$AV$38,A10),COUNTIF('Weekend Training'!$D$28:$Y$40,A10))","v":0}]
["MX01.01G","Participate in Heritage Minutes Video Activities -","-",{"$f":"SUM(COUNTIF(WeekNights!$D$27:$AV$38,A11),COUNTIF('Weekend Training'!$D$28:$Y$40,A11))","v":0}]
["MX01.01H","Participate in Citizenship Learning Stations -","-",{"$f":"SUM(COUNTIF(WeekNights!$D$27:$AV$38,A12),COUNTIF('Weekend Training'!$D$28:$Y$40,A12))","v":0}]
[null,"Minimum of 3 Classes for Mand Purpose, and up to 18 as Comp purpose. Total Between 3 and 21 Req.",3,{"$f":"SUM(D5:D12)","v":0}]
[]
[null,"PO X02 - Perform Community Service"]
["MX02.01","Perform Community Service",9,{"$f":"SUM(COUNTIF(WeekNights!$D$27:$AV$38,A16),COUNTIF('Weekend Training'!$D$28:$Y$40,A16))","v":9}]
["CX02.01","Perform Community Service",18,{"$f":"SUM(COUNTIF(WeekNights!$D$27:$AV$38,A17),COUNTIF('Weekend Training'!$D$28:$Y$40,A17))","v":0}]
[]
[null,"PO 303 - Perform the Role of a Team Leader"]
["M303.01","Define the Role of a Team Leader",2,{"$f":"SUM(COUNTIF(WeekNights!$D$27:$AV$38,A20),COUNTIF('Weekend Training'!$D$28:$Y$40,A20))","v":2}]
["M303.02","Participate in a Mentoring Relationship",1,{"$f":"SUM(COUNTIF(WeekNights!$D$27:$AV$38,A21),COUNTIF('Weekend Training'!$D$28:$Y$40,A21))","v":1}]
["M303.03","Practice Self-Assessment",1,{"$f":"SUM(COUNTIF(WeekNights!$D$27:$AV$38,A22),COUNTIF('Weekend Training'!$D$28:$Y$40,A22))","v":1}]
["M303.04","Communicate as a Team Leader",2,{"$f":"SUM(COUNTIF(WeekNights!$D$27:$AV$38,A23),COUNTIF('Weekend Training'!$D$28:$Y$40,A23))","v":2}]
["M303.05","Supervise Cadets",2,{"$f":"SUM(COUNTIF(WeekNights!$D$27:$AV$38,A24),COUNTIF('Weekend Training'!$D$28:$Y$40,A24))","v":2}]
["M303.06","Solve Problems",2,{"$f":"SUM(COUNTIF(WeekNights!$D$27:$AV$38,A25),COUNTIF('Weekend Training'!$D$28:$Y$40,A25))","v":2}]
["M303.07","Lead Cadets Through a Leadership Assignment",2,{"$f":"SUM(COUNTIF(WeekNights!$D$27:$AV$38,A26),COUNTIF('Weekend Training'!$D$28:$Y$40,A26))","v":2}]
["M303.PC","Performance Check","-",{"$f":"SUM(COUNTIF(WeekNights!$D$27:$AV$38,A27),COUNTIF('Weekend Training'!$D$28:$Y$40,A27))","v":0}]
["C303.01","Lead Team-Building Activities",3,{"$f":"SUM(COUNTIF(WeekNights!$D$27:$AV$38,A28),COUNTIF('Weekend Training'!$D$28:$Y$40,A28))","v":0}]
["C303.02","Deliver a Presentation About a Leader",2,{"$f":"SUM(COUNTIF(WeekNights!$D$27:$AV$38,A29),COUNTIF('Weekend Training'!$D$28:$Y$40,A29))","v":0}]
[]
[null,"PO X04 -Track Participation in Physical Activities"]
["MX04.01","Participate in 60 Minutes of Moderate- to Vigorous-Intensity Physical Activity (MVPA) and Track Participation in Physical Activities",3,{"$f":"SUM(COUNTIF(WeekNights!$D$27:$AV$38,A32),COUNTIF('Weekend Training'!$D$28:$Y$40,A32))","v":0}]
["MX04.02","Identify Strategies to Improve Participation in Physical Activities and Participate in the Cadet Fitness Assessment (CFA)",3,{"$f":"SUM(COUNTIF(WeekNights!$D$27:$AV$38,A33),COUNTIF('Weekend Training'!$D$28:$Y$40,A33))","v":0}]
["MX04.03","Participate in the CFA and Identify Strategies for Improving Personal Physical Fitness",3,{"$f":"SUM(COUNTIF(WeekNights!$D$27:$AV$38,A34),COUNTIF('Weekend Training'!$D$28:$Y$40,A34))","v":3}]
["CX04.01","Participate in the CFA and Identify Strategies for Improving Personal Physical Fitness",3,{"$f":"SUM(COUNTIF(WeekNights!$D$27:$AV$38,A35),COUNTIF('Weekend Training'!$D$28:$Y$40,A35))","v":0}]
["CX04.02","Participate in Activities that Reinforce the Three Components of Physical Fitness",3,{"$f":"SUM(COUNTIF(WeekNights!$D$27:$AV$38,A36),COUNTIF('Weekend Training'!$D$28:$Y$40,A36))","v":0}]
["CX04.03","Participate in a Cooking Class",3,{"$f":"SUM(COUNTIF(WeekNights!$D$27:$AV$38,A37),COUNTIF('Weekend Training'!$D$28:$Y$40,A37))","v":0}]
["CX04.04","Attend a Personal Fitness and Healthy Living Presentation",3,{"$f":"SUM(COUNTIF(WeekNights!$D$27:$AV$38,A38),COUNTIF('Weekend Training'!$D$28:$Y$40,A38))","v":2}]
["CX04.05","Attend a Local Amateur Sporting Event",3,{"$f":"SUM(COUNTIF(WeekNights!$D$27:$AV$38,A39),COUNTIF('Weekend Training'!$D$28:$Y$40,A39))","v":0}]
[]
[null,"PO 305 - Participate in Physical Activities"]
["MX05.01","Participate in Physical Activities",9,{"$f":"SUM(COUNTIF(WeekNights!$D$27:$AV$38,A42),COUNTIF('Weekend Training'!$D$28:$Y$40,A42))","v":6}]
["CX05.01","Participate in Physical Activities",9,{"$f":"SUM(COUNTIF(WeekNights!$D$27:$AV$38,A43),COUNTIF('Weekend Training'!$D$28:$Y$40,A43))","v":0}]
["CX05.02","Participate in a Tournament",9,{"$f":"SUM(COUNTIF(WeekNights!$D$27:$AV$38,A44),COUNTIF('Weekend Training'!$D$28:$Y$40,A44))","v":0}]
[]
[null,"PO 306 - Fire the Cadet Air Rifle During Recreational Marksmanship"]
["M306.01","Participate in a Recreational Marksmanship Activity",3,{"$f":"SUM(COUNTIF(WeekNights!$D$27:$AV$38,A47),COUNTIF('Weekend Training'!$D$28:$Y$40,A47))","v":0}]
["C106.01","Participate in a Recreational Marksmanship Activity",6,{"$f":"SUM(COUNTIF(WeekNights!$D$27:$AV$38,A48),COUNTIF('Weekend Training'!$D$28:$Y$40,A48))","v":0}]
["C206.01","Practice Holding Techniques",1,{"$f":"SUM(COUNTIF(WeekNights!$D$27:$AV$38,A49),COUNTIF('Weekend Training'!$D$28:$Y$40,A49))","v":0}]
["C206.02","Practice Aiming Techniques",2,{"$f":"SUM(COUNTIF(WeekNights!$D$27:$AV$38,A50),COUNTIF('Weekend Training'!$D$28:$Y$40,A50))","v":0}]
["C206.03","Practice Firing Techniques",1,{"$f":"SUM(COUNTIF(WeekNights!$D$27:$AV$38,A51),COUNTIF('Weekend Training'!$D$28:$Y$40,A51))","v":0}]
["C306.01","Identify Civilian Marksmanship Organizations",1,{"$f":"SUM(COUNTIF(WeekNights!$D$27:$AV$38,A52),COUNTIF('Weekend Training'!$D$28:$Y$40,A52))","v":0}]
["C306.02","Correct Marksmanship Error",2,{"$f":"SUM(COUNTIF(WeekNights!$D$27:$AV$38,A53),COUNTIF('Weekend Training'!$D$28:$Y$40,A53))","v":0}]
["C306.03","Fire the Cadet Air Rifle from the Standing Position",2,{"$f":"SUM(COUNTIF(WeekNights!$D$27:$AV$38,A54),COUNTIF('Weekend Training'!$D$28:$Y$40,A54))","v":0}]
[]
[null,"PO 307 - Serve in a Air Cadet Corps"]
["M307.01","Identify Phase 3 Training Opportunities",1,{"$f":"SUM(COUNTIF(WeekNights!$D$27:$AV$38,A57),COUNTIF('Weekend Training'!$D$28:$Y$40,A57))","v":1}]
["M307.02","Identify Year Three CSTC Training Opportunities",1,{"$f":"SUM(COUNTIF(WeekNights!$D$27:$AV$38,A58),COUNTIF('Weekend Training'!$D$28:$Y$40,A58))","v":1}]
["M307.03","Recognize the Partnership Between the Air Cadet League of Canada and the Department of National Defence",1,{"$f":"SUM(COUNTIF(WeekNights!$D$27:$AV$38,A59),COUNTIF('Weekend Training'!$D$28:$Y$40,A59))","v":1}]
["C307.01","Participate in a Presentation Given by a Guest Speaker From the RCSU",2,{"$f":"SUM(COUNTIF(WeekNights!$D$27:$AV$38,A60),COUNTIF('Weekend Training'!$D$28:$Y$40,A60))","v":0}]
["C307.02","Participate in a Presentation Given by the Cadet Liaison Officer",2,{"$f":"SUM(COUNTIF(WeekNights!$D$27:$AV$38,A61),COUNTIF('Weekend Training'!$D$28:$Y$40,A61))","v":0}]
["C307.03","Participate in a Presentation Given by a Guest Speaker from the Air Cadet League of Canada",2,{"$f":"SUM(COUNTIF(WeekNights!$D$27:$AV$38,A62),COUNTIF('Weekend Training'!$D$28:$Y$40,A62))","v":0}]
["C307.04","Participate in a Presentation on the Duke of Edinburgh Award Program",1,{"$f":"SUM(COUNTIF(WeekNights!$D$27:$AV$38,A63),COUNTIF('Weekend Training'!$D$28:$Y$40,A63))","v":0}]
[]
[null,"PO 308 - Direct a Squad Prior to a Parade"]
["M308.01","Prepare a Squad for Parade",3,{"$f":"SUM(COUNTIF(WeekNights!$D$27:$AV$38,A66),COUNTIF('Weekend Training'!$D$28:$Y$40,A66))","v":2}]
["M308.02","Deliver Words of Command",1,{"$f":"SUM(COUNTIF(WeekNights!$D$27:$AV$38,A67),COUNTIF('Weekend Training'!$D$28:$Y$40,A67))","v":1}]
["M308.PC","Performance Check","-",{"$f":"SUM(COUNTIF(WeekNights!$D$27:$AV$38,A68),COUNTIF('Weekend Training'!$D$28:$Y$40,A68))","v":0}]
["C208.01","Practice Ceremonial Drill as a Review",2,{"$f":"SUM(COUNTIF(WeekNights!$D$27:$AV$38,A69),COUNTIF('Weekend Training'!$D$28:$Y$40,A69))","v":4}]
["C208.02","Execute Drill With Arms",8,{"$f":"SUM(COUNTIF(WeekNights!$D$27:$AV$38,A70),COUNTIF('Weekend Training'!$D$28:$Y$40,A70))","v":0}]
["C308.01","Execute Flag Party Drill",4,{"$f":"SUM(COUNTIF(WeekNights!$D$27:$AV$38,A71),COUNTIF('Weekend Training'!$D$28:$Y$40,A71))","v":0}]
["C308.02","Deliver Words of Command",2,{"$f":"SUM(COUNTIF(WeekNights!$D$27:$AV$38,A72),COUNTIF('Weekend Training'!$D$28:$Y$40,A72))","v":0}]
[]
[null,"PO 309 - Instruct a Lesson"]
["M309.01","Explain Principles of Instruction",2,{"$f":"SUM(COUNTIF(WeekNights!$D$27:$AV$38,A75),COUNTIF('Weekend Training'!$D$28:$Y$40,A75))","v":2}]
["M309.02","Identify Methods of Instruction",2,{"$f":"SUM(COUNTIF(WeekNights!$D$27:$AV$38,A76),COUNTIF('Weekend Training'!$D$28:$Y$40,A76))","v":2}]
["M309.03","Describe Effective Speaking Techniques",1,{"$f":"SUM(COUNTIF(WeekNights!$D$27:$AV$38,A77),COUNTIF('Weekend Training'!$D$28:$Y$40,A77))","v":1}]
["M309.04","Describe Questioning Techniques",1,{"$f":"SUM(COUNTIF(WeekNights!$D$27:$AV$38,A78),COUNTIF('Weekend Training'!$D$28:$Y$40,A78))","v":1}]
["M309.05","Select Appropriate Instructional Aids",2,{"$f":"SUM(COUNTIF(WeekNights!$D$27:$AV$38,A79),COUNTIF('Weekend Training'!$D$28:$Y$40,A79))","v":2}]
["M309.06","Plan a Lesson",2,{"$f":"SUM(COUNTIF(WeekNights!$D$27:$AV$38,A80),COUNTIF('Weekend Training'!$D$28:$Y$40,A80))","v":2}]
["M309.07","Instruct a 15-Minute Lesson",3,{"$f":"SUM(COUNTIF(WeekNights!$D$27:$AV$38,A81),COUNTIF('Weekend Training'!$D$28:$Y$40,A81))","v":3}]
["M309.PC","Performance Check","-",{"$f":"SUM(COUNTIF(WeekNights!$D$27:$AV$38,A82),COUNTIF('Weekend Training'!$D$28:$Y$40,A82))","v":8}]
["C309.01","Deliver a One-Minute Verbal Presentation",2,{"$f":"SUM(COUNTIF(WeekNights!$D$27:$AV$38,A83),COUNTIF('Weekend Training'!$D$28:$Y$40,A83))","v":1}]
["C309.02","Plan a Lesson",2,{"$f":"SUM(COUNTIF(WeekNights!$D$27:$AV$38,A84),COUNTIF('Weekend Training'!$D$28:$Y$40,A84))","v":0}]
["C309.03","Instruct a 15-Minute Lesson",3,{"$f":"SUM(COUNTIF(WeekNights!$D$27:$AV$38,A85),COUNTIF('Weekend Training'!$D$28:$Y$40,A85))","v":0}]
["C309.04","Identify Formations for Drill Instruction",1,{"$f":"SUM(COUNTIF(WeekNights!$D$27:$AV$38,A86),COUNTIF('Weekend Training'!$D$28:$Y$40,A86))","v":1}]
["C309.05","Plan a Drill Lesson",2,{"$f":"SUM(COUNTIF(WeekNights!$D$27:$AV$38,A87),COUNTIF('Weekend Training'!$D$28:$Y$40,A87))","v":0}]
["C309.06","Instruct a 15-Minute Drill Lesson",3,{"$f":"SUM(COUNTIF(WeekNights!$D$27:$AV$38,A88),COUNTIF('Weekend Training'!$D$28:$Y$40,A88))","v":0}]
[]
[null,"PO 311 - Participate in Recreational Summer Biathlon Activities"]
["C111.01","Participate in a Biathlon Briefing",1,{"$f":"SUM(COUNTIF(WeekNights!$D$27:$AV$38,A91),COUNTIF('Weekend Training'!$D$27:$Y$38,A91))","v":0}]
["C111.02","Run Wind Sprints",1,{"$f":"SUM(COUNTIF(WeekNights!$D$27:$AV$38,A92),COUNTIF('Weekend Training'!$D$27:$Y$38,A92))","v":0}]
["C111.03","Simulate Firing the Cadet Air Rifle Following Physical Activity",1,{"$f":"SUM(COUNTIF(WeekNights!$D$27:$AV$38,A93),COUNTIF('Weekend Training'!$D$27:$Y$38,A93))","v":0}]
["C111.04","Participate in a Recreational Summer Biathlon Activity",6,{"$f":"SUM(COUNTIF(WeekNights!$D$27:$AV$38,A94),COUNTIF('Weekend Training'!$D$27:$Y$38,A94))","v":0}]
["C211.01","Identify Civilian Biathlon Opportunities",1,{"$f":"SUM(COUNTIF(WeekNights!$D$27:$AV$38,A95),COUNTIF('Weekend Training'!$D$27:$Y$38,A95))","v":0}]
["C211.02","Run on Alternate Terrain",1,{"$f":"SUM(COUNTIF(WeekNights!$D$27:$AV$38,A96),COUNTIF('Weekend Training'!$D$27:$Y$38,A96))","v":0}]
["C211.03","Fire the Cadet Air Rifle using a Sling Following Physical Activity",1,{"$f":"SUM(COUNTIF(WeekNights!$D$27:$AV$38,A97),COUNTIF('Weekend Training'!$D$27:$Y$38,A97))","v":0}]
["C211.04","Participate in a Competitive Summer Biathlon Activity",6,{"$f":"SUM(COUNTIF(WeekNights!$D$27:$AV$38,A98),COUNTIF('Weekend Training'!$D$27:$Y$38,A98))","v":0}]
["C311.01","Practice Aiming and Firing the Cadet Air Rifle Following Physical Activity",3,{"$f":"SUM(COUNTIF(WeekNights!$D$27:$AV$38,A99),COUNTIF('Weekend Training'!$D$27:$Y$38,A99))","v":0}]
["C311.02","Participate in a Recreational Summer Biathlon Activity",6,{"$f":"SUM(COUNTIF(WeekNights!$D$27:$AV$38,A100),COUNTIF('Weekend Training'!$D$27:$Y$38,A100))","v":0}]
[]
[null,"PO X20 - Participate in Canadian Forces (CF) Familiarization Activities"]
["MX20.01A","Participate in a CAF Activity","-",{"$f":"SUM(COUNTIF(WeekNights!$D$27:$AV$38,A103),COUNTIF('Weekend Training'!$D$28:$Y$40,A103))","v":0}]
["MX20.01B","Participate in a CAF Familiarization Tour","-",{"$f":"SUM(COUNTIF(WeekNights!$D$27:$AV$38,A104),COUNTIF('Weekend Training'!$D$28:$Y$40,A104))","v":3}]
["MX20.01C","Fire the C7 Rifle","-",{"$f":"SUM(COUNTIF(WeekNights!$D$27:$AV$38,A105),COUNTIF('Weekend Training'!$D$28:$Y$40,A105))","v":0}]
["MX20.01D","Participate in a Mess Dinner","-",{"$f":"SUM(COUNTIF(WeekNights!$D$27:$AV$38,A106),COUNTIF('Weekend Training'!$D$28:$Y$40,A106))","v":3}]
["MX20.01E","Attend a CAF Presentation","-",{"$f":"SUM(COUNTIF(WeekNights!$D$27:$AV$38,A107),COUNTIF('Weekend Training'!$D$28:$Y$40,A107))","v":0}]
["MX20.01F","Attend a CAF Commemorative Ceremony","-",{"$f":"SUM(COUNTIF(WeekNights!$D$27:$AV$38,A108),COUNTIF('Weekend Training'!$D$28:$Y$40,A108))","v":3}]
["MX20.01G","Participate in CAF Video Activities","-",{"$f":"SUM(COUNTIF(WeekNights!$D$27:$AV$38,A109),COUNTIF('Weekend Training'!$D$28:$Y$40,A109))","v":0}]
["MX20.01H","Participate in CAF Learning Stations","-",{"$f":"SUM(COUNTIF(WeekNights!$D$27:$AV$38,A110),COUNTIF('Weekend Training'!$D$28:$Y$40,A110))","v":0}]
[null,"Minimum of 3 Classes for Mand Purpose, and up to 18 as Comp purpose. Total Between 6 and 21 Req.",6,{"$f":"SUM(D103:D110)","v":9}]
[]
[null,"PO 331 - Describe Principles of Flight"]
["M331.01","Describe Aircraft Stability",2,{"$f":"SUM(COUNTIF(WeekNights!$D$27:$AV$38,A114),COUNTIF('Weekend Training'!$D$28:$Y$40,A114))","v":2}]
["C331.01","Review Principles of Flight",1,{"$f":"SUM(COUNTIF(WeekNights!$D$27:$AV$38,A115),COUNTIF('Weekend Training'!$D$28:$Y$40,A115))","v":1}]
["C331.02","Read Pitot Static Instruments",2,{"$f":"SUM(COUNTIF(WeekNights!$D$27:$AV$38,A116),COUNTIF('Weekend Training'!$D$28:$Y$40,A116))","v":0}]
["C331.03","Identify Aspects of Helicopter Aerodynamics",1,{"$f":"SUM(COUNTIF(WeekNights!$D$27:$AV$38,A117),COUNTIF('Weekend Training'!$D$28:$Y$40,A117))","v":0}]
["C331.04","Demonstrate Attitudes and Movements in a Flight Simulator",3,{"$f":"SUM(COUNTIF(WeekNights!$D$27:$AV$38,A118),COUNTIF('Weekend Training'!$D$28:$Y$40,A118))","v":0}]
["C331.05","Participate in a Presentation Given by a Guest Speaker From the Local Aviation Community",2,{"$f":"SUM(COUNTIF(WeekNights!$D$27:$AV$38,A119),COUNTIF('Weekend Training'!$D$28:$Y$40,A119))","v":0}]
[]
[null,"PO 336 - Identify Meteorological Conditions"]
["M336.01","Describe Properties of the Atmosphere",1,{"$f":"SUM(COUNTIF(WeekNights!$D$27:$AV$38,A122),COUNTIF('Weekend Training'!$D$28:$Y$40,A122))","v":1}]
["M336.02","Explain the Formation of Clouds",1,{"$f":"SUM(COUNTIF(WeekNights!$D$27:$AV$38,A123),COUNTIF('Weekend Training'!$D$28:$Y$40,A123))","v":1}]
["M336.03","Explain the Effects of Air Pressure on Weather",1,{"$f":"SUM(COUNTIF(WeekNights!$D$27:$AV$38,A124),COUNTIF('Weekend Training'!$D$28:$Y$40,A124))","v":1}]
["M336.04","Explain the Effects of Humidity and Temperature on Weather",2,{"$f":"SUM(COUNTIF(WeekNights!$D$27:$AV$38,A125),COUNTIF('Weekend Training'!$D$28:$Y$40,A125))","v":2}]
["M336.PC","Performance Check 331/336/337",2,{"$f":"SUM(COUNTIF(WeekNights!$D$27:$AV$38,A126),COUNTIF('Weekend Training'!$D$28:$Y$40,A126))","v":2}]
["C336.01","Read an Aviation Routine Weather Report (METAR)",2,{"$f":"SUM(COUNTIF(WeekNights!$D$27:$AV$38,A127),COUNTIF('Weekend Training'!$D$28:$Y$40,A127))","v":0}]
["C336.02","Tour a Meteorological Facility",3,{"$f":"SUM(COUNTIF(WeekNights!$D$27:$AV$38,A128),COUNTIF('Weekend Training'!$D$28:$Y$40,A128))","v":0}]
["C336.03","Participate in a Presentation Given by an Flight Services Specialist",2,{"$f":"SUM(COUNTIF(WeekNights!$D$27:$AV$38,A129),COUNTIF('Weekend Training'!$D$28:$Y$40,A129))","v":0}]
[]
[null,"PO 337 - Demonstrate Air Navigation Skills"]
["M337.01","Measure Distance Along a Route",1,{"$f":"SUM(COUNTIF(WeekNights!$D$27:$AV$38,A132),COUNTIF('Weekend Training'!$D$28:$Y$40,A132))","v":1}]
["M337.02","Determine a Position on a Visual Flight Rules (VFR) Navigation Chart (VNC)",1,{"$f":"SUM(COUNTIF(WeekNights!$D$27:$AV$38,A133),COUNTIF('Weekend Training'!$D$28:$Y$40,A133))","v":1}]
["C337.01","Operate a Radio for Aviation Transmission",1,{"$f":"SUM(COUNTIF(WeekNights!$D$27:$AV$38,A134),COUNTIF('Weekend Training'!$D$28:$Y$40,A134))","v":0}]
["C337.02","Practice Air Navigation Skills",1,{"$f":"SUM(COUNTIF(WeekNights!$D$27:$AV$38,A135),COUNTIF('Weekend Training'!$D$28:$Y$40,A135))","v":0}]
[]
[null,"PO 340 - Identify Aspects of Space Exploration"]
["M340.01","Identify Canadian Astronauts",1,{"$f":"SUM(COUNTIF(WeekNights!$D$27:$AV$38,A138),COUNTIF('Weekend Training'!$D$28:$Y$40,A138))","v":1}]
["M340.02","Discuss the History of Manned Space Exploration",1,{"$f":"SUM(COUNTIF(WeekNights!$D$27:$AV$38,A139),COUNTIF('Weekend Training'!$D$28:$Y$40,A139))","v":1}]
["C340.01","Identify Canadian Astronauts",2,{"$f":"SUM(COUNTIF(WeekNights!$D$27:$AV$38,A140),COUNTIF('Weekend Training'!$D$28:$Y$40,A140))","v":0}]
["C340.02","Discuss the Canadian Space Program",1,{"$f":"SUM(COUNTIF(WeekNights!$D$27:$AV$38,A141),COUNTIF('Weekend Training'!$D$28:$Y$40,A141))","v":0}]
["C340.03","Discuss Unmanned Space Exploration",2,{"$f":"SUM(COUNTIF(WeekNights!$D$27:$AV$38,A142),COUNTIF('Weekend Training'!$D$28:$Y$40,A142))","v":0}]
["C340.04","Describe Elements of the Night Sky",1,{"$f":"SUM(COUNTIF(WeekNights!$D$27:$AV$38,A143),COUNTIF('Weekend Training'!$D$28:$Y$40,A143))","v":0}]
["C340.05","Simulate Life in Space",3,{"$f":"SUM(COUNTIF(WeekNights!$D$27:$AV$38,A144),COUNTIF('Weekend Training'!$D$28:$Y$40,A144))","v":0}]
["C340.06","Launch a Water Rocket",3,{"$f":"SUM(COUNTIF(WeekNights!$D$27:$AV$38,A145),COUNTIF('Weekend Training'!$D$28:$Y$40,A145))","v":0}]
["C340.07","Identify Global Position System (GPS) Components",2,{"$f":"SUM(COUNTIF(WeekNights!$D$27:$AV$38,A146),COUNTIF('Weekend Training'!$D$28:$Y$40,A146))","v":0}]
["C340.08","Describe Aspects of the International Space Station (ISS)",1,{"$f":"SUM(COUNTIF(WeekNights!$D$27:$AV$38,A147),COUNTIF('Weekend Training'!$D$28:$Y$40,A147))","v":0}]
["C340.09","Participate in a Presentation Given by a Guest Speaker from the Astronomy Community or Aerospace Industry",2,{"$f":"SUM(COUNTIF(WeekNights!$D$27:$AV$38,A148),COUNTIF('Weekend Training'!$D$28:$Y$40,A148))","v":0}]
["C340.10","Identify Online Stargazing Programs",1,{"$f":"SUM(COUNTIF(WeekNights!$D$27:$AV$38,A149),COUNTIF('Weekend Training'!$D$28:$Y$40,A149))","v":0}]
[]
[null,"PO 360 -Recognize Aspects of Aerodrome Operations"]
["C360.01","Identify Types of Aerodromes",1,{"$f":"SUM(COUNTIF(WeekNights!$D$27:$AV$38,A152),COUNTIF('Weekend Training'!$D$28:$Y$40,A152))","v":0}]
["C360.02","Explain Aspects of Aerodrome Lighting",1,{"$f":"SUM(COUNTIF(WeekNights!$D$27:$AV$38,A153),COUNTIF('Weekend Training'!$D$28:$Y$40,A153))","v":0}]
["C360.03","Construct a Model of the Airspace at an Aerodrome",3,{"$f":"SUM(COUNTIF(WeekNights!$D$27:$AV$38,A154),COUNTIF('Weekend Training'!$D$28:$Y$40,A154))","v":0}]
["C360.04","Identify How Equipment is Used at an Aerodrome",1,{"$f":"SUM(COUNTIF(WeekNights!$D$27:$AV$38,A155),COUNTIF('Weekend Training'!$D$28:$Y$40,A155))","v":0}]
["C360.05","Identify Aspects of Emergency Response and Aerodrome Security",1,{"$f":"SUM(COUNTIF(WeekNights!$D$27:$AV$38,A156),COUNTIF('Weekend Training'!$D$28:$Y$40,A156))","v":0}]
["C360.06","Explain Aspects of Air Traffic Services (ATS)",1,{"$f":"SUM(COUNTIF(WeekNights!$D$27:$AV$38,A157),COUNTIF('Weekend Training'!$D$28:$Y$40,A157))","v":0}]
[]
[null,"PO 370 - Recognize Aspects of Aircraft Manufacturing and Maintenance"]
["M370.01","Identify Components of the Pitot Static System",1,{"$f":"SUM(COUNTIF(WeekNights!$D$27:$AV$38,A160),COUNTIF('Weekend Training'!$D$28:$Y$40,A160))","v":1}]
["M370.02","Identify Aircraft Manufacturers",1,{"$f":"SUM(COUNTIF(WeekNights!$D$27:$AV$38,A161),COUNTIF('Weekend Training'!$D$28:$Y$40,A161))","v":1}]
["M370.03","Describe Routine Aircraft Inspection Procedures",1,{"$f":"SUM(COUNTIF(WeekNights!$D$27:$AV$38,A162),COUNTIF('Weekend Training'!$D$28:$Y$40,A162))","v":1}]
["C370.01","Identify Tasks Required to Maintain Aircraft",1,{"$f":"SUM(COUNTIF(WeekNights!$D$27:$AV$38,A163),COUNTIF('Weekend Training'!$D$28:$Y$40,A163))","v":0}]
["C370.02","Describe Materials Used in Aircraft Construction",1,{"$f":"SUM(COUNTIF(WeekNights!$D$27:$AV$38,A164),COUNTIF('Weekend Training'!$D$28:$Y$40,A164))","v":0}]
["C370.03","Identify Basic Power Tools Used in Aircraft Manufacturing and Maintenance",1,{"$f":"SUM(COUNTIF(WeekNights!$D$27:$AV$38,A165),COUNTIF('Weekend Training'!$D$28:$Y$40,A165))","v":0}]
["C370.04","Construct an Aluminium Model Biplane",12,{"$f":"SUM(COUNTIF(WeekNights!$D$27:$AV$38,A166),COUNTIF('Weekend Training'!$D$28:$Y$40,A166))","v":0}]
["C370.05","Tour an Aircraft Restoration Project",3,{"$f":"SUM(COUNTIF(WeekNights!$D$27:$AV$38,A167),COUNTIF('Weekend Training'!$D$28:$Y$40,A167))","v":0}]
[]
[null,"PO 390 - Navigate a Route Using a Map and Compass"]
["M390.01","Identify Parts of the Compass",1,{"$f":"SUM(COUNTIF(WeekNights!$D$27:$AV$38,A170),COUNTIF('Weekend Training'!$D$28:$Y$40,A170))","v":2}]
["M390.02","Identify Marginal Information and Conventional Signs",2,{"$f":"SUM(COUNTIF(WeekNights!$D$27:$AV$38,A171),COUNTIF('Weekend Training'!$D$28:$Y$40,A171))","v":2}]
["M390.03","Determine Grid References (GRs)",2,{"$f":"SUM(COUNTIF(WeekNights!$D$27:$AV$38,A172),COUNTIF('Weekend Training'!$D$28:$Y$40,A172))","v":2}]
["M390.04","Determine Distance on a Map and on the Ground",3,{"$f":"SUM(COUNTIF(WeekNights!$D$27:$AV$38,A173),COUNTIF('Weekend Training'!$D$28:$Y$40,A173))","v":3}]
["M390.05","Determine Bearings on a Map and on the Ground",2,{"$f":"SUM(COUNTIF(WeekNights!$D$27:$AV$38,A174),COUNTIF('Weekend Training'!$D$28:$Y$40,A174))","v":2}]
["C390.01","Identify Types of Maps",1,{"$f":"SUM(COUNTIF(WeekNights!$D$27:$AV$38,A175),COUNTIF('Weekend Training'!$D$28:$Y$40,A175))","v":0}]
["C390.02","Interpret Contour Lines",1,{"$f":"SUM(COUNTIF(WeekNights!$D$27:$AV$38,A176),COUNTIF('Weekend Training'!$D$28:$Y$40,A176))","v":0}]
["C390.03","Orient a Map by Inspection",1,{"$f":"SUM(COUNTIF(WeekNights!$D$27:$AV$38,A177),COUNTIF('Weekend Training'!$D$28:$Y$40,A177))","v":0}]
["C390.04","Orient a Map Using a Compass",1,{"$f":"SUM(COUNTIF(WeekNights!$D$27:$AV$38,A178),COUNTIF('Weekend Training'!$D$28:$Y$40,A178))","v":0}]
["C390.05","Calculate Magnetic Declination",2,{"$f":"SUM(COUNTIF(WeekNights!$D$27:$AV$38,A179),COUNTIF('Weekend Training'!$D$28:$Y$40,A179))","v":0}]
["C390.06","Determine Direction Using the Sun",1,{"$f":"SUM(COUNTIF(WeekNights!$D$27:$AV$38,A180),COUNTIF('Weekend Training'!$D$28:$Y$40,A180))","v":0}]
["C390.07","Determine Direction at Night",1,{"$f":"SUM(COUNTIF(WeekNights!$D$27:$AV$38,A181),COUNTIF('Weekend Training'!$D$28:$Y$40,A181))","v":0}]
["C390.08","Use Blazing Techniques",1,{"$f":"SUM(COUNTIF(WeekNights!$D$27:$AV$38,A182),COUNTIF('Weekend Training'!$D$28:$Y$40,A182))","v":0}]
["C390.09","Identify Elements of the Night Sky",4,{"$f":"SUM(COUNTIF(WeekNights!$D$27:$AV$38,A183),COUNTIF('Weekend Training'!$D$28:$Y$40,A183))","v":0}]
["C390.10","Identify Methods of Preparing and Cooking a Small Animal or Fish",2,{"$f":"SUM(COUNTIF(WeekNights!$D$27:$AV$38,A184),COUNTIF('Weekend Training'!$D$28:$Y$40,A184))","v":0}]
["C390.11","Construct Camp Crafts",4,{"$f":"SUM(COUNTIF(WeekNights!$D$27:$AV$38,A185),COUNTIF('Weekend Training'!$D$28:$Y$40,A185))","v":0}]
["C390.12","Perform Minor First Aid in a Field Setting",4,{"$f":"SUM(COUNTIF(WeekNights!$D$27:$AV$38,A186),COUNTIF('Weekend Training'!$D$28:$Y$40,A186))","v":0}]
["C390.13","Act as a Member of a Ground Airrch and Rescue (SAR) Party",4,{"$f":"SUM(COUNTIF(WeekNights!$D$27:$AV$38,A187),COUNTIF('Weekend Training'!$D$28:$Y$40,A187))","v":0}]
["C390.14","Participate in a Presentation Given by a Guest Speaker from the Airrch and Rescue (SAR) Community",2,{"$f":"SUM(COUNTIF(WeekNights!$D$27:$AV$38,A188),COUNTIF('Weekend Training'!$D$28:$Y$40,A188))","v":0}]

{"sheet":"EO Val. (Lvl 4)","index":23,"n_rows":196,"n_cols":4,"rows_kept":196}
[null,"LEVEL 4  PROGRAM - 400.00"]
["Serial","Description","# Classes","# Assigned"]
[]
[null,"PO 400 - Positive Social Relationships "]
["M400.01","Your Responsibility as a Leader to Influence Positive Social Relations",2,{"$f":"SUM(COUNTIF(WeekNights!$D$39:$AV$50,A5),COUNTIF('Weekend Training'!$D$41:$Y$52,A5))","v":2}]
["M400.02","What Complaints and Consent are and how to Practice Risk Reduction",2,{"$f":"SUM(COUNTIF(WeekNights!$D$39:$AV$50,A6),COUNTIF('Weekend Training'!$D$41:$Y$52,A6))","v":2}]
["M400.03","Your responsibility as a leader to help manage conflict",2,{"$f":"SUM(COUNTIF(WeekNights!$D$39:$AV$50,A7),COUNTIF('Weekend Training'!$D$41:$Y$52,A7))","v":2}]
[]
[null," PO X01 - Participate in Citizenship Activities"]
["MX01.01A","Participate in a Citizenship Tour","-",{"$f":"SUM(COUNTIF(WeekNights!$D$39:$AV$50,A10),COUNTIF('Weekend Training'!$D$41:$Y$52,A10))","v":0}]
["MX01.01B","Attend a Presentation by a Community Organization","-",{"$f":"SUM(COUNTIF(WeekNights!$D$39:$AV$50,A11),COUNTIF('Weekend Training'!$D$41:$Y$52,A11))","v":0}]
["MX01.01C","Attend a Presentation by a Citizen-of-Interest","-",{"$f":"SUM(COUNTIF(WeekNights!$D$39:$AV$50,A12),COUNTIF('Weekend Training'!$D$41:$Y$52,A12))","v":0}]
["MX01.01D","Participate in the Canadian Citizenship Challenge","-",{"$f":"SUM(COUNTIF(WeekNights!$D$39:$AV$50,A13),COUNTIF('Weekend Training'!$D$41:$Y$52,A13))","v":0}]
["MX01.01E","Host a Citizenship Ceremony -","-",{"$f":"SUM(COUNTIF(WeekNights!$D$39:$AV$50,A14),COUNTIF('Weekend Training'!$D$41:$Y$52,A14))","v":0}]
["MX01.01F","Participate in an Election -","-",{"$f":"SUM(COUNTIF(WeekNights!$D$39:$AV$50,A15),COUNTIF('Weekend Training'!$D$41:$Y$52,A15))","v":0}]
["MX01.01G","Participate in Heritage Minutes Video Activities -","-",{"$f":"SUM(COUNTIF(WeekNights!$D$39:$AV$50,A16),COUNTIF('Weekend Training'!$D$41:$Y$52,A16))","v":0}]
["MX01.01H","Participate in Citizenship Learning Stations -","-",{"$f":"SUM(COUNTIF(WeekNights!$D$39:$AV$50,A17),COUNTIF('Weekend Training'!$D$41:$Y$52,A17))","v":0}]
[null,"Minimum of 3 Classes for Mand Purpose, and up to 18 as Comp purpose. Total Between 3 and 21 Req.",3,{"$f":"SUM(D10:D17)","v":0}]
[]
[null," PO X02 - Perform Community Service"]
["MX02.01","Perform Community Service",9,{"$f":"SUM(COUNTIF(WeekNights!$D$39:$AV$50,A21),COUNTIF('Weekend Training'!$D$41:$Y$52,A21))","v":9}]
["CX02.01","Perform Community Service",18,{"$f":"SUM(COUNTIF(WeekNights!$D$39:$AV$50,A22),COUNTIF('Weekend Training'!$D$39:$Y$51,A22))","v":0}]
[]
[null,"PO 403 - Act as a Team Leader"]
["M403.01","Describe Needs and Expectations of Team Members",1,{"$f":"SUM(COUNTIF(WeekNights!$D$39:$AV$50,A25),COUNTIF('Weekend Training'!$D$41:$Y$52,A25))","v":1}]
["M403.02","Select a Leadership Approach",2,{"$f":"SUM(COUNTIF(WeekNights!$D$39:$AV$50,A26),COUNTIF('Weekend Training'!$D$41:$Y$52,A26))","v":2}]
["M403.03","Motivate Team Members",2,{"$f":"SUM(COUNTIF(WeekNights!$D$39:$AV$50,A27),COUNTIF('Weekend Training'!$D$41:$Y$52,A27))","v":2}]
["M403.04","Provide Feedback to Team Members",2,{"$f":"SUM(COUNTIF(WeekNights!$D$39:$AV$50,A28),COUNTIF('Weekend Training'!$D$41:$Y$52,A28))","v":2}]
["M403.05","Participate in a Mentoring Relationship",2,{"$f":"SUM(COUNTIF(WeekNights!$D$39:$AV$50,A29),COUNTIF('Weekend Training'!$D$41:$Y$52,A29))","v":2}]
["M403.06","Act as a Team Leader During a Leadership Appointment",1,{"$f":"SUM(COUNTIF(WeekNights!$D$39:$AV$50,A30),COUNTIF('Weekend Training'!$D$41:$Y$52,A30))","v":1}]
["M403.P1","Performance Check - Part 1","-",{"$f":"SUM(COUNTIF(WeekNights!$D$39:$AV$50,A31),COUNTIF('Weekend Training'!$D$41:$Y$52,A31))","v":0}]
["M403.P2","Performance Check - Part 2","-",{"$f":"SUM(COUNTIF(WeekNights!$D$39:$AV$50,A32),COUNTIF('Weekend Training'!$D$41:$Y$52,A32))","v":0}]
["C403.01","Self-Assess Leadership Skills",1,{"$f":"SUM(COUNTIF(WeekNights!$D$39:$AV$50,A33),COUNTIF('Weekend Training'!$D$41:$Y$52,A33))","v":0}]
["C403.02","Participate in a Leadership Seminar (4x3 periods)",12,{"$f":"SUM(COUNTIF(WeekNights!$D$39:$AV$50,A34),COUNTIF('Weekend Training'!$D$41:$Y$52,A34))","v":0}]
[]
[null,"PO X04 - Track Participation in Physical Activities"]
["MX04.01","Participate in 60 Minutes of Moderate- to Vigorous-Intensity Physical Activity (MVPA) and Track Participation in Physical Activities",3,{"$f":"SUM(COUNTIF(WeekNights!$D$39:$AV$50,A37),COUNTIF('Weekend Training'!$D$41:$Y$52,A37))","v":0}]
["MX04.02","Identify Strategies to Improve Participation in Physical Activities and Participate in the Cadet Fitness Assessment (CFA)",3,{"$f":"SUM(COUNTIF(WeekNights!$D$39:$AV$50,A38),COUNTIF('Weekend Training'!$D$41:$Y$52,A38))","v":0}]
["MX04.03","Participate in the CFA and Identify Strategies for Improving Personal Physical Fitness",3,{"$f":"SUM(COUNTIF(WeekNights!$D$39:$AV$50,A39),COUNTIF('Weekend Training'!$D$41:$Y$52,A39))","v":3}]
["CX04.01","Participate in the CFA and Identify Strategies for Improving Personal Physical Fitness",3,{"$f":"SUM(COUNTIF(WeekNights!$D$39:$AV$50,A40),COUNTIF('Weekend Training'!$D$41:$Y$52,A40))","v":0}]
["CX04.02","Participate in Activities that Reinforce the Three Components of Physical Fitness",3,{"$f":"SUM(COUNTIF(WeekNights!$D$39:$AV$50,A41),COUNTIF('Weekend Training'!$D$41:$Y$52,A41))","v":0}]
["CX04.03","Participate in a Cooking Class",3,{"$f":"SUM(COUNTIF(WeekNights!$D$39:$AV$50,A42),COUNTIF('Weekend Training'!$D$41:$Y$52,A42))","v":0}]
["CX04.04","Attend a Personal Fitness and Healthy Living Presentation",3,{"$f":"SUM(COUNTIF(WeekNights!$D$39:$AV$50,A43),COUNTIF('Weekend Training'!$D$41:$Y$52,A43))","v":0}]
["CX04.05","Attend a Local Amateur Sporting Event",3,{"$f":"SUM(COUNTIF(WeekNights!$D$39:$AV$50,A44),COUNTIF('Weekend Training'!$D$41:$Y$52,A44))","v":0}]
[]
[null,"PO X05 - Participate in Physical Activities"]
["MX05.01","Participate in Physical Activities",9,{"$f":"SUM(COUNTIF(WeekNights!$D$39:$AV$50,A47),COUNTIF('Weekend Training'!$D$41:$Y$52,A47))","v":6}]
["CX05.01","Participate in Physical Activities",9,{"$f":"SUM(COUNTIF(WeekNights!$D$39:$AV$50,A48),COUNTIF('Weekend Training'!$D$41:$Y$52,A48))","v":0}]
["CX05.02","Participate in a Tournament",9,{"$f":"SUM(COUNTIF(WeekNights!$D$39:$AV$50,A49),COUNTIF('Weekend Training'!$D$41:$Y$52,A49))","v":0}]
[]
[null,"PO 406 - Fire the Cadet Air Rifle During Recreational Marksmanship"]
["M406.01","Participate in a Recreational Marksmanship Activity",3,{"$f":"SUM(COUNTIF(WeekNights!$D$39:$AV$50,A52),COUNTIF('Weekend Training'!$D$41:$Y$52,A52))","v":0}]
["C106.01","Participate in a Recreational Marksmanship Activity",6,{"$f":"SUM(COUNTIF(WeekNights!$D$39:$AV$50,A53),COUNTIF('Weekend Training'!$D$41:$Y$52,A53))","v":0}]
["C306.01","Identify Civilian Marksmanship Organizations",1,{"$f":"SUM(COUNTIF(WeekNights!$D$39:$AV$50,A54),COUNTIF('Weekend Training'!$D$41:$Y$52,A54))","v":0}]
["C306.02","Correct Marksmanship Error",2,{"$f":"SUM(COUNTIF(WeekNights!$D$39:$AV$50,A55),COUNTIF('Weekend Training'!$D$41:$Y$52,A55))","v":0}]
["C306.03","Fire the Cadet Air Rifle from the Standing Position",2,{"$f":"SUM(COUNTIF(WeekNights!$D$39:$AV$50,A56),COUNTIF('Weekend Training'!$D$41:$Y$52,A56))","v":0}]
["C406.01","Assist the Range Safety Officer (RSO)",1,{"$f":"SUM(COUNTIF(WeekNights!$D$39:$AV$50,A57),COUNTIF('Weekend Training'!$D$41:$Y$52,A57))","v":0}]
["C406.02","Score Air Rifle Marksmanship Targets",1,{"$f":"SUM(COUNTIF(WeekNights!$D$39:$AV$50,A58),COUNTIF('Weekend Training'!$D$41:$Y$52,A58))","v":0}]
[]
[null,"PO 407 - Serve in a Air Cadet Corps"]
["M407.01","Discuss Proficiency Level Four Training Opportunities",1,{"$f":"SUM(COUNTIF(WeekNights!$D$39:$AV$50,A61),COUNTIF('Weekend Training'!$D$41:$Y$52,A61))","v":1}]
["M407.02","Identify Year Four CSTC Training Opportunities",1,{"$f":"SUM(COUNTIF(WeekNights!$D$39:$AV$50,A62),COUNTIF('Weekend Training'!$D$41:$Y$52,A62))","v":1}]
["C307.01","Participate in a Presentation Given by a Guest Speaker From the RCSU",2,{"$f":"SUM(COUNTIF(WeekNights!$D$39:$AV$50,A63),COUNTIF('Weekend Training'!$D$41:$Y$52,A63))","v":0}]
["C307.02","Participate in a Presentation Given by the Cadet Liaison Officer",2,{"$f":"SUM(COUNTIF(WeekNights!$D$39:$AV$50,A64),COUNTIF('Weekend Training'!$D$41:$Y$52,A64))","v":0}]
["C307.03","Participate in a Presentation Given by a Guest Speaker from the Air Cadet League of Canada",2,{"$f":"SUM(COUNTIF(WeekNights!$D$39:$AV$50,A65),COUNTIF('Weekend Training'!$D$41:$Y$52,A65))","v":0}]
["C407.01","Prepare for a Merit Review Board",3,{"$f":"SUM(COUNTIF(WeekNights!$D$39:$AV$50,A66),COUNTIF('Weekend Training'!$D$41:$Y$52,A66))","v":0}]
[]
[null,"PO 408 - Command a Division on Parade"]
["M408.01","Discuss Commanding a Division on Parade",1,{"$f":"SUM(COUNTIF(WeekNights!$D$39:$AV$50,A69),COUNTIF('Weekend Training'!$D$41:$Y$52,A69))","v":1}]
["M408.02","Identify Parade Sequence",1,{"$f":"SUM(COUNTIF(WeekNights!$D$39:$AV$50,A70),COUNTIF('Weekend Training'!$D$41:$Y$52,A70))","v":1}]
["M408.03","Command a Squad",1,{"$f":"SUM(COUNTIF(WeekNights!$D$39:$AV$50,A71),COUNTIF('Weekend Training'!$D$41:$Y$52,A71))","v":1}]
["M408.04","Inspect a Cadet on Parade",2,{"$f":"SUM(COUNTIF(WeekNights!$D$39:$AV$50,A72),COUNTIF('Weekend Training'!$D$41:$Y$52,A72))","v":2}]
["M408.PC","Performance Check","-",{"$f":"SUM(COUNTIF(WeekNights!$D$39:$AV$50,A73),COUNTIF('Weekend Training'!$D$41:$Y$52,A73))","v":0}]
["C208.01","Practice Ceremonial Drill as a Review",2,{"$f":"SUM(COUNTIF(WeekNights!$D$39:$AV$50,A74),COUNTIF('Weekend Training'!$D$41:$Y$52,A74))","v":2}]
["C208.02","Execute Drill With Arms",8,{"$f":"SUM(COUNTIF(WeekNights!$D$39:$AV$50,A75),COUNTIF('Weekend Training'!$D$41:$Y$52,A75))","v":0}]
["C308.01","Execute Flag Party Drill",4,{"$f":"SUM(COUNTIF(WeekNights!$D$39:$AV$50,A76),COUNTIF('Weekend Training'!$D$41:$Y$52,A76))","v":0}]
["C308.02","Deliver Words of Command",2,{"$f":"SUM(COUNTIF(WeekNights!$D$39:$AV$50,A77),COUNTIF('Weekend Training'!$D$41:$Y$52,A77))","v":0}]
["C308.03","Practice Voice Commands",2,{"$f":"SUM(COUNTIF(WeekNights!$D$39:$AV$50,A78),COUNTIF('Weekend Training'!$D$41:$Y$52,A78))","v":0}]
["C408.01","Discuss the History of Drill",1,{"$f":"SUM(COUNTIF(WeekNights!$D$39:$AV$50,A79),COUNTIF('Weekend Training'!$D$41:$Y$52,A79))","v":0}]
["C408.02","View a Re-Enactment That Demonstrates the Historical Use of Drill",3,{"$f":"SUM(COUNTIF(WeekNights!$D$39:$AV$50,A80),COUNTIF('Weekend Training'!$D$41:$Y$52,A80))","v":0}]
[]
[null,"PO 409 - Instruct a Lesson"]
["M409.01","Identify Methods of Instruction",2,{"$f":"SUM(COUNTIF(WeekNights!$D$39:$AV$50,A83),COUNTIF('Weekend Training'!$D$41:$Y$52,A83))","v":2}]
["M409.02","Identify Elements of a Positive Learning Environment",2,{"$f":"SUM(COUNTIF(WeekNights!$D$39:$AV$50,A84),COUNTIF('Weekend Training'!$D$41:$Y$52,A84))","v":2}]
["M409.03","Describe Learner Needs",2,{"$f":"SUM(COUNTIF(WeekNights!$D$39:$AV$50,A85),COUNTIF('Weekend Training'!$D$41:$Y$52,A85))","v":2}]
["M409.04","Explain Assessment",1,{"$f":"SUM(COUNTIF(WeekNights!$D$39:$AV$50,A86),COUNTIF('Weekend Training'!$D$41:$Y$52,A86))","v":1}]
["M409.05","Instruct a 30-Minute Lesson",3,{"$f":"SUM(COUNTIF(WeekNights!$D$39:$AV$50,A87),COUNTIF('Weekend Training'!$D$41:$Y$52,A87))","v":3}]
["M409.PC","Performance Check","-",{"$f":"SUM(COUNTIF(WeekNights!$D$39:$AV$50,A88),COUNTIF('Weekend Training'!$D$41:$Y$52,A88))","v":0}]
["C309.04","Identify Formations for Drill Instruction",1,{"$f":"SUM(COUNTIF(WeekNights!$D$39:$AV$50,A89),COUNTIF('Weekend Training'!$D$41:$Y$52,A89))","v":0}]
["C309.05","Plan a Drill Lesson",2,{"$f":"SUM(COUNTIF(WeekNights!$D$39:$AV$50,A90),COUNTIF('Weekend Training'!$D$41:$Y$52,A90))","v":2}]
["C309.06","Instruct a 15-Minute Drill Lesson",3,{"$f":"SUM(COUNTIF(WeekNights!$D$39:$AV$50,A91),COUNTIF('Weekend Training'!$D$41:$Y$52,A91))","v":0}]
["C409.01","Plan a Lesson",2,{"$f":"SUM(COUNTIF(WeekNights!$D$39:$AV$50,A92),COUNTIF('Weekend Training'!$D$41:$Y$52,A92))","v":0}]
["C409.02","Instruct a 30-Minute Lesson",3,{"$f":"SUM(COUNTIF(WeekNights!$D$39:$AV$50,A93),COUNTIF('Weekend Training'!$D$41:$Y$52,A93))","v":0}]
["C409.03","Act as an Assistant Instructor",3,{"$f":"SUM(COUNTIF(WeekNights!$D$39:$AV$50,A94),COUNTIF('Weekend Training'!$D$41:$Y$52,A94))","v":0}]
["C409.04","Participate in a Creative Lesson- Planning Workshop",3,{"$f":"SUM(COUNTIF(WeekNights!$D$39:$AV$50,A95),COUNTIF('Weekend Training'!$D$41:$Y$52,A95))","v":0}]
["C409.05","Act as an Assistant Drill Instructor",3,{"$f":"SUM(COUNTIF(WeekNights!$D$39:$AV$50,A96),COUNTIF('Weekend Training'!$D$41:$Y$52,A96))","v":0}]
["C409.06","Instruct a 30-Minute Drill Lesson",3,{"$f":"SUM(COUNTIF(WeekNights!$D$39:$AV$50,A97),COUNTIF('Weekend Training'!$D$41:$Y$52,A97))","v":0}]
[]
[null,"PO 411 - Participate in Recreational Summer Biathlon Activities"]
["C111.01","Participate in a Biathlon Briefing",1,{"$f":"SUM(COUNTIF(WeekNights!$D$39:$AV$50,A100),COUNTIF('Weekend Training'!$D$39:$Y$51,A100))","v":0}]
["C111.02","Run Wind Sprints",1,{"$f":"SUM(COUNTIF(WeekNights!$D$39:$AV$50,A101),COUNTIF('Weekend Training'!$D$39:$Y$51,A101))","v":0}]
["C111.03","Simulate Firing the Cadet Air Rifle Following Physical Activity",1,{"$f":"SUM(COUNTIF(WeekNights!$D$39:$AV$50,A102),COUNTIF('Weekend Training'!$D$39:$Y$51,A102))","v":0}]
["C111.04","Participate in a Recreational Summer Biathlon Activity",6,{"$f":"SUM(COUNTIF(WeekNights!$D$39:$AV$50,A103),COUNTIF('Weekend Training'!$D$39:$Y$51,A103))","v":0}]
["C211.01","Identify Civilian Biathlon Opportunities",1,{"$f":"SUM(COUNTIF(WeekNights!$D$39:$AV$50,A104),COUNTIF('Weekend Training'!$D$39:$Y$51,A104))","v":0}]
["C211.02","Run on Alternate Terrain",1,{"$f":"SUM(COUNTIF(WeekNights!$D$39:$AV$50,A105),COUNTIF('Weekend Training'!$D$39:$Y$51,A105))","v":0}]
["C211.03","Fire the Cadet Air Rifle using a Sling Following Physical Activity",1,{"$f":"SUM(COUNTIF(WeekNights!$D$39:$AV$50,A106),COUNTIF('Weekend Training'!$D$39:$Y$51,A106))","v":0}]
["C211.04","Participate in a Competitive Summer Biathlon Activity",6,{"$f":"SUM(COUNTIF(WeekNights!$D$39:$AV$50,A107),COUNTIF('Weekend Training'!$D$39:$Y$51,A107))","v":0}]
["C311.01","Practice Aiming and Firing the Cadet Air Rifle Following Physical Activity",3,{"$f":"SUM(COUNTIF(WeekNights!$D$39:$AV$50,A108),COUNTIF('Weekend Training'!$D$39:$Y$51,A108))","v":0}]
["C311.02","Participate in a Recreational Summer Biathlon Activity",6,{"$f":"SUM(COUNTIF(WeekNights!$D$39:$AV$50,A109),COUNTIF('Weekend Training'!$D$39:$Y$51,A109))","v":0}]
[]
[null,"PO X20 - Participate in Canadian Forces (CF) Familiarization Activities"]
["MX20.01A","Participate in a CAF Activity","-",{"$f":"SUM(COUNTIF(WeekNights!$D$39:$AV$50,A112),COUNTIF('Weekend Training'!$D$41:$Y$52,A112))","v":0}]
["MX20.01B","Participate in a CAF Familiarization Tour","-",{"$f":"SUM(COUNTIF(WeekNights!$D$39:$AV$50,A113),COUNTIF('Weekend Training'!$D$41:$Y$52,A113))","v":3}]
["MX20.01C","Fire the C7 Rifle","-",{"$f":"SUM(COUNTIF(WeekNights!$D$39:$AV$50,A114),COUNTIF('Weekend Training'!$D$41:$Y$52,A114))","v":0}]
["MX20.01D","Participate in a Mess Dinner","-",{"$f":"SUM(COUNTIF(WeekNights!$D$39:$AV$50,A115),COUNTIF('Weekend Training'!$D$41:$Y$52,A115))","v":3}]
["MX20.01E","Attend a CAF Presentation","-",{"$f":"SUM(COUNTIF(WeekNights!$D$39:$AV$50,A116),COUNTIF('Weekend Training'!$D$41:$Y$52,A116))","v":0}]
["MX20.01F","Attend a CAF Commemorative Ceremony","-",{"$f":"SUM(COUNTIF(WeekNights!$D$39:$AV$50,A117),COUNTIF('Weekend Training'!$D$41:$Y$52,A117))","v":3}]
["MX20.01G","Participate in CAF Video Activities","-",{"$f":"SUM(COUNTIF(WeekNights!$D$39:$AV$50,A118),COUNTIF('Weekend Training'!$D$41:$Y$52,A118))","v":0}]
["MX20.01H","Participate in CAF Learning Stations","-",{"$f":"SUM(COUNTIF(WeekNights!$D$39:$AV$50,A119),COUNTIF('Weekend Training'!$D$41:$Y$52,A119))","v":0}]
[null,"Minimum of 3 Classes for Mand Purpose, and up to 18 as Comp purpose. Total Between 6 and 21 Req.",6,{"$f":"SUM(D112:D119)","v":9}]
[]
[null,"PO 429 - Communicate Using Radio Procedures for Aviation Transmission"]
["C429.01","Explain Regulations and Operating Procedures for Aviation Transmission and Licensing",1,{"$f":"SUM(COUNTIF(WeekNights!$D$39:$AV$50,A123),COUNTIF('Weekend Training'!$D$41:$Y$52,A123))","v":1}]
["C429.02","Communicate Using Radio Procedures for Aviation Transmission",1,{"$f":"SUM(COUNTIF(WeekNights!$D$39:$AV$50,A124),COUNTIF('Weekend Training'!$D$41:$Y$52,A124))","v":1}]
["C429.03","Describe Radio Wavelengths, Signals, Licences and Equipment",1,{"$f":"SUM(COUNTIF(WeekNights!$D$39:$AV$50,A125),COUNTIF('Weekend Training'!$D$41:$Y$52,A125))","v":1}]
["C429.04","Explain Emergency, Urgency and Safety Communications",1,{"$f":"SUM(COUNTIF(WeekNights!$D$39:$AV$50,A126),COUNTIF('Weekend Training'!$D$41:$Y$52,A126))","v":1}]
["C429.PC","Performance Check",2,{"$f":"SUM(COUNTIF(WeekNights!$D$39:$AV$50,A127),COUNTIF('Weekend Training'!$D$41:$Y$52,A127))","v":0}]
[]
[null,"PO 431 - Explain Principles of Flight"]
["M431.01","Explain Features of Wing Design",1,{"$f":"SUM(COUNTIF(WeekNights!$D$39:$AV$50,A130),COUNTIF('Weekend Training'!$D$41:$Y$52,A130))","v":1}]
["M431.02","Describe Flight Instruments",2,{"$f":"SUM(COUNTIF(WeekNights!$D$39:$AV$50,A131),COUNTIF('Weekend Training'!$D$41:$Y$52,A131))","v":2}]
["C431.01","Explain Flight Performance Factors",2,{"$f":"SUM(COUNTIF(WeekNights!$D$39:$AV$50,A132),COUNTIF('Weekend Training'!$D$41:$Y$52,A132))","v":0}]
["C431.02","Demonstrate Turns, Climbs and Descents in a Flight Simulator",3,{"$f":"SUM(COUNTIF(WeekNights!$D$39:$AV$50,A133),COUNTIF('Weekend Training'!$D$41:$Y$52,A133))","v":0}]
["C431.03","Fly a Radio-Controlled Aircraft",3,{"$f":"SUM(COUNTIF(WeekNights!$D$39:$AV$50,A134),COUNTIF('Weekend Training'!$D$41:$Y$52,A134))","v":0}]
[]
[null,"PO 432 - Describe Aero Engine Systems"]
["M432.01","Describe Fuel Systems",1,{"$f":"SUM(COUNTIF(WeekNights!$D$39:$AV$50,A137),COUNTIF('Weekend Training'!$D$41:$Y$52,A137))","v":1}]
["M432.02","Describe Propeller Systems",1,{"$f":"SUM(COUNTIF(WeekNights!$D$39:$AV$50,A138),COUNTIF('Weekend Training'!$D$41:$Y$52,A138))","v":1}]
["M432.03","Describe Engine Instruments",1,{"$f":"SUM(COUNTIF(WeekNights!$D$39:$AV$50,A139),COUNTIF('Weekend Training'!$D$41:$Y$52,A139))","v":1}]
["C432.01","Describe Ignition and Electrical Systems",1,{"$f":"SUM(COUNTIF(WeekNights!$D$39:$AV$50,A140),COUNTIF('Weekend Training'!$D$41:$Y$52,A140))","v":0}]
["C432.02","Describe Turbocharging and Supercharging Systems",1,{"$f":"SUM(COUNTIF(WeekNights!$D$39:$AV$50,A141),COUNTIF('Weekend Training'!$D$41:$Y$52,A141))","v":0}]
["C432.03","Describe Gas Turbine Engines",1,{"$f":"SUM(COUNTIF(WeekNights!$D$39:$AV$50,A142),COUNTIF('Weekend Training'!$D$41:$Y$52,A142))","v":0}]
[]
[null,"PO 436 - Explain Aspects of Meteorology"]
["M436.01","Explain Winds",1,{"$f":"SUM(COUNTIF(WeekNights!$D$39:$AV$50,A145),COUNTIF('Weekend Training'!$D$41:$Y$52,A145))","v":1}]
["M436.02","Describe Air Masses and Fronts",3,{"$f":"SUM(COUNTIF(WeekNights!$D$39:$AV$50,A146),COUNTIF('Weekend Training'!$D$41:$Y$52,A146))","v":3}]
["C436.01","Explain Fog",1,{"$f":"SUM(COUNTIF(WeekNights!$D$39:$AV$50,A147),COUNTIF('Weekend Training'!$D$41:$Y$52,A147))","v":0}]
["C436.02","Describe Severe Weather Conditions",1,{"$f":"SUM(COUNTIF(WeekNights!$D$39:$AV$50,A148),COUNTIF('Weekend Training'!$D$41:$Y$52,A148))","v":1}]
["C436.03","Analyze Weather Information",3,{"$f":"SUM(COUNTIF(WeekNights!$D$39:$AV$50,A149),COUNTIF('Weekend Training'!$D$41:$Y$52,A149))","v":0}]
[]
[null,"PO 437 - Explain Aspects of Air Navigation"]
["M437.01","Define Air Navigation Terms",2,{"$f":"SUM(COUNTIF(WeekNights!$D$39:$AV$50,A152),COUNTIF('Weekend Training'!$D$41:$Y$52,A152))","v":2}]
["M437.02","Describe the Magnetic Compass",1,{"$f":"SUM(COUNTIF(WeekNights!$D$39:$AV$50,A153),COUNTIF('Weekend Training'!$D$41:$Y$52,A153))","v":1}]
["M437.PC","Performance Check 431/432/436/437",1,{"$f":"SUM(COUNTIF(WeekNights!$D$39:$AV$50,A154),COUNTIF('Weekend Training'!$D$41:$Y$52,A154))","v":2}]
["C437.01","Solve Navigation Problems with a Manual Flight Computer",2,{"$f":"SUM(COUNTIF(WeekNights!$D$39:$AV$50,A155),COUNTIF('Weekend Training'!$D$41:$Y$52,A155))","v":0}]
["C437.02","Use a Visual Flight Rules (VFR) Navigation Chart (VNC)",2,{"$f":"SUM(COUNTIF(WeekNights!$D$39:$AV$50,A156),COUNTIF('Weekend Training'!$D$41:$Y$52,A156))","v":0}]
[]
[null,"PO 440 - Discuss Aerospace Structures"]
["M440.01","Identify Aerospace Materials",1,{"$f":"SUM(COUNTIF(WeekNights!$D$39:$AV$50,A159),COUNTIF('Weekend Training'!$D$41:$Y$52,A159))","v":1}]
["M440.02","Describe Canadian Satellites",1,{"$f":"SUM(COUNTIF(WeekNights!$D$39:$AV$50,A160),COUNTIF('Weekend Training'!$D$41:$Y$52,A160))","v":1}]
["C440.01","Describe Model Rocketry",2,{"$f":"SUM(COUNTIF(WeekNights!$D$39:$AV$50,A161),COUNTIF('Weekend Training'!$D$41:$Y$52,A161))","v":0}]
["C440.02","Launch a Small Model Rocket",3,{"$f":"SUM(COUNTIF(WeekNights!$D$39:$AV$50,A162),COUNTIF('Weekend Training'!$D$41:$Y$52,A162))","v":0}]
["C440.03","Discuss Characteristics of the Planets in the Solar System",2,{"$f":"SUM(COUNTIF(WeekNights!$D$39:$AV$50,A163),COUNTIF('Weekend Training'!$D$41:$Y$52,A163))","v":0}]
["C440.04","Apply the Material Science of Trusses",3,{"$f":"SUM(COUNTIF(WeekNights!$D$39:$AV$50,A164),COUNTIF('Weekend Training'!$D$41:$Y$52,A164))","v":0}]
["C440.05","Describe Robotics",1,{"$f":"SUM(COUNTIF(WeekNights!$D$39:$AV$50,A165),COUNTIF('Weekend Training'!$D$41:$Y$52,A165))","v":0}]
["C440.06","Use Star Charts",2,{"$f":"SUM(COUNTIF(WeekNights!$D$39:$AV$50,A166),COUNTIF('Weekend Training'!$D$41:$Y$52,A166))","v":0}]
["C440.07","Operate a Telescope",2,{"$f":"SUM(COUNTIF(WeekNights!$D$39:$AV$50,A167),COUNTIF('Weekend Training'!$D$41:$Y$52,A167))","v":0}]
["C440.08","Watch BLAST! (Balloon-Borne Large Aperture Sub-Millimetre Telescope)",3,{"$f":"SUM(COUNTIF(WeekNights!$D$39:$AV$50,A168),COUNTIF('Weekend Training'!$D$41:$Y$52,A168))","v":0}]
["C440.09","Describe the Relationship Between Gravity and Space-Time",2,{"$f":"SUM(COUNTIF(WeekNights!$D$39:$AV$50,A169),COUNTIF('Weekend Training'!$D$41:$Y$52,A169))","v":0}]
["C440.10","Discuss Kinetic and Potential Energy",1,{"$f":"SUM(COUNTIF(WeekNights!$D$39:$AV$50,A170),COUNTIF('Weekend Training'!$D$41:$Y$52,A170))","v":0}]
["C440.11","Watch Einstein's Big Idea",5,{"$f":"SUM(COUNTIF(WeekNights!$D$39:$AV$50,A171),COUNTIF('Weekend Training'!$D$41:$Y$52,A171))","v":0}]
[]
[null,"PO 460 - Describe Aerodrome Operations Career Opportunities"]
["C460.01","Describe Aerodrome Operations Career Opportunities",1,{"$f":"SUM(COUNTIF(WeekNights!$D$39:$AV$50,A174),COUNTIF('Weekend Training'!$D$41:$Y$52,A174))","v":0}]
["C460.02","Describe Air Traffic Control (ATC) Career Opportunities",1,{"$f":"SUM(COUNTIF(WeekNights!$D$39:$AV$50,A175),COUNTIF('Weekend Training'!$D$41:$Y$52,A175))","v":0}]
["C460.03","Describe Airport Security Career Opportunities",1,{"$f":"SUM(COUNTIF(WeekNights!$D$39:$AV$50,A176),COUNTIF('Weekend Training'!$D$41:$Y$52,A176))","v":0}]
[]
[null,"PO 470 - Discuss Aspects of Aircraft Manufacturing and Maintenance"]
["C470.01","Discuss Aircraft Manufacturers",1,{"$f":"SUM(COUNTIF(WeekNights!$D$39:$AV$50,A179),COUNTIF('Weekend Training'!$D$41:$Y$52,A179))","v":0}]
["C470.02","Discuss Aircraft Assembly",1,{"$f":"SUM(COUNTIF(WeekNights!$D$39:$AV$50,A180),COUNTIF('Weekend Training'!$D$41:$Y$52,A180))","v":0}]
["C470.03","Identify Aviation Hardware",1,{"$f":"SUM(COUNTIF(WeekNights!$D$39:$AV$50,A181),COUNTIF('Weekend Training'!$D$41:$Y$52,A181))","v":0}]
["C470.04","Disassemble and Reassemble a Small Engine",3,{"$f":"SUM(COUNTIF(WeekNights!$D$39:$AV$50,A182),COUNTIF('Weekend Training'!$D$41:$Y$52,A182))","v":0}]
[]
[null,"P490 - Participate in an Aircrew Survival Exercise"]
["M490.01","Assemble an Emergency Survival Kit",1,{"$f":"SUM(COUNTIF(WeekNights!$D$39:$AV$50,A185),COUNTIF('Weekend Training'!$D$41:$Y$52,A185))","v":0}]
["M490.02","Operate a Stove and a Lantern",3,{"$f":"SUM(COUNTIF(WeekNights!$D$39:$AV$50,A186),COUNTIF('Weekend Training'!$D$41:$Y$52,A186))","v":3}]
["M490.03","Tie Knots and Lashings",2,{"$f":"SUM(COUNTIF(WeekNights!$D$39:$AV$50,A187),COUNTIF('Weekend Training'!$D$41:$Y$52,A187))","v":2}]
["M490.04","Navigate to a Waypoint Using a Global Positioning System (GPS) Receiver",4,{"$f":"SUM(COUNTIF(WeekNights!$D$39:$AV$50,A188),COUNTIF('Weekend Training'!$D$41:$Y$52,A188))","v":4}]
["M490.05","Light Fires Using Improvised Ignition",4,{"$f":"SUM(COUNTIF(WeekNights!$D$39:$AV$50,A189),COUNTIF('Weekend Training'!$D$41:$Y$52,A189))","v":4}]
["C490.01","Describe Climatic and Seasonal Concerns",1,{"$f":"SUM(COUNTIF(WeekNights!$D$39:$AV$50,A190),COUNTIF('Weekend Training'!$D$41:$Y$52,A190))","v":0}]
["C490.02","Improvise Tools for Use in a Survival Situation",2,{"$f":"SUM(COUNTIF(WeekNights!$D$39:$AV$50,A191),COUNTIF('Weekend Training'!$D$41:$Y$52,A191))","v":0}]
["C490.03","Move a Casualty to Shelter",3,{"$f":"SUM(COUNTIF(WeekNights!$D$39:$AV$50,A192),COUNTIF('Weekend Training'!$D$41:$Y$52,A192))","v":0}]
["C490.04","Practice Safe Toolcraft",3,{"$f":"SUM(COUNTIF(WeekNights!$D$39:$AV$50,A193),COUNTIF('Weekend Training'!$D$41:$Y$52,A193))","v":0}]
["C490.05","Navigate a Route Using a Map and Compass",4,{"$f":"SUM(COUNTIF(WeekNights!$D$39:$AV$50,A194),COUNTIF('Weekend Training'!$D$41:$Y$52,A194))","v":0}]
["C490.06","Erect, Tear Down and Pack Tents",4,{"$f":"SUM(COUNTIF(WeekNights!$D$39:$AV$50,A195),COUNTIF('Weekend Training'!$D$41:$Y$52,A195))","v":0}]
["C490.07","Construct a Hootchie or Lean-to-Style Shelter",3,{"$f":"SUM(COUNTIF(WeekNights!$D$39:$AV$50,A196),COUNTIF('Weekend Training'!$D$41:$Y$52,A196))","v":0}]

{"sheet":"EO Val. (Lvl 5)","index":24,"n_rows":61,"n_cols":4,"rows_kept":61,"hidden":true,"merged":[[0,0,0,3],[2,0,2,3],[7,0,7,3],[11,0,11,3],[19,0,19,3],[24,0,24,3],[30,0,30,3],[34,0,34,3],[37,0,37,3],[40,0,40,3],[43,0,43,3],[46,0,46,3],[50,0,50,3],[53,0,53,3]]}
["LEVEL5PROGRAM"]
["Serial","Description","# Classes","# Assigned"]
["PO 501 - Explain Global Citizenship"]
["C501.01","Reflect Upon What it Means to be a Good Canadian Citizen",3,{"$f":"SUM(COUNTIF(WeekNights!$D$51:$AV$62,A4),COUNTIF('Weekend Training'!$D$53:$Y$64,A4))","v":0}]
["C501.02","Reflect Upon Individual Global Citizenship",3,{"$f":"SUM(COUNTIF(WeekNights!$D$51:$AV$62,A5),COUNTIF('Weekend Training'!$D$53:$Y$64,A5))","v":0}]
["C501.03","Analyze a Global Issue",3,{"$f":"SUM(COUNTIF(WeekNights!$D$51:$AV$62,A6),COUNTIF('Weekend Training'!$D$53:$Y$64,A6))","v":0}]
[]
["PO 502 - Perform Community Service"]
["M502.01","Perform 45 Hours of Individual Community Service",3,{"$f":"SUM(COUNTIF(WeekNights!$D$51:$AV$62,A9),COUNTIF('Weekend Training'!$D$53:$Y$64,A9))","v":0}]
["M502.PC","Performance Check",0,{"$f":"SUM(COUNTIF(WeekNights!$D$51:$AV$62,A10),COUNTIF('Weekend Training'!$D$53:$Y$64,A10))","v":0}]
[]
["PO 503 - Lead Cadet Activities"]
["M503.01","Create a Proposal",1,{"$f":"SUM(COUNTIF(WeekNights!$D$51:$AV$62,A13),COUNTIF('Weekend Training'!$D$53:$Y$64,A13))","v":0}]
["M503.02","Prepare an Exercise",3,{"$f":"SUM(COUNTIF(WeekNights!$D$51:$AV$62,A14),COUNTIF('Weekend Training'!$D$53:$Y$64,A14))","v":0}]
["M503.03","Conduct an Exercise",1,{"$f":"SUM(COUNTIF(WeekNights!$D$51:$AV$62,A15),COUNTIF('Weekend Training'!$D$53:$Y$64,A15))","v":0}]
["M503.04","Conclude and Exercise",1,{"$f":"SUM(COUNTIF(WeekNights!$D$51:$AV$62,A16),COUNTIF('Weekend Training'!$D$53:$Y$64,A16))","v":0}]
["M503.PC","Performance Check",1,{"$f":"SUM(COUNTIF(WeekNights!$D$51:$AV$62,A17),COUNTIF('Weekend Training'!$D$53:$Y$64,A17))","v":0}]
["C503.01","Examine Meeting Procedures",3,{"$f":"SUM(COUNTIF(WeekNights!$D$51:$AV$62,A18),COUNTIF('Weekend Training'!$D$53:$Y$64,A18))","v":0}]
[]
["PO 504 - Adopt an Active Lifestyle"]
["M504.01","Participate in the Cadet Fitness Assessment and Identify Strategies for Improving Personal Physical Fitness",6,{"$f":"SUM(COUNTIF(WeekNights!$D$51:$AV$62,A21),COUNTIF('Weekend Training'!$D$53:$Y$64,A21))","v":0}]
["M504.PC","Performance Check",0,{"$f":"SUM(COUNTIF(WeekNights!$D$51:$AV$62,A22),COUNTIF('Weekend Training'!$D$53:$Y$64,A22))","v":0}]
["C504.01","Reflect Upon Personal Fitness and Healthy Living",3,{"$f":"SUM(COUNTIF(WeekNights!$D$51:$AV$62,A23),COUNTIF('Weekend Training'!$D$53:$Y$64,A23))","v":0}]
[]
["PO 507 - Serve in an Cadet Unit"]
["M507.01","Develop a Personalized Schedule",3,{"$f":"SUM(COUNTIF(WeekNights!$D$51:$AV$62,A26),COUNTIF('Weekend Training'!$D$53:$Y$64,A26))","v":0}]
["C507.01","Identify Service Opportunities for a Cadet Instructors Cadre (CIC) Officer",3,{"$f":"SUM(COUNTIF(WeekNights!$D$51:$AV$62,A27),COUNTIF('Weekend Training'!$D$53:$Y$64,A27))","v":0}]
["C507.02","Identify Volunteer Opportunities with the Army Cadet League of Canada (ACLC)",3,{"$f":"SUM(COUNTIF(WeekNights!$D$51:$AV$62,A28),COUNTIF('Weekend Training'!$D$53:$Y$64,A28))","v":0}]
["C507.03","Reflect Upon Cadet Experience",3,{"$f":"SUM(COUNTIF(WeekNights!$D$51:$AV$62,A29),COUNTIF('Weekend Training'!$D$53:$Y$64,A29))","v":0}]
[]
["PO 509 - Instruct Cadets"]
["M509.PC","Performance Check",0,{"$f":"SUM(COUNTIF(WeekNights!$D$51:$AV$62,A32),COUNTIF('Weekend Training'!$D$53:$Y$64,A32))","v":0}]
["C509.01","Monitor Instruction",3,{"$f":"SUM(COUNTIF(WeekNights!$D$51:$AV$62,A33),COUNTIF('Weekend Training'!$D$53:$Y$64,A33))","v":0}]
[]
["PO 513 - Attend Workshops"]
["M513.PC","Performance Check",0,{"$f":"SUM(COUNTIF(WeekNights!$D$51:$AV$62,A36),COUNTIF('Weekend Training'!$D$53:$Y$64,A36))","v":0}]
[]
["PO 514 - Pursue Individual Learning"]
["M514.PC","Performance Check",0,{"$f":"SUM(COUNTIF(WeekNights!$D$51:$AV$62,A39),COUNTIF('Weekend Training'!$D$53:$Y$64,A39))","v":0}]
[]
["PO 530 - Fly a Cross-Country Flight Using a Flight Simulator"]
["C530.01","Fly a Cross-Country Flight Using a Flight Simulator",3,{"$f":"SUM(COUNTIF(WeekNights!$D$51:$AV$62,A42),COUNTIF('Weekend Training'!$D$53:$Y$64,A42))","v":0}]
[]
["PO 540 - Reflect on Canada's Contribution to Aerospace Technology"]
["C540.01","Reflect on Canada's Contribution to Aerospace Technology",3,{"$f":"SUM(COUNTIF(WeekNights!$D$51:$AV$62,A45),COUNTIF('Weekend Training'!$D$53:$Y$64,A45))","v":0}]
[]
["PO 560 - Participate in an Aerodrome Operations Activity"]
["C560.01","Examine Aspects of Flight Safety (FS)",3,{"$f":"SUM(COUNTIF(WeekNights!$D$51:$AV$62,A48),COUNTIF('Weekend Training'!$D$53:$Y$64,A48))","v":0}]
["C560.02","Examine the Canadian Bush Pilot Industry",3,{"$f":"SUM(COUNTIF(WeekNights!$D$51:$AV$62,A49),COUNTIF('Weekend Training'!$D$53:$Y$64,A49))","v":0}]
[]
["PO 570 - Examine Aspects of Aircraft Manufacturing and Maintenance Through the Development of Aerobatic Aircraft"]
["C570.01","Examine Aspects of Aircraft Manufacturing and Maintenance Through the Development of Aerobatic Aircraft",3,{"$f":"SUM(COUNTIF(WeekNights!$D$51:$AV$62,A52),COUNTIF('Weekend Training'!$D$53:$Y$64,A52))","v":0}]
[]
["PO 590 - Analyze an Aircrew Survival Case Study"]
["C590.01","Analyze an Aircrew Survival Case Study",3,{"$f":"SUM(COUNTIF(WeekNights!$D$51:$AV$62,A55),COUNTIF('Weekend Training'!$D$53:$Y$64,A55))","v":0}]
[]
["NOTES:"]
[1,"Lessons assigned 0 formal periods are designated as either self-study or On the Job Training"]
[2,"All sixteen periods of mandatory training are to be conducted within a two year period"]
[3,"Nine periods of complimentary training are to be conducted within a two year period"]
[4,"Cadets must maintain a log book to track their training progression, to be regularly reviewed"]